BEGIN:VCALENDAR
VERSION:2.0
PRODID:-//Hamilton-Wentworth Elementary Teachers&#039; Local - ECPv6.15.20//NONSGML v1.0//EN
CALSCALE:GREGORIAN
METHOD:PUBLISH
X-ORIGINAL-URL:https://hwetl.ca
X-WR-CALDESC:Events for Hamilton-Wentworth Elementary Teachers&#039; Local
REFRESH-INTERVAL;VALUE=DURATION:PT1H
X-Robots-Tag:noindex
X-PUBLISHED-TTL:PT1H
BEGIN:VTIMEZONE
TZID:America/Toronto
BEGIN:DAYLIGHT
TZOFFSETFROM:-0500
TZOFFSETTO:-0400
TZNAME:EDT
DTSTART:20170312T070000
END:DAYLIGHT
BEGIN:STANDARD
TZOFFSETFROM:-0400
TZOFFSETTO:-0500
TZNAME:EST
DTSTART:20171105T060000
END:STANDARD
BEGIN:DAYLIGHT
TZOFFSETFROM:-0500
TZOFFSETTO:-0400
TZNAME:EDT
DTSTART:20180311T070000
END:DAYLIGHT
BEGIN:STANDARD
TZOFFSETFROM:-0400
TZOFFSETTO:-0500
TZNAME:EST
DTSTART:20181104T060000
END:STANDARD
BEGIN:DAYLIGHT
TZOFFSETFROM:-0500
TZOFFSETTO:-0400
TZNAME:EDT
DTSTART:20190310T070000
END:DAYLIGHT
BEGIN:STANDARD
TZOFFSETFROM:-0400
TZOFFSETTO:-0500
TZNAME:EST
DTSTART:20191103T060000
END:STANDARD
END:VTIMEZONE
BEGIN:VEVENT
DTSTART;TZID=America/Toronto:20180613T160000
DTEND;TZID=America/Toronto:20180613T170000
DTSTAMP:20260425T133327
CREATED:20171208T145156Z
LAST-MODIFIED:20171208T145156Z
UID:10000058-1528905600-1528909200@hwetl.ca
SUMMARY:Status of Women Committee
DESCRIPTION:
URL:https://hwetl.ca/event/status-of-women-committee-5/
LOCATION:ON
END:VEVENT
BEGIN:VEVENT
DTSTART;TZID=America/Toronto:20180613T160000
DTEND;TZID=America/Toronto:20180613T180000
DTSTAMP:20260425T133327
CREATED:20180529T211533Z
LAST-MODIFIED:20201013T154120Z
UID:10000067-1528905600-1528912800@hwetl.ca
SUMMARY:Awards Committee Meeting
DESCRIPTION:
URL:https://hwetl.ca/event/awards-committee-meeting/
LOCATION:ON
CATEGORIES:Meetings
END:VEVENT
END:VCALENDAR