BEGIN:VCALENDAR
VERSION:2.0
PRODID:-//Hamilton-Wentworth Elementary Teachers&#039; Local - ECPv6.15.20//NONSGML v1.0//EN
CALSCALE:GREGORIAN
METHOD:PUBLISH
X-ORIGINAL-URL:https://hwetl.ca
X-WR-CALDESC:Events for Hamilton-Wentworth Elementary Teachers&#039; Local
REFRESH-INTERVAL;VALUE=DURATION:PT1H
X-Robots-Tag:noindex
X-PUBLISHED-TTL:PT1H
BEGIN:VTIMEZONE
TZID:America/Toronto
BEGIN:DAYLIGHT
TZOFFSETFROM:-0500
TZOFFSETTO:-0400
TZNAME:EDT
DTSTART:20210314T070000
END:DAYLIGHT
BEGIN:STANDARD
TZOFFSETFROM:-0400
TZOFFSETTO:-0500
TZNAME:EST
DTSTART:20211107T060000
END:STANDARD
BEGIN:DAYLIGHT
TZOFFSETFROM:-0500
TZOFFSETTO:-0400
TZNAME:EDT
DTSTART:20220313T070000
END:DAYLIGHT
BEGIN:STANDARD
TZOFFSETFROM:-0400
TZOFFSETTO:-0500
TZNAME:EST
DTSTART:20221106T060000
END:STANDARD
BEGIN:DAYLIGHT
TZOFFSETFROM:-0500
TZOFFSETTO:-0400
TZNAME:EDT
DTSTART:20230312T070000
END:DAYLIGHT
BEGIN:STANDARD
TZOFFSETFROM:-0400
TZOFFSETTO:-0500
TZNAME:EST
DTSTART:20231105T060000
END:STANDARD
END:VTIMEZONE
BEGIN:VEVENT
DTSTART;TZID=America/Toronto:20220531T163000
DTEND;TZID=America/Toronto:20220531T173000
DTSTAMP:20260421T172954
CREATED:20220511T181915Z
LAST-MODIFIED:20220511T185727Z
UID:10000263-1654014600-1654018200@hwetl.ca
SUMMARY:Staffing Workshop
DESCRIPTION:CLICK HERE TO REGISTER
URL:https://hwetl.ca/event/staffing-workshop-2/
LOCATION:Via Zoom
END:VEVENT
BEGIN:VEVENT
DTSTART;TZID=America/Toronto:20220531T163000
DTEND;TZID=America/Toronto:20220531T173000
DTSTAMP:20260421T172954
CREATED:20220511T185412Z
LAST-MODIFIED:20220511T185604Z
UID:10000265-1654014600-1654018200@hwetl.ca
SUMMARY:Staffing Workshop
DESCRIPTION:CLICK HERE TO REGISTER
URL:https://hwetl.ca/event/staffing-workshop-3/
LOCATION:Via Zoom
END:VEVENT
BEGIN:VEVENT
DTSTART;TZID=America/Toronto:20220531T193000
DTEND;TZID=America/Toronto:20220531T203000
DTSTAMP:20260421T172954
CREATED:20220404T144416Z
LAST-MODIFIED:20220404T144417Z
UID:10000450-1654025400-1654029000@hwetl.ca
SUMMARY:Mindful Movement
DESCRIPTION:
URL:https://hwetl.ca/event/mindful-movement-3/
LOCATION:Via Zoom
END:VEVENT
END:VCALENDAR