BEGIN:VCALENDAR
VERSION:2.0
PRODID:-//Hamilton-Wentworth Elementary Teachers&#039; Local - ECPv6.15.13.1//NONSGML v1.0//EN
CALSCALE:GREGORIAN
METHOD:PUBLISH
X-ORIGINAL-URL:https://hwetl.ca
X-WR-CALDESC:Events for Hamilton-Wentworth Elementary Teachers&#039; Local
REFRESH-INTERVAL;VALUE=DURATION:PT1H
X-Robots-Tag:noindex
X-PUBLISHED-TTL:PT1H
BEGIN:VTIMEZONE
TZID:America/Toronto
BEGIN:DAYLIGHT
TZOFFSETFROM:-0500
TZOFFSETTO:-0400
TZNAME:EDT
DTSTART:20220313T070000
END:DAYLIGHT
BEGIN:STANDARD
TZOFFSETFROM:-0400
TZOFFSETTO:-0500
TZNAME:EST
DTSTART:20221106T060000
END:STANDARD
BEGIN:DAYLIGHT
TZOFFSETFROM:-0500
TZOFFSETTO:-0400
TZNAME:EDT
DTSTART:20230312T070000
END:DAYLIGHT
BEGIN:STANDARD
TZOFFSETFROM:-0400
TZOFFSETTO:-0500
TZNAME:EST
DTSTART:20231105T060000
END:STANDARD
BEGIN:DAYLIGHT
TZOFFSETFROM:-0500
TZOFFSETTO:-0400
TZNAME:EDT
DTSTART:20240310T070000
END:DAYLIGHT
BEGIN:STANDARD
TZOFFSETFROM:-0400
TZOFFSETTO:-0500
TZNAME:EST
DTSTART:20241103T060000
END:STANDARD
END:VTIMEZONE
BEGIN:VEVENT
DTSTART;TZID=America/Toronto:20230301T163000
DTEND;TZID=America/Toronto:20230301T180000
DTSTAMP:20260419T102259
CREATED:20220929T193506Z
LAST-MODIFIED:20220929T193508Z
UID:10000413-1677688200-1677693600@hwetl.ca
SUMMARY:Budget Committee Meeting
DESCRIPTION:
URL:https://hwetl.ca/event/budget-committee-meeting-9/
LOCATION:ON
END:VEVENT
BEGIN:VEVENT
DTSTART;TZID=America/Toronto:20230301T163000
DTEND;TZID=America/Toronto:20230301T180000
DTSTAMP:20260419T102259
CREATED:20230130T150139Z
LAST-MODIFIED:20230203T171600Z
UID:10000511-1677688200-1677693600@hwetl.ca
SUMMARY:Member Engagement Committee Meeting
DESCRIPTION:Email office@hwetl.ca to join!
URL:https://hwetl.ca/event/member-engagement-committee-meeting-11/
LOCATION:ON
END:VEVENT
END:VCALENDAR