BEGIN:VCALENDAR
VERSION:2.0
PRODID:-//Hamilton-Wentworth Elementary Teachers&#039; Local - ECPv6.15.13.1//NONSGML v1.0//EN
CALSCALE:GREGORIAN
METHOD:PUBLISH
X-WR-CALNAME:Hamilton-Wentworth Elementary Teachers&#039; Local
X-ORIGINAL-URL:https://hwetl.ca
X-WR-CALDESC:Events for Hamilton-Wentworth Elementary Teachers&#039; Local
REFRESH-INTERVAL;VALUE=DURATION:PT1H
X-Robots-Tag:noindex
X-PUBLISHED-TTL:PT1H
BEGIN:VTIMEZONE
TZID:America/Toronto
BEGIN:DAYLIGHT
TZOFFSETFROM:-0500
TZOFFSETTO:-0400
TZNAME:EDT
DTSTART:20240310T070000
END:DAYLIGHT
BEGIN:STANDARD
TZOFFSETFROM:-0400
TZOFFSETTO:-0500
TZNAME:EST
DTSTART:20241103T060000
END:STANDARD
BEGIN:DAYLIGHT
TZOFFSETFROM:-0500
TZOFFSETTO:-0400
TZNAME:EDT
DTSTART:20250309T070000
END:DAYLIGHT
BEGIN:STANDARD
TZOFFSETFROM:-0400
TZOFFSETTO:-0500
TZNAME:EST
DTSTART:20251102T060000
END:STANDARD
BEGIN:DAYLIGHT
TZOFFSETFROM:-0500
TZOFFSETTO:-0400
TZNAME:EDT
DTSTART:20260308T070000
END:DAYLIGHT
BEGIN:STANDARD
TZOFFSETFROM:-0400
TZOFFSETTO:-0500
TZNAME:EST
DTSTART:20261101T060000
END:STANDARD
END:VTIMEZONE
BEGIN:VEVENT
DTSTART;TZID=America/Toronto:20250127T163000
DTEND;TZID=America/Toronto:20250127T180000
DTSTAMP:20260421T060120
CREATED:20241205T164207Z
LAST-MODIFIED:20241205T164208Z
UID:10000751-1737995400-1738000800@hwetl.ca
SUMMARY:2SLGBTQ+ Committee Meeting
DESCRIPTION:
URL:https://hwetl.ca/event/2slgbtq-committee-meeting-8/
LOCATION:HWETL\, 105 Nebo Road\, Hamilton\, ON\, L8W 2E1
END:VEVENT
BEGIN:VEVENT
DTSTART;TZID=America/Toronto:20250127T163000
DTEND;TZID=America/Toronto:20250127T180000
DTSTAMP:20260421T060120
CREATED:20250123T154729Z
LAST-MODIFIED:20250123T154732Z
UID:10000778-1737995400-1738000800@hwetl.ca
SUMMARY:Constitution & Elections Committee Meeting
DESCRIPTION:
URL:https://hwetl.ca/event/constitution-elections-committee-meeting-10/
LOCATION:HWETL\, 105 Nebo Road\, Hamilton\, ON\, L8W 2E1
END:VEVENT
END:VCALENDAR