BEGIN:VCALENDAR
VERSION:2.0
PRODID:-//Hamilton-Wentworth Elementary Teachers&#039; Local - ECPv6.15.13.1//NONSGML v1.0//EN
CALSCALE:GREGORIAN
METHOD:PUBLISH
X-WR-CALNAME:Hamilton-Wentworth Elementary Teachers&#039; Local
X-ORIGINAL-URL:https://hwetl.ca
X-WR-CALDESC:Events for Hamilton-Wentworth Elementary Teachers&#039; Local
REFRESH-INTERVAL;VALUE=DURATION:PT1H
X-Robots-Tag:noindex
X-PUBLISHED-TTL:PT1H
BEGIN:VTIMEZONE
TZID:America/Toronto
BEGIN:DAYLIGHT
TZOFFSETFROM:-0500
TZOFFSETTO:-0400
TZNAME:EDT
DTSTART:20200308T070000
END:DAYLIGHT
BEGIN:STANDARD
TZOFFSETFROM:-0400
TZOFFSETTO:-0500
TZNAME:EST
DTSTART:20201101T060000
END:STANDARD
BEGIN:DAYLIGHT
TZOFFSETFROM:-0500
TZOFFSETTO:-0400
TZNAME:EDT
DTSTART:20210314T070000
END:DAYLIGHT
BEGIN:STANDARD
TZOFFSETFROM:-0400
TZOFFSETTO:-0500
TZNAME:EST
DTSTART:20211107T060000
END:STANDARD
BEGIN:DAYLIGHT
TZOFFSETFROM:-0500
TZOFFSETTO:-0400
TZNAME:EDT
DTSTART:20220313T070000
END:DAYLIGHT
BEGIN:STANDARD
TZOFFSETFROM:-0400
TZOFFSETTO:-0500
TZNAME:EST
DTSTART:20221106T060000
END:STANDARD
BEGIN:DAYLIGHT
TZOFFSETFROM:-0500
TZOFFSETTO:-0400
TZNAME:EDT
DTSTART:20230312T070000
END:DAYLIGHT
BEGIN:STANDARD
TZOFFSETFROM:-0400
TZOFFSETTO:-0500
TZNAME:EST
DTSTART:20231105T060000
END:STANDARD
END:VTIMEZONE
BEGIN:VEVENT
DTSTART;TZID=America/Toronto:20220208T163000
DTEND;TZID=America/Toronto:20220208T193000
DTSTAMP:20260420T025314
CREATED:20210623T154118Z
LAST-MODIFIED:20220111T212907Z
UID:10000411-1644337800-1644348600@hwetl.ca
SUMMARY:Winter General Meeting
DESCRIPTION:CLICK HERE to Register
URL:https://hwetl.ca/event/winter-general-meeting-3/
LOCATION:Via Zoom
END:VEVENT
BEGIN:VEVENT
DTSTART;TZID=America/Toronto:20220202T163000
DTEND;TZID=America/Toronto:20220202T180000
DTSTAMP:20260420T025314
CREATED:20220426T191348Z
LAST-MODIFIED:20220426T191349Z
UID:10000261-1643819400-1643824800@hwetl.ca
SUMMARY:HDLC Committee Meeting
DESCRIPTION:
URL:https://hwetl.ca/event/hdlc-committee-meeting-2/
LOCATION:Via Zoom
END:VEVENT
BEGIN:VEVENT
DTSTART;TZID=America/Toronto:20220201T193000
DTEND;TZID=America/Toronto:20220201T203000
DTSTAMP:20260420T025314
CREATED:20220114T195202Z
LAST-MODIFIED:20220114T195203Z
UID:10000437-1643743800-1643747400@hwetl.ca
SUMMARY:THE DISABILITY ISSUES COMMITTEE PRESENTS: 4 NIGHTS OF MINDFUL MOVEMENT
DESCRIPTION:CLICK HERE to Register \n\n\n\nAn inclusive hybrid of yoga\, pilates and somatics\, in Collaborationwith Robin Lacambra from Good Body Feel Pilates studio
URL:https://hwetl.ca/event/the-disability-issues-committee-presents-4-nights-of-mindful-movement-2/
LOCATION:Via Zoom
END:VEVENT
BEGIN:VEVENT
DTSTART;TZID=America/Toronto:20220201T163000
DTEND;TZID=America/Toronto:20220201T183000
DTSTAMP:20260420T025314
CREATED:20210914T161341Z
LAST-MODIFIED:20220119T191448Z
UID:10000419-1643733000-1643740200@hwetl.ca
SUMMARY:Pregnancy and Parental Leave Workshop
DESCRIPTION:CLICK ON THE ABOVE POSTER TO REGISTER
URL:https://hwetl.ca/event/pregnancy-and-parental-leave-workshop-9/
LOCATION:Via Zoom
END:VEVENT
BEGIN:VEVENT
DTSTART;TZID=America/Toronto:20220125T193000
DTEND;TZID=America/Toronto:20220125T203000
DTSTAMP:20260420T025314
CREATED:20220114T195023Z
LAST-MODIFIED:20220114T195348Z
UID:10000252-1643139000-1643142600@hwetl.ca
SUMMARY:THE DISABILITY ISSUES COMMITTEE PRESENTS: 4 NIGHTS OF MINDFUL MOVEMENT
DESCRIPTION:CLICK HERE to Register \n\n\n\nAn inclusive hybrid of yoga\, pilates and somatics\, in Collaborationwith Robin Lacambra from Good Body Feel Pilates studio
URL:https://hwetl.ca/event/the-disability-issues-committee-presents-4-nights-of-mindful-movement/
LOCATION:Via Zoom
END:VEVENT
BEGIN:VEVENT
DTSTART;TZID=America/Toronto:20220125T163000
DTEND;TZID=America/Toronto:20220125T193000
DTSTAMP:20260420T025314
CREATED:20210623T152241Z
LAST-MODIFIED:20210914T134229Z
UID:10000212-1643128200-1643139000@hwetl.ca
SUMMARY:Executive Meeting
DESCRIPTION:
URL:https://hwetl.ca/event/executive-meeting-46/2022-01-25/
LOCATION:Via Zoom
END:VEVENT
BEGIN:VEVENT
DTSTART;TZID=America/Toronto:20220121T163000
DTEND;TZID=America/Toronto:20220121T183000
DTSTAMP:20260420T025314
CREATED:20211109T173529Z
LAST-MODIFIED:20220114T191702Z
UID:10000242-1642782600-1642789800@hwetl.ca
SUMMARY:CANCELLED - Racialized Members' Roundtable
DESCRIPTION:We will reach out when a new date has been set.
URL:https://hwetl.ca/event/racialized-members-roundtable-2/
LOCATION:ON
END:VEVENT
BEGIN:VEVENT
DTSTART;TZID=America/Toronto:20220118T193000
DTEND;TZID=America/Toronto:20220118T203000
DTSTAMP:20260420T025314
CREATED:20220114T194745Z
LAST-MODIFIED:20220114T195410Z
UID:10000250-1642534200-1642537800@hwetl.ca
SUMMARY:THE DISABILITY ISSUES COMMITTEE PRESENTS:4 NIGHTS OF MINDFUL MOVEMENT
DESCRIPTION:CLICK HERE to Register \n\n\n\n \n\n\n\nAn inclusive hybrid of yoga\, pilates and somatics\, in Collaborationwith Robin Lacambra from Good Body Feel Pilates studio
URL:https://hwetl.ca/event/the-disability-issues-committee-presents4-nights-of-mindful-movement/
LOCATION:Via Zoom
END:VEVENT
BEGIN:VEVENT
DTSTART;TZID=America/Toronto:20220111T163000
DTEND;TZID=America/Toronto:20220111T170000
DTSTAMP:20260420T025314
CREATED:20210623T153339Z
LAST-MODIFIED:20210914T141328Z
UID:10000225-1641918600-1641920400@hwetl.ca
SUMMARY:Workplace Steward Meeting
DESCRIPTION:
URL:https://hwetl.ca/event/workplace-steward-meeting-7-2022-01-04/
LOCATION:Via Zoom
END:VEVENT
BEGIN:VEVENT
DTSTART;TZID=America/Toronto:20211228T163000
DTEND;TZID=America/Toronto:20211228T193000
DTSTAMP:20260420T025314
CREATED:20210623T152241Z
LAST-MODIFIED:20210914T134229Z
UID:10000211-1640709000-1640719800@hwetl.ca
SUMMARY:Executive Meeting
DESCRIPTION:
URL:https://hwetl.ca/event/executive-meeting-46/2021-12-28/
LOCATION:Via Zoom
END:VEVENT
BEGIN:VEVENT
DTSTART;TZID=America/Toronto:20211214T123000
DTEND;TZID=America/Toronto:20211214T163000
DTSTAMP:20260420T025314
CREATED:20210623T152241Z
LAST-MODIFIED:20211214T134440Z
UID:10000219-1639485000-1639499400@hwetl.ca
SUMMARY:Executive Meeting
DESCRIPTION:
URL:https://hwetl.ca/event/executive-meeting-46-2021-12-28/
LOCATION:ON
END:VEVENT
BEGIN:VEVENT
DTSTART;TZID=America/Toronto:20211213T163000
DTEND;TZID=America/Toronto:20211213T183000
DTSTAMP:20260420T025314
CREATED:20211122T161642Z
LAST-MODIFIED:20211122T161734Z
UID:10000246-1639413000-1639420200@hwetl.ca
SUMMARY:Health & Safety Committee Meeting
DESCRIPTION:Email Carleigh at office@hwetl.ca to join
URL:https://hwetl.ca/event/health-safety-committee-meeting-3/
LOCATION:viz zoo
END:VEVENT
BEGIN:VEVENT
DTSTART;TZID=America/Toronto:20211209T163000
DTEND;TZID=America/Toronto:20211209T183000
DTSTAMP:20260420T025315
CREATED:20211124T134727Z
LAST-MODIFIED:20211124T134730Z
UID:10000248-1639067400-1639074600@hwetl.ca
SUMMARY:Disability Committee Meeting
DESCRIPTION:
URL:https://hwetl.ca/event/disability-committee-meeting/
LOCATION:ON
END:VEVENT
BEGIN:VEVENT
DTSTART;TZID=America/Toronto:20211207T163000
DTEND;TZID=America/Toronto:20211207T170000
DTSTAMP:20260420T025315
CREATED:20210623T153339Z
LAST-MODIFIED:20210914T134508Z
UID:10000224-1638894600-1638896400@hwetl.ca
SUMMARY:Workplace Steward Meeting
DESCRIPTION:Voluntary Drop-In
URL:https://hwetl.ca/event/workplace-steward-meeting-7-2021-12-07/
LOCATION:Via Zoom
END:VEVENT
BEGIN:VEVENT
DTSTART;TZID=America/Toronto:20211206T163000
DTEND;TZID=America/Toronto:20211206T183000
DTSTAMP:20260420T025315
CREATED:20211109T172502Z
LAST-MODIFIED:20211109T172505Z
UID:10000238-1638808200-1638815400@hwetl.ca
SUMMARY:Retirement Workshop
DESCRIPTION:CLICK ON THE BELOW POSTER TO REGISTER
URL:https://hwetl.ca/event/retirement-workshop-5/
LOCATION:ON
END:VEVENT
BEGIN:VEVENT
DTSTART;TZID=America/Toronto:20211130T163000
DTEND;TZID=America/Toronto:20211130T180000
DTSTAMP:20260420T025315
CREATED:20211029T141601Z
LAST-MODIFIED:20211029T141605Z
UID:10000426-1638289800-1638295200@hwetl.ca
SUMMARY:Surviving the TPA Workshop
DESCRIPTION:Click on the below poster to register
URL:https://hwetl.ca/event/surviving-the-tpa-workshop/
LOCATION:Via Zoom
END:VEVENT
BEGIN:VEVENT
DTSTART;TZID=America/Toronto:20211124T163000
DTEND;TZID=America/Toronto:20211124T183000
DTSTAMP:20260420T025315
CREATED:20211105T190528Z
LAST-MODIFIED:20211105T190531Z
UID:10000236-1637771400-1637778600@hwetl.ca
SUMMARY:2SLGBTQ+ Education Timeline Workshop
DESCRIPTION:CLICK ON THE ABOVE IMAGE TO REGISTER!
URL:https://hwetl.ca/event/2slgbtq-education-timeline-workshop/
LOCATION:ON
END:VEVENT
BEGIN:VEVENT
DTSTART;TZID=America/Toronto:20211123T163000
DTEND;TZID=America/Toronto:20211123T193000
DTSTAMP:20260420T025315
CREATED:20210623T152241Z
LAST-MODIFIED:20210914T134229Z
UID:10000210-1637685000-1637695800@hwetl.ca
SUMMARY:Executive Meeting
DESCRIPTION:
URL:https://hwetl.ca/event/executive-meeting-46/2021-11-23/
LOCATION:Via Zoom
END:VEVENT
BEGIN:VEVENT
DTSTART;TZID=America/Toronto:20211118T163000
DTEND;TZID=America/Toronto:20211118T173000
DTSTAMP:20260420T025315
CREATED:20211109T172624Z
LAST-MODIFIED:20211109T172625Z
UID:10000240-1637253000-1637256600@hwetl.ca
SUMMARY:Disability Issues Committee Meeting
DESCRIPTION:Email Carleigh at office@hwetl.ca to register to attend
URL:https://hwetl.ca/event/disability-issues-committee-meeting-4/
LOCATION:ON
END:VEVENT
BEGIN:VEVENT
DTSTART;TZID=America/Toronto:20211117T161500
DTEND;TZID=America/Toronto:20211117T183000
DTSTAMP:20260420T025315
CREATED:20211014T191835Z
LAST-MODIFIED:20211014T191838Z
UID:10000424-1637165700-1637173800@hwetl.ca
SUMMARY:Budget Committee
DESCRIPTION:Contact Carleigh @ office@hwetl.ca to register
URL:https://hwetl.ca/event/budget-committee-2/
LOCATION:ON
END:VEVENT
BEGIN:VEVENT
DTSTART;TZID=America/Toronto:20211109T163000
DTEND;TZID=America/Toronto:20211109T193000
DTSTAMP:20260420T025315
CREATED:20210623T154030Z
LAST-MODIFIED:20210914T203219Z
UID:10000410-1636475400-1636486200@hwetl.ca
SUMMARY:Fall General Meeting
DESCRIPTION:CLICK ON THE ABOVE POSTER TO REGISTER
URL:https://hwetl.ca/event/fall-general-meeting-2/
LOCATION:Via Zoom
END:VEVENT
BEGIN:VEVENT
DTSTART;TZID=America/Toronto:20211101T163000
DTEND;TZID=America/Toronto:20211101T183000
DTSTAMP:20260420T025315
CREATED:20211025T135552Z
LAST-MODIFIED:20211025T135556Z
UID:10000425-1635784200-1635791400@hwetl.ca
SUMMARY:Health & Safety Committee Meeting
DESCRIPTION:Email office@hwetl.ca to register
URL:https://hwetl.ca/event/health-safety-committee-meeting-2/
LOCATION:Via Zoom
END:VEVENT
BEGIN:VEVENT
DTSTART;TZID=America/Toronto:20211026T163000
DTEND;TZID=America/Toronto:20211026T193000
DTSTAMP:20260420T025315
CREATED:20210623T152241Z
LAST-MODIFIED:20210914T134229Z
UID:10000209-1635265800-1635276600@hwetl.ca
SUMMARY:Executive Meeting
DESCRIPTION:
URL:https://hwetl.ca/event/executive-meeting-46/2021-10-26/
LOCATION:Via Zoom
END:VEVENT
BEGIN:VEVENT
DTSTART;TZID=America/Toronto:20211025T163000
DTEND;TZID=America/Toronto:20211025T183000
DTSTAMP:20260420T025315
CREATED:20211014T153844Z
LAST-MODIFIED:20211014T153846Z
UID:10000423-1635179400-1635186600@hwetl.ca
SUMMARY:Member Engagement Committee Meeting
DESCRIPTION:Please email Carleigh @ office@hwetl.ca to register
URL:https://hwetl.ca/event/member-engagement-committee-meeting-7/
LOCATION:ON
END:VEVENT
BEGIN:VEVENT
DTSTART;TZID=America/Toronto:20211021T163000
DTEND;TZID=America/Toronto:20211021T183000
DTSTAMP:20260420T025315
CREATED:20211014T153437Z
LAST-MODIFIED:20211014T153441Z
UID:10000418-1634833800-1634841000@hwetl.ca
SUMMARY:Awards Committee Meeting
DESCRIPTION:Please email Carleigh @ office@hwetl.ca to register
URL:https://hwetl.ca/event/awards-committee-meeting-5/
LOCATION:ON
END:VEVENT
BEGIN:VEVENT
DTSTART;TZID=America/Toronto:20211019T163000
DTEND;TZID=America/Toronto:20211019T183000
DTSTAMP:20260420T025315
CREATED:20211014T153745Z
LAST-MODIFIED:20211014T153749Z
UID:10000414-1634661000-1634668200@hwetl.ca
SUMMARY:2SLGBTQ+ Committee Meeting
DESCRIPTION:Please email Carleigh @ office@hwetl.ca to register
URL:https://hwetl.ca/event/2slgbtq-committee-meeting/
LOCATION:ON
END:VEVENT
BEGIN:VEVENT
DTSTART;TZID=America/Toronto:20211019T163000
DTEND;TZID=America/Toronto:20211019T183000
DTSTAMP:20260420T025315
CREATED:20210914T160403Z
LAST-MODIFIED:20210914T160529Z
UID:10000417-1634661000-1634668200@hwetl.ca
SUMMARY:Pregnancy and Parental Leave Workshop
DESCRIPTION:Click on the poster above to Register
URL:https://hwetl.ca/event/pregnancy-and-parental-leave-workshop-8/
LOCATION:Via Zoom
END:VEVENT
BEGIN:VEVENT
DTSTART;TZID=America/Toronto:20211018T163000
DTEND;TZID=America/Toronto:20211018T183000
DTSTAMP:20260420T025315
CREATED:20211014T153557Z
LAST-MODIFIED:20211014T153601Z
UID:10000416-1634574600-1634581800@hwetl.ca
SUMMARY:Goodwill Committee Meeting
DESCRIPTION:Please email Carleigh @ office@hwetl.ca to register
URL:https://hwetl.ca/event/goodwill-committee-meeting-2/
LOCATION:ON
END:VEVENT
BEGIN:VEVENT
DTSTART;TZID=America/Toronto:20211018T163000
DTEND;TZID=America/Toronto:20211018T183000
DTSTAMP:20260420T025315
CREATED:20211013T205036Z
LAST-MODIFIED:20211013T205039Z
UID:10000420-1634574600-1634581800@hwetl.ca
SUMMARY:PEEP Committee Meeting
DESCRIPTION:Committee Meeting at 4:30PM on Zoom.  Email Chairperson Sara Rogers if you want to attend at saradal77@hotmail.com  \n\n\n\nMeeting Agenda and Minutes
URL:https://hwetl.ca/event/peep-committee-meeting/
LOCATION:ON
END:VEVENT
BEGIN:VEVENT
DTSTART;TZID=America/Toronto:20211013T160000
DTEND;TZID=America/Toronto:20211013T180000
DTSTAMP:20260420T025315
CREATED:20210923T140910Z
LAST-MODIFIED:20210923T140913Z
UID:10000422-1634140800-1634148000@hwetl.ca
SUMMARY:Budget Committee Meeting
DESCRIPTION:
URL:https://hwetl.ca/event/budget-committee-meeting-2/
LOCATION:ON
END:VEVENT
END:VCALENDAR