BEGIN:VCALENDAR
VERSION:2.0
PRODID:-//Hamilton-Wentworth Elementary Teachers&#039; Local - ECPv6.15.13.1//NONSGML v1.0//EN
CALSCALE:GREGORIAN
METHOD:PUBLISH
X-WR-CALNAME:Hamilton-Wentworth Elementary Teachers&#039; Local
X-ORIGINAL-URL:https://hwetl.ca
X-WR-CALDESC:Events for Hamilton-Wentworth Elementary Teachers&#039; Local
REFRESH-INTERVAL;VALUE=DURATION:PT1H
X-Robots-Tag:noindex
X-PUBLISHED-TTL:PT1H
BEGIN:VTIMEZONE
TZID:America/Toronto
BEGIN:DAYLIGHT
TZOFFSETFROM:-0500
TZOFFSETTO:-0400
TZNAME:EDT
DTSTART:20180311T070000
END:DAYLIGHT
BEGIN:STANDARD
TZOFFSETFROM:-0400
TZOFFSETTO:-0500
TZNAME:EST
DTSTART:20181104T060000
END:STANDARD
BEGIN:DAYLIGHT
TZOFFSETFROM:-0500
TZOFFSETTO:-0400
TZNAME:EDT
DTSTART:20190310T070000
END:DAYLIGHT
BEGIN:STANDARD
TZOFFSETFROM:-0400
TZOFFSETTO:-0500
TZNAME:EST
DTSTART:20191103T060000
END:STANDARD
BEGIN:DAYLIGHT
TZOFFSETFROM:-0500
TZOFFSETTO:-0400
TZNAME:EDT
DTSTART:20200308T070000
END:DAYLIGHT
BEGIN:STANDARD
TZOFFSETFROM:-0400
TZOFFSETTO:-0500
TZNAME:EST
DTSTART:20201101T060000
END:STANDARD
BEGIN:DAYLIGHT
TZOFFSETFROM:-0500
TZOFFSETTO:-0400
TZNAME:EDT
DTSTART:20210314T070000
END:DAYLIGHT
BEGIN:STANDARD
TZOFFSETFROM:-0400
TZOFFSETTO:-0500
TZNAME:EST
DTSTART:20211107T060000
END:STANDARD
END:VTIMEZONE
BEGIN:VEVENT
DTSTART;TZID=America/Toronto:20200407T163000
DTEND;TZID=America/Toronto:20200407T183000
DTSTAMP:20260420T123942
CREATED:20191107T172352Z
LAST-MODIFIED:20201013T154116Z
UID:10000358-1586277000-1586284200@hwetl.ca
SUMMARY:Workplace Stewards Meeting
DESCRIPTION:
URL:https://hwetl.ca/event/workplace-stewards-meeting-8/
LOCATION:ON
CATEGORIES:Meetings
END:VEVENT
BEGIN:VEVENT
DTSTART;TZID=America/Toronto:20200331T163000
DTEND;TZID=America/Toronto:20200331T190000
DTSTAMP:20260420T123942
CREATED:20191107T172105Z
LAST-MODIFIED:20201013T154117Z
UID:10000361-1585672200-1585681200@hwetl.ca
SUMMARY:Executive Meeting
DESCRIPTION:
URL:https://hwetl.ca/event/executive-meeting-36/
LOCATION:ON
CATEGORIES:Meetings
END:VEVENT
BEGIN:VEVENT
DTSTART;TZID=America/Toronto:20200326T163000
DTEND;TZID=America/Toronto:20200326T183000
DTSTAMP:20260420T123942
CREATED:20181209T145138Z
LAST-MODIFIED:20200125T153510Z
UID:10000110-1585240200-1585247400@hwetl.ca
SUMMARY:Why Poverty ETFO Workshop
DESCRIPTION:WHY POVERTY? MARCH 26th\, 2020 \nClick HERE to register.   \nThis workshop will explore attitudes towards and perceptions of poverty in a broader context. It will examine the impact of poverty in the classroom and school community\, look at the many ways issues related to poverty can inform and impact teaching practice and explore the concept of becoming active in addressing poverty in the community. The workshop will include individual and group-shared discussions about issues of poverty\, case studies related to the impact of poverty in classrooms and school communities\, and provide resources to support teaching practice as well as school and community understanding.   \nHWETL details: This workshop will run from 4:30 to 6:00 pm; Light dinner will be available by 4:00 pm. Please let us know if you have allergies or dietary restrictions. To register\, click HERE\, or call the HWETL office at (905) 318-2771 or email Cindy Gangaram directly. For more information\, contact Cindy Gangaram at cindygangaram@gmail.com
URL:https://hwetl.ca/event/etfo-why-poverty-workshop/
LOCATION:ON
END:VEVENT
BEGIN:VEVENT
DTSTART;TZID=America/Toronto:20200325T080000
DTEND;TZID=America/Toronto:20200325T170000
DTSTAMP:20260420T123942
CREATED:20200204T223417Z
LAST-MODIFIED:20200204T223626Z
UID:10000384-1585123200-1585155600@hwetl.ca
SUMMARY:Author Talk with Alicia Elliott @WAHC
DESCRIPTION:
URL:https://hwetl.ca/event/author-talk-with-alicia-elliott-wahc/
LOCATION:ON
END:VEVENT
BEGIN:VEVENT
DTSTART;TZID=America/Toronto:20200324T163000
DTEND;TZID=America/Toronto:20200324T180000
DTSTAMP:20260420T123942
CREATED:20191128T195204Z
LAST-MODIFIED:20201013T154116Z
UID:10000374-1585067400-1585072800@hwetl.ca
SUMMARY:Ad Hoc Teacher Librarian Meeting
DESCRIPTION:
URL:https://hwetl.ca/event/ad-hoc-teacher-librarian-meeting-3/
LOCATION:ON
CATEGORIES:Meetings
END:VEVENT
BEGIN:VEVENT
DTSTART;VALUE=DATE:20200316
DTEND;VALUE=DATE:20200321
DTSTAMP:20260420T123942
CREATED:20191107T171958Z
LAST-MODIFIED:20191107T171958Z
UID:10000363-1584316800-1584748799@hwetl.ca
SUMMARY:March Break
DESCRIPTION:
URL:https://hwetl.ca/event/march-break-3/
LOCATION:ON
END:VEVENT
BEGIN:VEVENT
DTSTART;TZID=America/Toronto:20200311T163000
DTEND;TZID=America/Toronto:20200311T183000
DTSTAMP:20260420T123942
CREATED:20191211T203336Z
LAST-MODIFIED:20200306T025310Z
UID:10000380-1583944200-1583951400@hwetl.ca
SUMMARY:Drawing the Line Workshop
DESCRIPTION:Drawing the line flyer
URL:https://hwetl.ca/event/drawing-the-line-workshop/
LOCATION:ON
CATEGORIES:Workshops & PD
END:VEVENT
BEGIN:VEVENT
DTSTART;VALUE=DATE:20200306
DTEND;VALUE=DATE:20200307
DTSTAMP:20260420T123942
CREATED:20191107T172255Z
LAST-MODIFIED:20191107T172255Z
UID:10000359-1583452800-1583539199@hwetl.ca
SUMMARY:HWDSB PD DAY
DESCRIPTION:
URL:https://hwetl.ca/event/hwdsb-pd-day-4/
LOCATION:ON
END:VEVENT
BEGIN:VEVENT
DTSTART;TZID=America/Toronto:20200305T163000
DTEND;TZID=America/Toronto:20200305T183000
DTSTAMP:20260420T123942
CREATED:20191107T172231Z
LAST-MODIFIED:20191107T172231Z
UID:10000360-1583425800-1583433000@hwetl.ca
SUMMARY:Retirement Workshop
DESCRIPTION:retirement flyer March 2020
URL:https://hwetl.ca/event/retirement-workshop-4/
LOCATION:ON
CATEGORIES:Workshops & PD
END:VEVENT
BEGIN:VEVENT
DTSTART;TZID=America/Toronto:20200303T163000
DTEND;TZID=America/Toronto:20200303T183000
DTSTAMP:20260420T123942
CREATED:20191107T172031Z
LAST-MODIFIED:20201013T154117Z
UID:10000362-1583253000-1583260200@hwetl.ca
SUMMARY:Workplace Stewards Meeting
DESCRIPTION:
URL:https://hwetl.ca/event/workplace-stewards-meeting-7/
LOCATION:ON
CATEGORIES:Meetings
END:VEVENT
BEGIN:VEVENT
DTSTART;TZID=America/Toronto:20200302T163000
DTEND;TZID=America/Toronto:20200302T180000
DTSTAMP:20260420T123942
CREATED:20200125T154954Z
LAST-MODIFIED:20201013T154116Z
UID:10000382-1583166600-1583172000@hwetl.ca
SUMMARY:Equity\, Environment\, Peace/ Political Action Committee Meeting
DESCRIPTION:Food at 4 PM\nMeeting 430 – 6 PM\nRSVP to cindygangaram@gmail.com
URL:https://hwetl.ca/event/equity-environment-peace-political-action-committee-meeting-3/
LOCATION:ON
CATEGORIES:Meetings
END:VEVENT
BEGIN:VEVENT
DTSTART;TZID=America/Toronto:20200226T163000
DTEND;TZID=America/Toronto:20200226T183000
DTSTAMP:20260420T123942
CREATED:20200222T131912Z
LAST-MODIFIED:20200223T012923Z
UID:10000383-1582734600-1582741800@hwetl.ca
SUMMARY:LGBTQ+ awareness in Primary Classrooms
DESCRIPTION:REGISTER HERE  \nThis workshop raises awareness that even our youngest students may confront issues of homophobia and heterosexism in relation to their families and peers as well as to their own gender identities. The workshop is designed to assist educators to explore these issues and find the courage and understanding to include all children and families in our schools and the global community. \nHWETL details: This workshop will run from 4:30 to 6:00 pm; Light dinner will be available by 4:00 pm. Please let us know if you have allergies or dietary restrictions. To register\, click HERE\, or call the HWETL office at (905) 318-2771 or email office@hwetl.ca
URL:https://hwetl.ca/event/lgbtq-in-primary/
LOCATION:ON
CATEGORIES:Workshops & PD
END:VEVENT
BEGIN:VEVENT
DTSTART;TZID=America/Toronto:20200219T163000
DTEND;TZID=America/Toronto:20200219T180000
DTSTAMP:20260420T123942
CREATED:20191128T195127Z
LAST-MODIFIED:20201013T154116Z
UID:10000373-1582129800-1582135200@hwetl.ca
SUMMARY:Ad Hoc Teacher Librarian Meeting
DESCRIPTION:
URL:https://hwetl.ca/event/ad-hoc-teacher-librarian-meeting-2/
LOCATION:ON
CATEGORIES:Meetings
END:VEVENT
BEGIN:VEVENT
DTSTART;TZID=America/Toronto:20200218T163000
DTEND;TZID=America/Toronto:20200218T183000
DTSTAMP:20260420T123942
CREATED:20200106T185909Z
LAST-MODIFIED:20200206T194130Z
UID:10000178-1582043400-1582050600@hwetl.ca
SUMMARY:Indigenous Community Engagement Workshop
DESCRIPTION:REGISTER HERE  \nThis workshop invites members through dialogue and activities to gain a broader understanding of Indigenous Peoples and in using approaches to consider when engaging with\, or inviting\, Indigenous families and communities into the school environment.  \nHWETL details: This workshop will run from 4:30 to 6:00 pm; Light dinner will be available by 4:00 pm. Please let us know if you have allergies or dietary restrictions. To register\, click HERE\, or call the HWETL office at (905) 318-2771 or email Cindy Gangaram directly. For more information\, contact Cindy Gangaram at cindygangaram@gmail.com
URL:https://hwetl.ca/event/indigenous-community-engagement/
LOCATION:ON
CATEGORIES:Workshops & PD
ORGANIZER;CN="Cindy Gangaram":MAILTO:cindygangaram@gmail.com
END:VEVENT
BEGIN:VEVENT
DTSTART;VALUE=DATE:20200217
DTEND;VALUE=DATE:20200218
DTSTAMP:20260420T123942
CREATED:20190827T155707Z
LAST-MODIFIED:20190827T155707Z
UID:10000127-1581897600-1581983999@hwetl.ca
SUMMARY:Family Day
DESCRIPTION:
URL:https://hwetl.ca/event/family-day-3/
LOCATION:ON
END:VEVENT
BEGIN:VEVENT
DTSTART;TZID=America/Toronto:20200212T163000
DTEND;TZID=America/Toronto:20200212T183000
DTSTAMP:20260420T123942
CREATED:20200106T190515Z
LAST-MODIFIED:20201013T154116Z
UID:10000182-1581525000-1581532200@hwetl.ca
SUMMARY:SOW Committee Meeting
DESCRIPTION:
URL:https://hwetl.ca/event/sow-committee-meeting-2/
LOCATION:ON
CATEGORIES:Meetings
END:VEVENT
BEGIN:VEVENT
DTSTART;TZID=America/Toronto:20200204T163000
DTEND;TZID=America/Toronto:20200204T190000
DTSTAMP:20260420T123942
CREATED:20191107T171818Z
LAST-MODIFIED:20201013T154117Z
UID:10000364-1580833800-1580842800@hwetl.ca
SUMMARY:Winter General Meeting @ Liuna
DESCRIPTION:Liuna Station
URL:https://hwetl.ca/event/winter-general-meeting-liuna/
LOCATION:ON
CATEGORIES:Meetings
END:VEVENT
BEGIN:VEVENT
DTSTART;TZID=America/Toronto:20200128T163000
DTEND;TZID=America/Toronto:20200128T183000
DTSTAMP:20260420T123942
CREATED:20191107T171646Z
LAST-MODIFIED:20201013T154117Z
UID:10000365-1580229000-1580236200@hwetl.ca
SUMMARY:Executive Meeting
DESCRIPTION:
URL:https://hwetl.ca/event/executive-meeting-35/
LOCATION:ON
CATEGORIES:Meetings
END:VEVENT
BEGIN:VEVENT
DTSTART;VALUE=DATE:20200124
DTEND;VALUE=DATE:20200125
DTSTAMP:20260420T123942
CREATED:20191107T171730Z
LAST-MODIFIED:20191107T171730Z
UID:10000366-1579824000-1579910399@hwetl.ca
SUMMARY:HWDSB PD DAY
DESCRIPTION:
URL:https://hwetl.ca/event/hwdsb-pd-day-3/
LOCATION:ON
END:VEVENT
BEGIN:VEVENT
DTSTART;TZID=America/Toronto:20200122T163000
DTEND;TZID=America/Toronto:20200122T183000
DTSTAMP:20260420T123942
CREATED:20200106T190147Z
LAST-MODIFIED:20201013T154116Z
UID:10000180-1579710600-1579717800@hwetl.ca
SUMMARY:Constitution & Elections Committee Meeting
DESCRIPTION:
URL:https://hwetl.ca/event/constitution-elections-committee-meeting-2/
LOCATION:ON
CATEGORIES:Meetings
END:VEVENT
BEGIN:VEVENT
DTSTART;TZID=America/Toronto:20200115T163000
DTEND;TZID=America/Toronto:20200115T180000
DTSTAMP:20260420T123942
CREATED:20191128T194746Z
LAST-MODIFIED:20201013T154116Z
UID:10000372-1579105800-1579111200@hwetl.ca
SUMMARY:Ad Hoc Teacher Librarian Meeting
DESCRIPTION:
URL:https://hwetl.ca/event/ad-hoc-teacher-librarian-meeting/
LOCATION:ON
CATEGORIES:Meetings
END:VEVENT
BEGIN:VEVENT
DTSTART;TZID=America/Toronto:20200114T163000
DTEND;TZID=America/Toronto:20200114T183000
DTSTAMP:20260420T123942
CREATED:20191107T171613Z
LAST-MODIFIED:20201013T154117Z
UID:10000357-1579019400-1579026600@hwetl.ca
SUMMARY:Workplace Stewards Meeting
DESCRIPTION:
URL:https://hwetl.ca/event/workplace-stewards-meeting-6/
LOCATION:ON
CATEGORIES:Meetings
END:VEVENT
BEGIN:VEVENT
DTSTART;TZID=America/Toronto:20200113T163000
DTEND;TZID=America/Toronto:20200113T173000
DTSTAMP:20260420T123942
CREATED:20200106T185543Z
LAST-MODIFIED:20201013T154116Z
UID:10000176-1578933000-1578936600@hwetl.ca
SUMMARY:SOW Committee Meeting
DESCRIPTION:
URL:https://hwetl.ca/event/sow-committee-meeting/
LOCATION:ON
CATEGORIES:Meetings
END:VEVENT
BEGIN:VEVENT
DTSTART;TZID=America/Toronto:20200113T080000
DTEND;TZID=America/Toronto:20200113T170000
DTSTAMP:20260420T123942
CREATED:20200108T020434Z
LAST-MODIFIED:20201013T154116Z
UID:10000184-1578902400-1578934800@hwetl.ca
SUMMARY:Equity\, Environment\, Peace/ Political Action Committee Meeting
DESCRIPTION:430-6 PM\nRSVP to cindygangaram@gmail.com
URL:https://hwetl.ca/event/equity-environment-peace-political-action-committee-meeting-2/
LOCATION:ON
CATEGORIES:Meetings
END:VEVENT
BEGIN:VEVENT
DTSTART;VALUE=DATE:20200101
DTEND;VALUE=DATE:20200102
DTSTAMP:20260420T123942
CREATED:20190827T155628Z
LAST-MODIFIED:20190827T155628Z
UID:10000126-1577836800-1577836800@hwetl.ca
SUMMARY:New Year's Day
DESCRIPTION:
URL:https://hwetl.ca/event/new-years-day/
LOCATION:ON
END:VEVENT
BEGIN:VEVENT
DTSTART;VALUE=DATE:20191226
DTEND;VALUE=DATE:20191227
DTSTAMP:20260420T123942
CREATED:20190827T155554Z
LAST-MODIFIED:20190827T155554Z
UID:10000326-1577318400-1577404799@hwetl.ca
SUMMARY:Boxing Day
DESCRIPTION:
URL:https://hwetl.ca/event/boxing-day/
LOCATION:ON
END:VEVENT
BEGIN:VEVENT
DTSTART;VALUE=DATE:20191225
DTEND;VALUE=DATE:20191226
DTSTAMP:20260420T123942
CREATED:20190827T155534Z
LAST-MODIFIED:20190827T155534Z
UID:10000327-1577232000-1577318399@hwetl.ca
SUMMARY:Christmas
DESCRIPTION:
URL:https://hwetl.ca/event/christmas/
LOCATION:ON
END:VEVENT
BEGIN:VEVENT
DTSTART;TZID=America/Toronto:20191218T160000
DTEND;TZID=America/Toronto:20191218T173000
DTSTAMP:20260420T123942
CREATED:20191107T171514Z
LAST-MODIFIED:20201013T154117Z
UID:10000355-1576684800-1576690200@hwetl.ca
SUMMARY:LGBTQ Committee Meeting
DESCRIPTION:
URL:https://hwetl.ca/event/lgbtq-committee-meeting-6/
LOCATION:ON
CATEGORIES:Meetings
END:VEVENT
BEGIN:VEVENT
DTSTART;TZID=America/Toronto:20191217T120000
DTEND;TZID=America/Toronto:20191217T163000
DTSTAMP:20260420T123942
CREATED:20191010T163805Z
LAST-MODIFIED:20201013T154117Z
UID:10000156-1576584000-1576600200@hwetl.ca
SUMMARY:Executive Meeting
DESCRIPTION:
URL:https://hwetl.ca/event/executive-meeting-34/
LOCATION:ON
CATEGORIES:Meetings
END:VEVENT
BEGIN:VEVENT
DTSTART;TZID=America/Toronto:20191211T160000
DTEND;TZID=America/Toronto:20191211T173000
DTSTAMP:20260420T123942
CREATED:20191107T171429Z
LAST-MODIFIED:20201013T154117Z
UID:10000354-1576080000-1576085400@hwetl.ca
SUMMARY:Status of Woman Committee Meeting
DESCRIPTION:
URL:https://hwetl.ca/event/status-of-woman-committee-meeting/
LOCATION:ON
CATEGORIES:Meetings
END:VEVENT
END:VCALENDAR