BEGIN:VCALENDAR
VERSION:2.0
PRODID:-//Hamilton-Wentworth Elementary Teachers&#039; Local - ECPv6.15.13.1//NONSGML v1.0//EN
CALSCALE:GREGORIAN
METHOD:PUBLISH
X-WR-CALNAME:Hamilton-Wentworth Elementary Teachers&#039; Local
X-ORIGINAL-URL:https://hwetl.ca
X-WR-CALDESC:Events for Hamilton-Wentworth Elementary Teachers&#039; Local
REFRESH-INTERVAL;VALUE=DURATION:PT1H
X-Robots-Tag:noindex
X-PUBLISHED-TTL:PT1H
BEGIN:VTIMEZONE
TZID:America/Toronto
BEGIN:DAYLIGHT
TZOFFSETFROM:-0500
TZOFFSETTO:-0400
TZNAME:EDT
DTSTART:20190310T070000
END:DAYLIGHT
BEGIN:STANDARD
TZOFFSETFROM:-0400
TZOFFSETTO:-0500
TZNAME:EST
DTSTART:20191103T060000
END:STANDARD
BEGIN:DAYLIGHT
TZOFFSETFROM:-0500
TZOFFSETTO:-0400
TZNAME:EDT
DTSTART:20200308T070000
END:DAYLIGHT
BEGIN:STANDARD
TZOFFSETFROM:-0400
TZOFFSETTO:-0500
TZNAME:EST
DTSTART:20201101T060000
END:STANDARD
BEGIN:DAYLIGHT
TZOFFSETFROM:-0500
TZOFFSETTO:-0400
TZNAME:EDT
DTSTART:20210314T070000
END:DAYLIGHT
BEGIN:STANDARD
TZOFFSETFROM:-0400
TZOFFSETTO:-0500
TZNAME:EST
DTSTART:20211107T060000
END:STANDARD
BEGIN:DAYLIGHT
TZOFFSETFROM:-0500
TZOFFSETTO:-0400
TZNAME:EDT
DTSTART:20220313T070000
END:DAYLIGHT
BEGIN:STANDARD
TZOFFSETFROM:-0400
TZOFFSETTO:-0500
TZNAME:EST
DTSTART:20221106T060000
END:STANDARD
END:VTIMEZONE
BEGIN:VEVENT
DTSTART;TZID=America/Toronto:20210504T163000
DTEND;TZID=America/Toronto:20210504T183000
DTSTAMP:20260420T154332
CREATED:20210218T173021Z
LAST-MODIFIED:20210218T173024Z
UID:10000406-1620145800-1620153000@hwetl.ca
SUMMARY:Pregnancy & Parental Leave Workshop
DESCRIPTION:REGISTER HERE \n\n\n\n\n\n\n\n\n\nPregnancy-and-Parental-Leave-Flyer-May-4-2021Download
URL:https://hwetl.ca/event/pregnancy-parental-leave-workshop-2/
LOCATION:Via Zoom
END:VEVENT
BEGIN:VEVENT
DTSTART;TZID=America/Toronto:20210427T163000
DTEND;TZID=America/Toronto:20210427T193000
DTSTAMP:20260420T154332
CREATED:20210201T174135Z
LAST-MODIFIED:20210201T174158Z
UID:10000397-1619541000-1619551800@hwetl.ca
SUMMARY:Executive Meeting
DESCRIPTION:
URL:https://hwetl.ca/event/executive-meeting-42/
LOCATION:Via Zoom
END:VEVENT
BEGIN:VEVENT
DTSTART;TZID=America/Toronto:20210413T043000
DTEND;TZID=America/Toronto:20210413T190000
DTSTAMP:20260420T154332
CREATED:20200930T155523Z
LAST-MODIFIED:20201013T154116Z
UID:10000387-1618288200-1618340400@hwetl.ca
SUMMARY:Stewards' Meeting
DESCRIPTION:
URL:https://hwetl.ca/event/stewards-meeting-3/
CATEGORIES:Meetings
END:VEVENT
BEGIN:VEVENT
DTSTART;TZID=America/Toronto:20210408T173000
DTEND;TZID=America/Toronto:20210408T193000
DTSTAMP:20260420T154332
CREATED:20210212T172705Z
LAST-MODIFIED:20210212T172708Z
UID:10000404-1617903000-1617910200@hwetl.ca
SUMMARY:HDLC Committee Meeting
DESCRIPTION:
URL:https://hwetl.ca/event/hdlc-committee-meeting/
LOCATION:Via Zoom
END:VEVENT
BEGIN:VEVENT
DTSTART;TZID=America/Toronto:20210407T163000
DTEND;TZID=America/Toronto:20210407T183000
DTSTAMP:20260420T154332
CREATED:20210331T172529Z
LAST-MODIFIED:20210331T172532Z
UID:10000407-1617813000-1617820200@hwetl.ca
SUMMARY:Chief Negotiator Candidate Information Night
DESCRIPTION:REGISTER HERE \n\n\n\n\n\n\n\n\n\n \n\n\n\nCandidate-Information-Night-v2-1-1Download
URL:https://hwetl.ca/event/chief-negotiator-candidate-information-night/
LOCATION:Via Zoom
END:VEVENT
BEGIN:VEVENT
DTSTART;TZID=America/Toronto:20210323T163000
DTEND;TZID=America/Toronto:20210323T193000
DTSTAMP:20260420T154332
CREATED:20210201T163747Z
LAST-MODIFIED:20210201T163751Z
UID:10000399-1616517000-1616527800@hwetl.ca
SUMMARY:Executive Meeting
DESCRIPTION:
URL:https://hwetl.ca/event/executive-meeting-40/
LOCATION:Via Zoom
END:VEVENT
BEGIN:VEVENT
DTSTART;TZID=America/Toronto:20210302T163000
DTEND;TZID=America/Toronto:20210302T190000
DTSTAMP:20260420T154332
CREATED:20200930T155922Z
LAST-MODIFIED:20201013T154116Z
UID:10000388-1614702600-1614711600@hwetl.ca
SUMMARY:Stewards' Meeting
DESCRIPTION:
URL:https://hwetl.ca/event/stewards-meeting-4/
CATEGORIES:Meetings
END:VEVENT
BEGIN:VEVENT
DTSTART;TZID=America/Toronto:20210223T163000
DTEND;TZID=America/Toronto:20210223T193000
DTSTAMP:20260420T154332
CREATED:20210201T163833Z
LAST-MODIFIED:20210201T163837Z
UID:10000398-1614097800-1614108600@hwetl.ca
SUMMARY:Executive Meeting
DESCRIPTION:
URL:https://hwetl.ca/event/executive-meeting-41/
LOCATION:Via Zoom
END:VEVENT
BEGIN:VEVENT
DTSTART;TZID=America/Toronto:20210216T163000
DTEND;TZID=America/Toronto:20210216T183000
DTSTAMP:20260420T154332
CREATED:20210212T195656Z
LAST-MODIFIED:20210212T201531Z
UID:10000405-1613493000-1613500200@hwetl.ca
SUMMARY:Member Engagement Committee Meeting
DESCRIPTION:imageDownload
URL:https://hwetl.ca/event/member-engagement-committee-meeting-6/
LOCATION:Via Zoom
ORGANIZER;CN="Cassandra Mizzi":MAILTO:c.mizzi@live.ca
END:VEVENT
BEGIN:VEVENT
DTSTART;TZID=America/Toronto:20210211T173000
DTEND;TZID=America/Toronto:20210211T193000
DTSTAMP:20260420T154332
CREATED:20210210T152113Z
LAST-MODIFIED:20210210T152117Z
UID:10000394-1613064600-1613071800@hwetl.ca
SUMMARY:
DESCRIPTION:HDLC Committee Meeting
URL:https://hwetl.ca/event/6472/
LOCATION:Via Zoom
END:VEVENT
BEGIN:VEVENT
DTSTART;TZID=America/Toronto:20210209T163000
DTEND;TZID=America/Toronto:20210209T190000
DTSTAMP:20260420T154332
CREATED:20200930T160131Z
LAST-MODIFIED:20210124T152128Z
UID:10000390-1612888200-1612897200@hwetl.ca
SUMMARY:General Meeting
DESCRIPTION:REGISTER HERE \n\n\n\n\n\n\n\nHWETL-GM-PDF-POSTERDownload
URL:https://hwetl.ca/event/general-meeting-6/
CATEGORIES:Important Dates,Meetings
END:VEVENT
BEGIN:VEVENT
DTSTART;TZID=America/Toronto:20210202T163000
DTEND;TZID=America/Toronto:20210202T183000
DTSTAMP:20260420T154332
CREATED:20201216T184923Z
LAST-MODIFIED:20201222T144403Z
UID:10000400-1612283400-1612290600@hwetl.ca
SUMMARY:Pregnancy & Parental Leave Workshop
DESCRIPTION:REGISTER HERE \n\n\n\n\n\n\n\nP-P-Poster-2020Download
URL:https://hwetl.ca/event/pregnancy-parental-leave-workshop/
LOCATION:Via Zoom
END:VEVENT
BEGIN:VEVENT
DTSTART;TZID=America/Toronto:20210127T163000
DTEND;TZID=America/Toronto:20210127T183000
DTSTAMP:20260420T154332
CREATED:20210112T211642Z
LAST-MODIFIED:20210112T211710Z
UID:10000403-1611765000-1611772200@hwetl.ca
SUMMARY:Member Engagement Committee
DESCRIPTION:Come join the Member Engagement Committee for their first meeting of the 20-21 school year. Please RSVP to Cassandra Mizzi at c.mizzi@live.ca.
URL:https://hwetl.ca/event/6350/
ORGANIZER;CN="Cassandra Mizzi":MAILTO:c.mizzi@live.ca
END:VEVENT
BEGIN:VEVENT
DTSTART;TZID=America/Toronto:20210119T163000
DTEND;TZID=America/Toronto:20210119T183000
DTSTAMP:20260420T154332
CREATED:20210113T141008Z
LAST-MODIFIED:20210113T141012Z
UID:10000401-1611073800-1611081000@hwetl.ca
SUMMARY:Constitution and Elections Committee
DESCRIPTION:Come join the Constitution and Elections Committee for their first meeting of the 20-21 school year. RSVP to Roger Anderson at roger.john.anderson@gmail.com.
URL:https://hwetl.ca/event/constitution-and-elections-committee/
LOCATION:Via Zoom
ORGANIZER;CN="Roger Anderson":MAILTO:roger.john.anderson@gmail.com
END:VEVENT
BEGIN:VEVENT
DTSTART;TZID=America/Toronto:20210113T163000
DTEND;TZID=America/Toronto:20210113T183000
DTSTAMP:20260420T154332
CREATED:20210104T213337Z
LAST-MODIFIED:20210104T213339Z
UID:10000402-1610555400-1610562600@hwetl.ca
SUMMARY:2SLGBTQ+ Committee
DESCRIPTION:Come join the 2SLGBTQ+ Committee for their first meeting of the 20-21 school year.  RSVP to Carla Sikora at carlasikora@outlook.com carlasikora@outlook.com;
URL:https://hwetl.ca/event/2slgbtq-committee/
ORGANIZER;CN="Carla Sikora%3A":MAILTO:carlasikora@outlook.com
END:VEVENT
BEGIN:VEVENT
DTSTART;TZID=America/Toronto:20210112T163000
DTEND;TZID=America/Toronto:20210112T190000
DTSTAMP:20260420T154332
CREATED:20200930T155423Z
LAST-MODIFIED:20201013T154116Z
UID:10000386-1610469000-1610478000@hwetl.ca
SUMMARY:Stewards' Meeting
DESCRIPTION:
URL:https://hwetl.ca/event/stewards-meeting-2/
CATEGORIES:Meetings
END:VEVENT
BEGIN:VEVENT
DTSTART;TZID=America/Toronto:20201201T160000
DTEND;TZID=America/Toronto:20201201T170000
DTSTAMP:20260420T154332
CREATED:20200930T155335Z
LAST-MODIFIED:20200930T155339Z
UID:10000377-1606838400-1606842000@hwetl.ca
SUMMARY:Stewards' Drop In
DESCRIPTION:
URL:https://hwetl.ca/event/stewards-drop-in/
END:VEVENT
BEGIN:VEVENT
DTSTART;TZID=America/Toronto:20201110T163000
DTEND;TZID=America/Toronto:20201110T190000
DTSTAMP:20260420T154332
CREATED:20200930T160052Z
LAST-MODIFIED:20201013T154116Z
UID:10000389-1605025800-1605034800@hwetl.ca
SUMMARY:General Meeting
DESCRIPTION:
URL:https://hwetl.ca/event/general-meeting-5/
CATEGORIES:Meetings
END:VEVENT
BEGIN:VEVENT
DTSTART;TZID=America/Toronto:20201013T163000
DTEND;TZID=America/Toronto:20201013T193000
DTSTAMP:20260420T154332
CREATED:20201013T152631Z
LAST-MODIFIED:20201013T160340Z
UID:10000392-1602606600-1602617400@hwetl.ca
SUMMARY:October 13th General Meeting (May 2020)
DESCRIPTION:Hello HWETL Member\, \n\n\n\nYou are invited to a Zoom webinar.When: Oct 13\, 2020 04:30 PM Eastern Time (US and Canada)Topic: HWETL General Meeting- May 2020 Delayed\, Elections to follow online
URL:https://hwetl.ca/event/october-13th-general-meeting-may-2020/
CATEGORIES:Meetings
END:VEVENT
BEGIN:VEVENT
DTSTART;TZID=America/Toronto:20201006T163000
DTEND;TZID=America/Toronto:20201006T190000
DTSTAMP:20260420T154332
CREATED:20200930T153409Z
LAST-MODIFIED:20201013T154116Z
UID:10000379-1602001800-1602010800@hwetl.ca
SUMMARY:October Stewards' Meeting
DESCRIPTION:
URL:https://hwetl.ca/event/october-stewards-meeting/
CATEGORIES:Meetings
END:VEVENT
BEGIN:VEVENT
DTSTART;TZID=America/Toronto:20200930T163000
DTEND;TZID=America/Toronto:20200930T180000
DTSTAMP:20260420T154332
CREATED:20200930T151206Z
LAST-MODIFIED:20200930T151209Z
UID:10000381-1601483400-1601488800@hwetl.ca
SUMMARY:Remote School School Visit #2
DESCRIPTION:
URL:https://hwetl.ca/event/remote-school-school-visit-2/
END:VEVENT
BEGIN:VEVENT
DTSTART;VALUE=DATE:20200701
DTEND;VALUE=DATE:20200702
DTSTAMP:20260420T154332
CREATED:20190827T161122Z
LAST-MODIFIED:20190827T161122Z
UID:10000133-1593561600-1593647999@hwetl.ca
SUMMARY:Canada Day
DESCRIPTION:
URL:https://hwetl.ca/event/canada-day/
END:VEVENT
BEGIN:VEVENT
DTSTART;TZID=America/Toronto:20200616T163000
DTEND;TZID=America/Toronto:20200616T183000
DTSTAMP:20260420T154332
CREATED:20191107T172727Z
LAST-MODIFIED:20201013T154116Z
UID:10000371-1592325000-1592332200@hwetl.ca
SUMMARY:Executive Meeting
DESCRIPTION:
URL:https://hwetl.ca/event/executive-meeting-39/
CATEGORIES:Meetings
END:VEVENT
BEGIN:VEVENT
DTSTART;TZID=America/Toronto:20200611T180000
DTEND;TZID=America/Toronto:20200611T210000
DTSTAMP:20260420T154332
CREATED:20191107T172646Z
LAST-MODIFIED:20201013T153721Z
UID:10000370-1591898400-1591909200@hwetl.ca
SUMMARY:Retirement Social @ Michelangelo's
DESCRIPTION:
URL:https://hwetl.ca/event/retirement-social-michelangelos-2/
CATEGORIES:Important Dates
END:VEVENT
BEGIN:VEVENT
DTSTART;TZID=America/Toronto:20200526T120000
DTEND;TZID=America/Toronto:20200526T160000
DTSTAMP:20260420T154332
CREATED:20191107T172551Z
LAST-MODIFIED:20201013T154116Z
UID:10000369-1590494400-1590508800@hwetl.ca
SUMMARY:Executive Meeting
DESCRIPTION:
URL:https://hwetl.ca/event/executive-meeting-38/
CATEGORIES:Meetings
END:VEVENT
BEGIN:VEVENT
DTSTART;TZID=America/Toronto:20200520T163000
DTEND;TZID=America/Toronto:20200520T180000
DTSTAMP:20260420T154332
CREATED:20191128T195309Z
LAST-MODIFIED:20201013T154116Z
UID:10000378-1589992200-1589997600@hwetl.ca
SUMMARY:Ad Hoc Teacher Librarian Meeting
DESCRIPTION:
URL:https://hwetl.ca/event/ad-hoc-teacher-librarian-meeting-5/
CATEGORIES:Meetings
END:VEVENT
BEGIN:VEVENT
DTSTART;VALUE=DATE:20200518
DTEND;VALUE=DATE:20200519
DTSTAMP:20260420T154332
CREATED:20190827T161039Z
LAST-MODIFIED:20190827T161039Z
UID:10000131-1589760000-1589846399@hwetl.ca
SUMMARY:Victoria Day
DESCRIPTION:
URL:https://hwetl.ca/event/victoria-day-4/
END:VEVENT
BEGIN:VEVENT
DTSTART;TZID=America/Toronto:20200512T163000
DTEND;TZID=America/Toronto:20200512T193000
DTSTAMP:20260420T154332
CREATED:20191107T172517Z
LAST-MODIFIED:20201013T154116Z
UID:10000368-1589301000-1589311800@hwetl.ca
SUMMARY:Annual General Meeting @ Liuna
DESCRIPTION:
URL:https://hwetl.ca/event/annual-general-meeting-liuna/
CATEGORIES:Meetings
END:VEVENT
BEGIN:VEVENT
DTSTART;TZID=America/Toronto:20200428T163000
DTEND;TZID=America/Toronto:20200428T183000
DTSTAMP:20260420T154332
CREATED:20191107T172427Z
LAST-MODIFIED:20201013T154116Z
UID:10000367-1588091400-1588098600@hwetl.ca
SUMMARY:Executive Meeting
DESCRIPTION:
URL:https://hwetl.ca/event/executive-meeting-37/
CATEGORIES:Meetings
END:VEVENT
BEGIN:VEVENT
DTSTART;TZID=America/Toronto:20200422T163000
DTEND;TZID=America/Toronto:20200422T180000
DTSTAMP:20260420T154332
CREATED:20191128T195238Z
LAST-MODIFIED:20201013T154116Z
UID:10000376-1587573000-1587578400@hwetl.ca
SUMMARY:Ad Hoc Teacher Librarian Meeting
DESCRIPTION:
URL:https://hwetl.ca/event/ad-hoc-teacher-librarian-meeting-4/
CATEGORIES:Meetings
END:VEVENT
END:VCALENDAR