BEGIN:VCALENDAR
VERSION:2.0
PRODID:-//Hamilton-Wentworth Elementary Teachers&#039; Local - ECPv6.15.13.1//NONSGML v1.0//EN
CALSCALE:GREGORIAN
METHOD:PUBLISH
X-WR-CALNAME:Hamilton-Wentworth Elementary Teachers&#039; Local
X-ORIGINAL-URL:https://hwetl.ca
X-WR-CALDESC:Events for Hamilton-Wentworth Elementary Teachers&#039; Local
REFRESH-INTERVAL;VALUE=DURATION:PT1H
X-Robots-Tag:noindex
X-PUBLISHED-TTL:PT1H
BEGIN:VTIMEZONE
TZID:America/Toronto
BEGIN:DAYLIGHT
TZOFFSETFROM:-0500
TZOFFSETTO:-0400
TZNAME:EDT
DTSTART:20180311T070000
END:DAYLIGHT
BEGIN:STANDARD
TZOFFSETFROM:-0400
TZOFFSETTO:-0500
TZNAME:EST
DTSTART:20181104T060000
END:STANDARD
BEGIN:DAYLIGHT
TZOFFSETFROM:-0500
TZOFFSETTO:-0400
TZNAME:EDT
DTSTART:20190310T070000
END:DAYLIGHT
BEGIN:STANDARD
TZOFFSETFROM:-0400
TZOFFSETTO:-0500
TZNAME:EST
DTSTART:20191103T060000
END:STANDARD
BEGIN:DAYLIGHT
TZOFFSETFROM:-0500
TZOFFSETTO:-0400
TZNAME:EDT
DTSTART:20200308T070000
END:DAYLIGHT
BEGIN:STANDARD
TZOFFSETFROM:-0400
TZOFFSETTO:-0500
TZNAME:EST
DTSTART:20201101T060000
END:STANDARD
END:VTIMEZONE
BEGIN:VEVENT
DTSTART;TZID=America/Toronto:20191022T160000
DTEND;TZID=America/Toronto:20191022T180000
DTSTAMP:20260420T210025
CREATED:20190920T193916Z
LAST-MODIFIED:20201013T154117Z
UID:10000342-1571760000-1571767200@hwetl.ca
SUMMARY:LGBTQ Committee Meeting
DESCRIPTION:
URL:https://hwetl.ca/event/lgbtq-committee-meeting-5/
CATEGORIES:Meetings
END:VEVENT
BEGIN:VEVENT
DTSTART;TZID=America/Toronto:20191021T163000
DTEND;TZID=America/Toronto:20191021T180000
DTSTAMP:20260420T210025
CREATED:20191010T162830Z
LAST-MODIFIED:20201013T154117Z
UID:10000350-1571675400-1571680800@hwetl.ca
SUMMARY:Constitution & Elections Meeting
DESCRIPTION:
URL:https://hwetl.ca/event/constitution-elections-meeting-2/
CATEGORIES:Meetings
END:VEVENT
BEGIN:VEVENT
DTSTART;TZID=America/Toronto:20191017T171500
DTEND;TZID=America/Toronto:20191017T190000
DTSTAMP:20260420T210025
CREATED:20190920T193812Z
LAST-MODIFIED:20190920T193812Z
UID:10000338-1571332500-1571338800@hwetl.ca
SUMMARY:HDLC Committee
DESCRIPTION:
URL:https://hwetl.ca/event/hdlc-committee/
LOCATION:Endzone
END:VEVENT
BEGIN:VEVENT
DTSTART;TZID=America/Toronto:20191015T163000
DTEND;TZID=America/Toronto:20191015T200000
DTSTAMP:20260420T210025
CREATED:20191010T162427Z
LAST-MODIFIED:20191010T162427Z
UID:10000349-1571157000-1571169600@hwetl.ca
SUMMARY:ETFO Provincial Strike Vote
DESCRIPTION:Time: 5:30 p.m. (Doors open at 4:30 p.m.) \nLocation: First Ontario Centre\, 101 York Bld. Hamilton\, ON \nVoting starts at 6:30 p.m. Polls Close at 8 p.m.  \nFor more information\, please visit https://etfocb.ca/.
URL:https://hwetl.ca/event/etfo-provincial-strike-vote/
LOCATION:First Ontario Centre\, 101 York Blvd.\, Hamilton\, Ontario\, Canada
CATEGORIES:Meetings
END:VEVENT
BEGIN:VEVENT
DTSTART;VALUE=DATE:20191014
DTEND;VALUE=DATE:20191015
DTSTAMP:20260420T210025
CREATED:20190827T155443Z
LAST-MODIFIED:20190827T155443Z
UID:10000329-1571011200-1571097599@hwetl.ca
SUMMARY:Thanksgiving
DESCRIPTION:
URL:https://hwetl.ca/event/thanksgiving-2/
END:VEVENT
BEGIN:VEVENT
DTSTART;VALUE=DATE:20191009
DTEND;VALUE=DATE:20191011
DTSTAMP:20260420T210025
CREATED:20190827T155101Z
LAST-MODIFIED:20201013T154118Z
UID:10000318-1570579200-1570751999@hwetl.ca
SUMMARY:ETFO Rep Council Meeting
DESCRIPTION:
URL:https://hwetl.ca/event/etfo-rep-council-meeting/
CATEGORIES:Meetings
END:VEVENT
BEGIN:VEVENT
DTSTART;TZID=America/Toronto:20191008T160000
DTEND;TZID=America/Toronto:20191008T180000
DTSTAMP:20260420T210025
CREATED:20190920T193523Z
LAST-MODIFIED:20190920T193523Z
UID:10000336-1570550400-1570557600@hwetl.ca
SUMMARY:Awards Committee
DESCRIPTION:
URL:https://hwetl.ca/event/awards-committee/
CATEGORIES:Meetings
END:VEVENT
BEGIN:VEVENT
DTSTART;TZID=America/Toronto:20191007T160000
DTEND;TZID=America/Toronto:20191007T180000
DTSTAMP:20260420T210025
CREATED:20190920T193656Z
LAST-MODIFIED:20190920T193656Z
UID:10000337-1570464000-1570471200@hwetl.ca
SUMMARY:Disability Issues Committee
DESCRIPTION:
URL:https://hwetl.ca/event/disability-issues-committee-2/
CATEGORIES:Meetings
END:VEVENT
BEGIN:VEVENT
DTSTART;TZID=America/Toronto:20191002T160000
DTEND;TZID=America/Toronto:20191002T180000
DTSTAMP:20260420T210025
CREATED:20190920T193448Z
LAST-MODIFIED:20190920T193448Z
UID:10000335-1570032000-1570039200@hwetl.ca
SUMMARY:Budget Committee
DESCRIPTION:
URL:https://hwetl.ca/event/budget-committee/
CATEGORIES:Meetings
END:VEVENT
BEGIN:VEVENT
DTSTART;TZID=America/Toronto:20191001T163000
DTEND;TZID=America/Toronto:20191001T183000
DTSTAMP:20260420T210025
CREATED:20190827T152539Z
LAST-MODIFIED:20201013T154118Z
UID:10000316-1569947400-1569954600@hwetl.ca
SUMMARY:Workplace Steward Meeting
DESCRIPTION:
URL:https://hwetl.ca/event/workplace-steward-meeting-6/
CATEGORIES:Meetings
END:VEVENT
BEGIN:VEVENT
DTSTART;TZID=America/Toronto:20190930T161500
DTEND;TZID=America/Toronto:20190930T173000
DTSTAMP:20260420T210025
CREATED:20190920T193200Z
LAST-MODIFIED:20201013T154117Z
UID:10000334-1569860100-1569864600@hwetl.ca
SUMMARY:Health and Safety Committee Meeting
DESCRIPTION:
URL:https://hwetl.ca/event/health-and-safety-committee-meeting-2/
CATEGORIES:Meetings
END:VEVENT
BEGIN:VEVENT
DTSTART;TZID=America/Toronto:20190925T160000
DTEND;TZID=America/Toronto:20190925T180000
DTSTAMP:20260420T210025
CREATED:20190920T193116Z
LAST-MODIFIED:20201013T154117Z
UID:10000333-1569427200-1569434400@hwetl.ca
SUMMARY:Goodwill Committee Meeting
DESCRIPTION:
URL:https://hwetl.ca/event/goodwill-committee-meeting/
CATEGORIES:Meetings
END:VEVENT
BEGIN:VEVENT
DTSTART;TZID=America/Toronto:20190924T163000
DTEND;TZID=America/Toronto:20190924T183000
DTSTAMP:20260420T210025
CREATED:20190827T152257Z
LAST-MODIFIED:20201013T154118Z
UID:10000124-1569342600-1569349800@hwetl.ca
SUMMARY:Executive Meeting
DESCRIPTION:
URL:https://hwetl.ca/event/executive-meeting-31/
CATEGORIES:Meetings
END:VEVENT
BEGIN:VEVENT
DTSTART;TZID=America/Toronto:20190924T080000
DTEND;TZID=America/Toronto:20190924T170000
DTSTAMP:20260420T210025
CREATED:20190924T213638Z
LAST-MODIFIED:20201013T154117Z
UID:10000341-1569312000-1569344400@hwetl.ca
SUMMARY:EEP Committee Meeting
DESCRIPTION:HWETL Office at 4:30.
URL:https://hwetl.ca/event/eep-committee-meeting/
CATEGORIES:Meetings
END:VEVENT
BEGIN:VEVENT
DTSTART;VALUE=DATE:20190920
DTEND;VALUE=DATE:20190921
DTSTAMP:20260420T210025
CREATED:20190827T152327Z
LAST-MODIFIED:20190827T152342Z
UID:10000125-1568937600-1569023999@hwetl.ca
SUMMARY:HWDSB PA Day
DESCRIPTION:
URL:https://hwetl.ca/event/hwdsb-pa-day-4/
END:VEVENT
BEGIN:VEVENT
DTSTART;TZID=America/Toronto:20190918T163000
DTEND;TZID=America/Toronto:20190918T183000
DTSTAMP:20260420T210025
CREATED:20190909T154221Z
LAST-MODIFIED:20201013T154118Z
UID:10000324-1568824200-1568831400@hwetl.ca
SUMMARY:Constitution/Elections Meeting
DESCRIPTION:
URL:https://hwetl.ca/event/constitution-elections-meeting/
CATEGORIES:Meetings
END:VEVENT
BEGIN:VEVENT
DTSTART;TZID=America/Toronto:20190917T163000
DTEND;TZID=America/Toronto:20190917T183000
DTSTAMP:20260420T210025
CREATED:20190827T151316Z
LAST-MODIFIED:20201013T154118Z
UID:10000123-1568737800-1568745000@hwetl.ca
SUMMARY:Workplace Steward Meeting
DESCRIPTION:
URL:https://hwetl.ca/event/workplace-steward-meeting-5/
CATEGORIES:Meetings
END:VEVENT
BEGIN:VEVENT
DTSTART;TZID=America/Toronto:20190916T160000
DTEND;TZID=America/Toronto:20190916T180000
DTSTAMP:20260420T210025
CREATED:20190904T130618Z
LAST-MODIFIED:20201013T154118Z
UID:10000141-1568649600-1568656800@hwetl.ca
SUMMARY:Awards Committee Meeting
DESCRIPTION:
URL:https://hwetl.ca/event/awards-committee-meeting-3/
CATEGORIES:Meetings
END:VEVENT
BEGIN:VEVENT
DTSTART;TZID=America/Toronto:20190911T163000
DTEND;TZID=America/Toronto:20190911T180000
DTSTAMP:20260420T210025
CREATED:20190903T195403Z
LAST-MODIFIED:20190903T195403Z
UID:10000139-1568219400-1568224800@hwetl.ca
SUMMARY:Election Review Committee
DESCRIPTION:
URL:https://hwetl.ca/event/election-review-committee/
CATEGORIES:Meetings
END:VEVENT
BEGIN:VEVENT
DTSTART;TZID=America/Toronto:20190911T160000
DTEND;TZID=America/Toronto:20190911T173000
DTSTAMP:20260420T210025
CREATED:20190827T151154Z
LAST-MODIFIED:20201013T154118Z
UID:10000122-1568217600-1568223000@hwetl.ca
SUMMARY:Status of Women Committee Meeting
DESCRIPTION:
URL:https://hwetl.ca/event/status-of-women-committee-meeting-19/
CATEGORIES:Meetings
END:VEVENT
BEGIN:VEVENT
DTSTART;TZID=America/Toronto:20190911T120000
DTEND;TZID=America/Toronto:20190911T160000
DTSTAMP:20260420T210025
CREATED:20190910T202308Z
LAST-MODIFIED:20201013T154118Z
UID:10000323-1568203200-1568217600@hwetl.ca
SUMMARY:CB Committee Meeting
DESCRIPTION:
URL:https://hwetl.ca/event/cb-committee-meeting/
CATEGORIES:Meetings
END:VEVENT
BEGIN:VEVENT
DTSTART;TZID=America/Toronto:20190902T100000
DTEND;TZID=America/Toronto:20190902T140000
DTSTAMP:20260420T210025
CREATED:20190827T131914Z
LAST-MODIFIED:20190827T160622Z
UID:10000121-1567418400-1567432800@hwetl.ca
SUMMARY:Labour Day Parade!
DESCRIPTION:Labour Day Flyer 19 \n 
URL:https://hwetl.ca/event/labour-day-parade-3/
END:VEVENT
BEGIN:VEVENT
DTSTART;VALUE=DATE:20190628
DTEND;VALUE=DATE:20190629
DTSTAMP:20260420T210025
CREATED:20190417T191332Z
LAST-MODIFIED:20190417T191332Z
UID:10000117-1561680000-1561766399@hwetl.ca
SUMMARY:HWDSB PA Day
DESCRIPTION:
URL:https://hwetl.ca/event/hwdsb-pa-day-3/
END:VEVENT
BEGIN:VEVENT
DTSTART;TZID=America/Toronto:20190625T163000
DTEND;TZID=America/Toronto:20190625T193000
DTSTAMP:20260420T210025
CREATED:20180903T151557Z
LAST-MODIFIED:20201013T154119Z
UID:10000257-1561480200-1561491000@hwetl.ca
SUMMARY:Executive Meeting
DESCRIPTION:
URL:https://hwetl.ca/event/executive-meeting-30/
CATEGORIES:Meetings
END:VEVENT
BEGIN:VEVENT
DTSTART;TZID=America/Toronto:20190621T100000
DTEND;TZID=America/Toronto:20190621T140000
DTSTAMP:20260420T210025
CREATED:20181104T144508Z
LAST-MODIFIED:20181104T144509Z
UID:10000106-1561111200-1561125600@hwetl.ca
SUMMARY:SOSAL- Bluewater
DESCRIPTION:
URL:https://hwetl.ca/event/sosal-bluewater/
END:VEVENT
BEGIN:VEVENT
DTSTART;TZID=America/Toronto:20190619T160000
DTEND;TZID=America/Toronto:20190619T173000
DTSTAMP:20260420T210025
CREATED:20181104T144407Z
LAST-MODIFIED:20201013T154118Z
UID:10000104-1560960000-1560965400@hwetl.ca
SUMMARY:Status of Women Committee Meeting
DESCRIPTION:
URL:https://hwetl.ca/event/status-of-women-committee-meeting-18/
CATEGORIES:Meetings
END:VEVENT
BEGIN:VEVENT
DTSTART;VALUE=DATE:20190616
DTEND;VALUE=DATE:20190617
DTSTAMP:20260420T210025
CREATED:20190328T184132Z
LAST-MODIFIED:20190328T184132Z
UID:10000311-1560643200-1560729599@hwetl.ca
SUMMARY:Father's Day
DESCRIPTION:
URL:https://hwetl.ca/event/fathers-day/
END:VEVENT
BEGIN:VEVENT
DTSTART;TZID=America/Toronto:20190613T180000
DTEND;TZID=America/Toronto:20190613T210000
DTSTAMP:20260420T210025
CREATED:20180903T152430Z
LAST-MODIFIED:20190612T130802Z
UID:10000084-1560448800-1560459600@hwetl.ca
SUMMARY:Retirement Social
DESCRIPTION:Cash Bar – 6:00pm \nProcessional – 7:00pm
URL:https://hwetl.ca/event/retirement-social-2/
END:VEVENT
BEGIN:VEVENT
DTSTART;TZID=America/Toronto:20190610T160000
DTEND;TZID=America/Toronto:20190610T180000
DTSTAMP:20260420T210025
CREATED:20190328T182740Z
LAST-MODIFIED:20201013T154118Z
UID:10000115-1560182400-1560189600@hwetl.ca
SUMMARY:LGBTQ Committee Meeting
DESCRIPTION:
URL:https://hwetl.ca/event/lgbtq-committee-meeting-4/
CATEGORIES:Meetings
ORGANIZER;CN="Carleigh Hochheimer":MAILTO:office@hwetl.ca
END:VEVENT
BEGIN:VEVENT
DTSTART;VALUE=DATE:20190607
DTEND;VALUE=DATE:20190608
DTSTAMP:20260420T210025
CREATED:20181104T144305Z
LAST-MODIFIED:20181104T144305Z
UID:10000301-1559865600-1559951999@hwetl.ca
SUMMARY:HWDSB PA Day
DESCRIPTION:
URL:https://hwetl.ca/event/hwdsb-pa-day-2/
END:VEVENT
END:VCALENDAR