BEGIN:VCALENDAR
VERSION:2.0
PRODID:-//Hamilton-Wentworth Elementary Teachers&#039; Local - ECPv6.15.20//NONSGML v1.0//EN
CALSCALE:GREGORIAN
METHOD:PUBLISH
X-ORIGINAL-URL:https://hwetl.ca
X-WR-CALDESC:Events for Hamilton-Wentworth Elementary Teachers&#039; Local
REFRESH-INTERVAL;VALUE=DURATION:PT1H
X-Robots-Tag:noindex
X-PUBLISHED-TTL:PT1H
BEGIN:VTIMEZONE
TZID:America/Toronto
BEGIN:DAYLIGHT
TZOFFSETFROM:-0500
TZOFFSETTO:-0400
TZNAME:EDT
DTSTART:20250309T070000
END:DAYLIGHT
BEGIN:STANDARD
TZOFFSETFROM:-0400
TZOFFSETTO:-0500
TZNAME:EST
DTSTART:20251102T060000
END:STANDARD
BEGIN:DAYLIGHT
TZOFFSETFROM:-0500
TZOFFSETTO:-0400
TZNAME:EDT
DTSTART:20260308T070000
END:DAYLIGHT
BEGIN:STANDARD
TZOFFSETFROM:-0400
TZOFFSETTO:-0500
TZNAME:EST
DTSTART:20261101T060000
END:STANDARD
BEGIN:DAYLIGHT
TZOFFSETFROM:-0500
TZOFFSETTO:-0400
TZNAME:EDT
DTSTART:20270314T070000
END:DAYLIGHT
BEGIN:STANDARD
TZOFFSETFROM:-0400
TZOFFSETTO:-0500
TZNAME:EST
DTSTART:20271107T060000
END:STANDARD
END:VTIMEZONE
BEGIN:VEVENT
DTSTART;TZID=America/Toronto:20260602T163000
DTEND;TZID=America/Toronto:20260602T180000
DTSTAMP:20260421T202818
CREATED:20250929T142808Z
LAST-MODIFIED:20250929T142809Z
UID:10000856-1780417800-1780423200@hwetl.ca
SUMMARY:Status of Women Committee Meeting
DESCRIPTION:
URL:https://hwetl.ca/event/status-of-women-committee-meeting-39/
LOCATION:HWETL\, 105 Nebo Road\, Hamilton\, ON\, L8W 2E1
END:VEVENT
BEGIN:VEVENT
DTSTART;TZID=America/Toronto:20260603T080000
DTEND;TZID=America/Toronto:20260603T210000
DTSTAMP:20260421T202818
CREATED:20251215T212037Z
LAST-MODIFIED:20251215T212038Z
UID:10000881-1780473600-1780520400@hwetl.ca
SUMMARY:HWETL OFFICE UNAVAILABLE
DESCRIPTION:
URL:https://hwetl.ca/event/hwetl-office-unavailable-30/
END:VEVENT
BEGIN:VEVENT
DTSTART;TZID=America/Toronto:20260609T180000
DTEND;TZID=America/Toronto:20260609T213000
DTSTAMP:20260421T202818
CREATED:20250826T152455Z
LAST-MODIFIED:20250826T152457Z
UID:10000828-1781028000-1781040600@hwetl.ca
SUMMARY:Retirement Social
DESCRIPTION:LOCATION TBD
URL:https://hwetl.ca/event/retirement-social-5/
END:VEVENT
BEGIN:VEVENT
DTSTART;TZID=America/Toronto:20260623T163000
DTEND;TZID=America/Toronto:20260623T190000
DTSTAMP:20260421T202818
CREATED:20250826T150209Z
LAST-MODIFIED:20250826T150210Z
UID:10000817-1782232200-1782241200@hwetl.ca
SUMMARY:Executive Meeting
DESCRIPTION:
URL:https://hwetl.ca/event/executive-meeting-77/
LOCATION:HWETL\, 105 Nebo Road\, Hamilton\, ON\, L8W 2E1
END:VEVENT
END:VCALENDAR