BEGIN:VCALENDAR
VERSION:2.0
PRODID:-//Hamilton-Wentworth Elementary Teachers&#039; Local - ECPv6.15.20//NONSGML v1.0//EN
CALSCALE:GREGORIAN
METHOD:PUBLISH
X-WR-CALNAME:Hamilton-Wentworth Elementary Teachers&#039; Local
X-ORIGINAL-URL:https://hwetl.ca
X-WR-CALDESC:Events for Hamilton-Wentworth Elementary Teachers&#039; Local
REFRESH-INTERVAL;VALUE=DURATION:PT1H
X-Robots-Tag:noindex
X-PUBLISHED-TTL:PT1H
BEGIN:VTIMEZONE
TZID:America/Toronto
BEGIN:DAYLIGHT
TZOFFSETFROM:-0500
TZOFFSETTO:-0400
TZNAME:EDT
DTSTART:20160313T070000
END:DAYLIGHT
BEGIN:STANDARD
TZOFFSETFROM:-0400
TZOFFSETTO:-0500
TZNAME:EST
DTSTART:20161106T060000
END:STANDARD
BEGIN:DAYLIGHT
TZOFFSETFROM:-0500
TZOFFSETTO:-0400
TZNAME:EDT
DTSTART:20170312T070000
END:DAYLIGHT
BEGIN:STANDARD
TZOFFSETFROM:-0400
TZOFFSETTO:-0500
TZNAME:EST
DTSTART:20171105T060000
END:STANDARD
BEGIN:DAYLIGHT
TZOFFSETFROM:-0500
TZOFFSETTO:-0400
TZNAME:EDT
DTSTART:20180311T070000
END:DAYLIGHT
BEGIN:STANDARD
TZOFFSETFROM:-0400
TZOFFSETTO:-0500
TZNAME:EST
DTSTART:20181104T060000
END:STANDARD
END:VTIMEZONE
BEGIN:VEVENT
DTSTART;TZID=America/Toronto:20171024T163000
DTEND;TZID=America/Toronto:20171024T190000
DTSTAMP:20260421T180729
CREATED:20170911T144132Z
LAST-MODIFIED:20201013T154122Z
UID:10000042-1508862600-1508871600@hwetl.ca
SUMMARY:Executive Meeting
DESCRIPTION:
URL:https://hwetl.ca/event/executive-meeting-13/
CATEGORIES:Meetings
END:VEVENT
BEGIN:VEVENT
DTSTART;TZID=America/Toronto:20171005T163000
DTEND;TZID=America/Toronto:20171005T183000
DTSTAMP:20260421T180730
CREATED:20170911T144024Z
LAST-MODIFIED:20170911T144024Z
UID:10000040-1507221000-1507228200@hwetl.ca
SUMMARY:ETFO TPA Workshop
DESCRIPTION:
URL:https://hwetl.ca/event/etfo-tpa-workshop/
END:VEVENT
BEGIN:VEVENT
DTSTART;TZID=America/Toronto:20171003T163000
DTEND;TZID=America/Toronto:20171003T183000
DTSTAMP:20260421T180730
CREATED:20170911T143719Z
LAST-MODIFIED:20201013T154122Z
UID:10000039-1507048200-1507055400@hwetl.ca
SUMMARY:Stewards' Meeting
DESCRIPTION:
URL:https://hwetl.ca/event/stewards-meeting/
CATEGORIES:Meetings
END:VEVENT
BEGIN:VEVENT
DTSTART;TZID=America/Toronto:20170926T163000
DTEND;TZID=America/Toronto:20170926T190000
DTSTAMP:20260421T180730
CREATED:20170911T143544Z
LAST-MODIFIED:20201013T154122Z
UID:10000037-1506443400-1506452400@hwetl.ca
SUMMARY:Executive Meeting
DESCRIPTION:
URL:https://hwetl.ca/event/executive-meeting-12/
CATEGORIES:Meetings
END:VEVENT
BEGIN:VEVENT
DTSTART;TZID=America/Toronto:20170913T160000
DTEND;TZID=America/Toronto:20170913T160000
DTSTAMP:20260421T180730
CREATED:20170911T143426Z
LAST-MODIFIED:20170911T143426Z
UID:10000035-1505318400-1505318400@hwetl.ca
SUMMARY:Status of Women Committee
DESCRIPTION:
URL:https://hwetl.ca/event/status-of-women-committee/
END:VEVENT
BEGIN:VEVENT
DTSTART;TZID=America/Toronto:20170912T163000
DTEND;TZID=America/Toronto:20170912T190000
DTSTAMP:20260421T180730
CREATED:20170911T141029Z
LAST-MODIFIED:20201013T154122Z
UID:10000030-1505233800-1505242800@hwetl.ca
SUMMARY:Steward Meeting
DESCRIPTION:
URL:https://hwetl.ca/event/steward-meeting-8/
CATEGORIES:Meetings
END:VEVENT
BEGIN:VEVENT
DTSTART;TZID=America/Toronto:20170911T160000
DTEND;TZID=America/Toronto:20170911T170000
DTSTAMP:20260421T180730
CREATED:20170911T143119Z
LAST-MODIFIED:20201013T154122Z
UID:10000033-1505145600-1505149200@hwetl.ca
SUMMARY:LGBTQ Committee Meeting
DESCRIPTION:
URL:https://hwetl.ca/event/lgbtq-committee-meeting/
CATEGORIES:Meetings
END:VEVENT
END:VCALENDAR