BEGIN:VCALENDAR
VERSION:2.0
PRODID:-//Hamilton-Wentworth Elementary Teachers&#039; Local - ECPv6.15.20//NONSGML v1.0//EN
CALSCALE:GREGORIAN
METHOD:PUBLISH
X-WR-CALNAME:Hamilton-Wentworth Elementary Teachers&#039; Local
X-ORIGINAL-URL:https://hwetl.ca
X-WR-CALDESC:Events for Hamilton-Wentworth Elementary Teachers&#039; Local
REFRESH-INTERVAL;VALUE=DURATION:PT1H
X-Robots-Tag:noindex
X-PUBLISHED-TTL:PT1H
BEGIN:VTIMEZONE
TZID:America/Toronto
BEGIN:DAYLIGHT
TZOFFSETFROM:-0500
TZOFFSETTO:-0400
TZNAME:EDT
DTSTART:20170312T070000
END:DAYLIGHT
BEGIN:STANDARD
TZOFFSETFROM:-0400
TZOFFSETTO:-0500
TZNAME:EST
DTSTART:20171105T060000
END:STANDARD
BEGIN:DAYLIGHT
TZOFFSETFROM:-0500
TZOFFSETTO:-0400
TZNAME:EDT
DTSTART:20180311T070000
END:DAYLIGHT
BEGIN:STANDARD
TZOFFSETFROM:-0400
TZOFFSETTO:-0500
TZNAME:EST
DTSTART:20181104T060000
END:STANDARD
BEGIN:DAYLIGHT
TZOFFSETFROM:-0500
TZOFFSETTO:-0400
TZNAME:EDT
DTSTART:20190310T070000
END:DAYLIGHT
BEGIN:STANDARD
TZOFFSETFROM:-0400
TZOFFSETTO:-0500
TZNAME:EST
DTSTART:20191103T060000
END:STANDARD
END:VTIMEZONE
BEGIN:VEVENT
DTSTART;TZID=America/Toronto:20180524T160000
DTEND;TZID=America/Toronto:20180524T173000
DTSTAMP:20260421T191854
CREATED:20180413T144344Z
LAST-MODIFIED:20201013T154120Z
UID:10000065-1527177600-1527183000@hwetl.ca
SUMMARY:ETFO AGM Prep Meeting
DESCRIPTION:
URL:https://hwetl.ca/event/etfo-agm-prep-meeting/
CATEGORIES:Meetings
END:VEVENT
BEGIN:VEVENT
DTSTART;VALUE=DATE:20180521
DTEND;VALUE=DATE:20180522
DTSTAMP:20260421T191854
CREATED:20171208T145007Z
LAST-MODIFIED:20171208T145008Z
UID:10000056-1526860800-1526947199@hwetl.ca
SUMMARY:Victoria Day
DESCRIPTION:
URL:https://hwetl.ca/event/victoria-day-2/
END:VEVENT
BEGIN:VEVENT
DTSTART;TZID=America/Toronto:20180516T160000
DTEND;TZID=America/Toronto:20180516T170000
DTSTAMP:20260421T191854
CREATED:20171208T144939Z
LAST-MODIFIED:20171208T144939Z
UID:10000055-1526486400-1526490000@hwetl.ca
SUMMARY:Status of Women Committee
DESCRIPTION:
URL:https://hwetl.ca/event/status-of-women-committee-4/
END:VEVENT
BEGIN:VEVENT
DTSTART;TZID=America/Toronto:20180515T163000
DTEND;TZID=America/Toronto:20180515T181500
DTSTAMP:20260421T191854
CREATED:20171208T144810Z
LAST-MODIFIED:20171208T144810Z
UID:10000053-1526401800-1526408100@hwetl.ca
SUMMARY:Pregnancy and Parental Workshop
DESCRIPTION:
URL:https://hwetl.ca/event/pregnancy-and-parental-workshop-2/
END:VEVENT
BEGIN:VEVENT
DTSTART;TZID=America/Toronto:20180508T163000
DTEND;TZID=America/Toronto:20180508T190000
DTSTAMP:20260421T191854
CREATED:20171208T144702Z
LAST-MODIFIED:20201013T154121Z
UID:10000052-1525797000-1525806000@hwetl.ca
SUMMARY:Annual General Meeting
DESCRIPTION:
URL:https://hwetl.ca/event/annual-general-meeting/
CATEGORIES:Meetings
END:VEVENT
BEGIN:VEVENT
DTSTART;TZID=America/Toronto:20180503T160000
DTEND;TZID=America/Toronto:20180503T183000
DTSTAMP:20260421T191854
CREATED:20180306T235545Z
LAST-MODIFIED:20201013T154121Z
UID:10000061-1525363200-1525372200@hwetl.ca
SUMMARY:Disability Issues Committee Meeting
DESCRIPTION:
URL:https://hwetl.ca/event/disability-issues-committee-meeting-2/
CATEGORIES:Meetings
END:VEVENT
BEGIN:VEVENT
DTSTART;TZID=America/Toronto:20180503T160000
DTEND;TZID=America/Toronto:20180503T183000
DTSTAMP:20260421T191854
CREATED:20180227T200608Z
LAST-MODIFIED:20180227T200608Z
UID:10000228-1525363200-1525372200@hwetl.ca
SUMMARY:Self- Care Workshop
DESCRIPTION:
URL:https://hwetl.ca/event/self-care-workshop/
END:VEVENT
BEGIN:VEVENT
DTSTART;TZID=America/Toronto:20180426T163000
DTEND;TZID=America/Toronto:20180426T180000
DTSTAMP:20260421T191854
CREATED:20180413T144213Z
LAST-MODIFIED:20201013T154120Z
UID:10000064-1524760200-1524765600@hwetl.ca
SUMMARY:Member Engagement Committee Meeting
DESCRIPTION:
URL:https://hwetl.ca/event/member-engagement-committee-meeting-2/
CATEGORIES:Meetings
END:VEVENT
BEGIN:VEVENT
DTSTART;TZID=America/Toronto:20180424T163000
DTEND;TZID=America/Toronto:20180424T190000
DTSTAMP:20260421T191854
CREATED:20171208T144607Z
LAST-MODIFIED:20201013T154121Z
UID:10000051-1524587400-1524596400@hwetl.ca
SUMMARY:Executive Meeting
DESCRIPTION:
URL:https://hwetl.ca/event/executive-meeting-19/
CATEGORIES:Meetings
END:VEVENT
BEGIN:VEVENT
DTSTART;TZID=America/Toronto:20180419T160000
DTEND;TZID=America/Toronto:20180419T173000
DTSTAMP:20260421T191854
CREATED:20180413T143950Z
LAST-MODIFIED:20201013T154120Z
UID:10000062-1524153600-1524159000@hwetl.ca
SUMMARY:Constitution and Elections Committee Meeting
DESCRIPTION:
URL:https://hwetl.ca/event/constitution-and-elections-committee-meeting-3/
CATEGORIES:Meetings
END:VEVENT
BEGIN:VEVENT
DTSTART;TZID=America/Toronto:20180418T160000
DTEND;TZID=America/Toronto:20180418T180000
DTSTAMP:20260421T191854
CREATED:20180227T185215Z
LAST-MODIFIED:20201013T154121Z
UID:10000226-1524067200-1524074400@hwetl.ca
SUMMARY:Status of Women Committee Meeting
DESCRIPTION:
URL:https://hwetl.ca/event/status-of-women-committee-meeting-10/
CATEGORIES:Meetings
END:VEVENT
BEGIN:VEVENT
DTSTART;TZID=America/Toronto:20180417T163000
DTEND;TZID=America/Toronto:20180417T183000
DTSTAMP:20260421T191854
CREATED:20180227T185757Z
LAST-MODIFIED:20180227T185757Z
UID:10000227-1523982600-1523989800@hwetl.ca
SUMMARY:Examining White Privilege Workshop
DESCRIPTION:
URL:https://hwetl.ca/event/examining-white-privilege-workshop/
END:VEVENT
BEGIN:VEVENT
DTSTART;TZID=America/Toronto:20180413T100000
DTEND;TZID=America/Toronto:20180413T123000
DTSTAMP:20260421T191854
CREATED:20180413T144111Z
LAST-MODIFIED:20180413T144111Z
UID:10000063-1523613600-1523622600@hwetl.ca
SUMMARY:EEP Royal Botanical Garden's Nature Walk
DESCRIPTION:
URL:https://hwetl.ca/event/eep-royal-botanical-gardens-nature-walk/
END:VEVENT
BEGIN:VEVENT
DTSTART;TZID=America/Toronto:20180410T163000
DTEND;TZID=America/Toronto:20180410T190000
DTSTAMP:20260421T191854
CREATED:20171208T144424Z
LAST-MODIFIED:20201013T154121Z
UID:10000050-1523377800-1523386800@hwetl.ca
SUMMARY:Workplace Stewards' Meeting
DESCRIPTION:
URL:https://hwetl.ca/event/workplace-stewards-meeting-3/
CATEGORIES:Meetings
END:VEVENT
BEGIN:VEVENT
DTSTART;TZID=America/Toronto:20180405T160000
DTEND;TZID=America/Toronto:20180405T180000
DTSTAMP:20260421T191854
CREATED:20180227T185019Z
LAST-MODIFIED:20201013T154121Z
UID:10000218-1522944000-1522951200@hwetl.ca
SUMMARY:Disability Issues Committee Meeting
DESCRIPTION:
URL:https://hwetl.ca/event/disability-issues-committee-meeting/
CATEGORIES:Meetings
END:VEVENT
BEGIN:VEVENT
DTSTART;TZID=America/Toronto:20180327T163000
DTEND;TZID=America/Toronto:20180327T190000
DTSTAMP:20260421T191854
CREATED:20171208T144327Z
LAST-MODIFIED:20201013T154121Z
UID:10000199-1522168200-1522177200@hwetl.ca
SUMMARY:Executive Meeting
DESCRIPTION:
URL:https://hwetl.ca/event/executive-meeting-18/
CATEGORIES:Meetings
END:VEVENT
BEGIN:VEVENT
DTSTART;TZID=America/Toronto:20180321T163000
DTEND;TZID=America/Toronto:20180321T183000
DTSTAMP:20260421T191854
CREATED:20171208T144243Z
LAST-MODIFIED:20171208T144243Z
UID:10000198-1521649800-1521657000@hwetl.ca
SUMMARY:Retirement Workshop
DESCRIPTION:
URL:https://hwetl.ca/event/retirement-workshop-3/
END:VEVENT
BEGIN:VEVENT
DTSTART;TZID=America/Toronto:20180321T160000
DTEND;TZID=America/Toronto:20180321T180000
DTSTAMP:20260421T191854
CREATED:20180227T184846Z
LAST-MODIFIED:20201013T154121Z
UID:10000207-1521648000-1521655200@hwetl.ca
SUMMARY:Status of Women Committee Meeting
DESCRIPTION:
URL:https://hwetl.ca/event/status-of-women-committee-meeting-9/
CATEGORIES:Meetings
END:VEVENT
BEGIN:VEVENT
DTSTART;TZID=America/Toronto:20180320T163000
DTEND;TZID=America/Toronto:20180320T173000
DTSTAMP:20260421T191854
CREATED:20180306T235348Z
LAST-MODIFIED:20201013T154121Z
UID:10000060-1521563400-1521567000@hwetl.ca
SUMMARY:Constitution and Elections Committee Meeting (Ad Hoc)
DESCRIPTION:
URL:https://hwetl.ca/event/constitution-and-elections-committee-meeting-ad-hoc/
CATEGORIES:Meetings
END:VEVENT
BEGIN:VEVENT
DTSTART;TZID=America/Toronto:20180319T160000
DTEND;TZID=America/Toronto:20180319T180000
DTSTAMP:20260421T191854
CREATED:20180123T135812Z
LAST-MODIFIED:20201013T154121Z
UID:10000203-1521475200-1521482400@hwetl.ca
SUMMARY:LGBTQ Committee Meeting
DESCRIPTION:
URL:https://hwetl.ca/event/lgbtq-committee-meeting-3/
CATEGORIES:Meetings
END:VEVENT
BEGIN:VEVENT
DTSTART;TZID=America/Toronto:20180312T080000
DTEND;TZID=America/Toronto:20180316T170000
DTSTAMP:20260421T191854
CREATED:20171208T144055Z
LAST-MODIFIED:20171208T144055Z
UID:10000197-1520841600-1521219600@hwetl.ca
SUMMARY:March Break
DESCRIPTION:
URL:https://hwetl.ca/event/march-break-2/
END:VEVENT
BEGIN:VEVENT
DTSTART;TZID=America/Toronto:20180306T163000
DTEND;TZID=America/Toronto:20180306T190000
DTSTAMP:20260421T191854
CREATED:20171208T144021Z
LAST-MODIFIED:20201013T154121Z
UID:10000196-1520353800-1520362800@hwetl.ca
SUMMARY:Workplace Stewards' Meeting
DESCRIPTION:
URL:https://hwetl.ca/event/workplace-stewards-meeting-2/
CATEGORIES:Meetings
END:VEVENT
BEGIN:VEVENT
DTSTART;VALUE=DATE:20180302
DTEND;VALUE=DATE:20180303
DTSTAMP:20260421T191854
CREATED:20171208T143939Z
LAST-MODIFIED:20171208T143939Z
UID:10000195-1519948800-1520035199@hwetl.ca
SUMMARY:P.A. Day
DESCRIPTION:
URL:https://hwetl.ca/event/p-a-day-2/
END:VEVENT
BEGIN:VEVENT
DTSTART;TZID=America/Toronto:20180227T163000
DTEND;TZID=America/Toronto:20180227T190000
DTSTAMP:20260421T191854
CREATED:20171208T143903Z
LAST-MODIFIED:20201013T154121Z
UID:10000193-1519749000-1519758000@hwetl.ca
SUMMARY:Executive Meeting
DESCRIPTION:
URL:https://hwetl.ca/event/executive-meeting-17/
CATEGORIES:Meetings
END:VEVENT
BEGIN:VEVENT
DTSTART;TZID=America/Toronto:20180226T180000
DTEND;TZID=America/Toronto:20180227T200000
DTSTAMP:20260421T191854
CREATED:20180227T184656Z
LAST-MODIFIED:20180227T184656Z
UID:10000205-1519668000-1519761600@hwetl.ca
SUMMARY:Environment\, Equity and Peace
DESCRIPTION:
URL:https://hwetl.ca/event/environment-equity-and-peace/
LOCATION:WAHC
END:VEVENT
BEGIN:VEVENT
DTSTART;TZID=America/Toronto:20180221T160000
DTEND;TZID=America/Toronto:20180221T170000
DTSTAMP:20260421T191854
CREATED:20171208T143821Z
LAST-MODIFIED:20171208T143821Z
UID:10000191-1519228800-1519232400@hwetl.ca
SUMMARY:Status of Women Committee
DESCRIPTION:
URL:https://hwetl.ca/event/status-of-women-committee-2/
END:VEVENT
BEGIN:VEVENT
DTSTART;TZID=America/Toronto:20180220T160000
DTEND;TZID=America/Toronto:20180220T170000
DTSTAMP:20260421T191854
CREATED:20180123T135620Z
LAST-MODIFIED:20201013T154121Z
UID:10000202-1519142400-1519146000@hwetl.ca
SUMMARY:Constitution and Elections Committee Meeting
DESCRIPTION:
URL:https://hwetl.ca/event/constitution-and-elections-committee-meeting-2/
CATEGORIES:Meetings
END:VEVENT
BEGIN:VEVENT
DTSTART;VALUE=DATE:20180219
DTEND;VALUE=DATE:20180220
DTSTAMP:20260421T191854
CREATED:20171208T143747Z
LAST-MODIFIED:20171208T143748Z
UID:10000190-1518998400-1519084799@hwetl.ca
SUMMARY:Family Day
DESCRIPTION:
URL:https://hwetl.ca/event/family-day-2/
END:VEVENT
BEGIN:VEVENT
DTSTART;TZID=America/Toronto:20180212T163000
DTEND;TZID=America/Toronto:20180212T180000
DTSTAMP:20260421T191854
CREATED:20180123T135432Z
LAST-MODIFIED:20201013T154121Z
UID:10000201-1518453000-1518458400@hwetl.ca
SUMMARY:Environment\, Equity and Peace Committee Meeting
DESCRIPTION:
URL:https://hwetl.ca/event/environment-equity-and-peace-committee-meeting/
CATEGORIES:Meetings
END:VEVENT
BEGIN:VEVENT
DTSTART;TZID=America/Toronto:20180206T163000
DTEND;TZID=America/Toronto:20180206T190000
DTSTAMP:20260421T191854
CREATED:20171208T143722Z
LAST-MODIFIED:20201013T154121Z
UID:10000188-1517934600-1517943600@hwetl.ca
SUMMARY:Winter General Meeting
DESCRIPTION:
URL:https://hwetl.ca/event/winter-general-meeting-2/
CATEGORIES:Meetings
END:VEVENT
END:VCALENDAR