BEGIN:VCALENDAR
VERSION:2.0
PRODID:-//Hamilton-Wentworth Elementary Teachers&#039; Local - ECPv6.15.13.1//NONSGML v1.0//EN
CALSCALE:GREGORIAN
METHOD:PUBLISH
X-WR-CALNAME:Hamilton-Wentworth Elementary Teachers&#039; Local
X-ORIGINAL-URL:https://hwetl.ca
X-WR-CALDESC:Events for Hamilton-Wentworth Elementary Teachers&#039; Local
REFRESH-INTERVAL;VALUE=DURATION:PT1H
X-Robots-Tag:noindex
X-PUBLISHED-TTL:PT1H
BEGIN:VTIMEZONE
TZID:America/Toronto
BEGIN:DAYLIGHT
TZOFFSETFROM:-0500
TZOFFSETTO:-0400
TZNAME:EDT
DTSTART:20220313T070000
END:DAYLIGHT
BEGIN:STANDARD
TZOFFSETFROM:-0400
TZOFFSETTO:-0500
TZNAME:EST
DTSTART:20221106T060000
END:STANDARD
BEGIN:DAYLIGHT
TZOFFSETFROM:-0500
TZOFFSETTO:-0400
TZNAME:EDT
DTSTART:20230312T070000
END:DAYLIGHT
BEGIN:STANDARD
TZOFFSETFROM:-0400
TZOFFSETTO:-0500
TZNAME:EST
DTSTART:20231105T060000
END:STANDARD
BEGIN:DAYLIGHT
TZOFFSETFROM:-0500
TZOFFSETTO:-0400
TZNAME:EDT
DTSTART:20240310T070000
END:DAYLIGHT
BEGIN:STANDARD
TZOFFSETFROM:-0400
TZOFFSETTO:-0500
TZNAME:EST
DTSTART:20241103T060000
END:STANDARD
END:VTIMEZONE
BEGIN:VEVENT
DTSTART;TZID=America/Toronto:20230322T190000
DTEND;TZID=America/Toronto:20230322T200000
DTSTAMP:20260419T203146
CREATED:20230203T172122Z
LAST-MODIFIED:20230203T172124Z
UID:10000513-1679511600-1679515200@hwetl.ca
SUMMARY:Virtual Yoga
DESCRIPTION:CLICK ON THE BELOW POSTER TO REGISTER. ZOOM LINK WILL BE SENT OUT THE DAY BEFORE.
URL:https://hwetl.ca/event/virtual-yoga-2/
LOCATION:Via Zoom
END:VEVENT
BEGIN:VEVENT
DTSTART;TZID=America/Toronto:20230322T163000
DTEND;TZID=America/Toronto:20230322T180000
DTSTAMP:20260419T203146
CREATED:20220929T193542Z
LAST-MODIFIED:20220929T193544Z
UID:10000393-1679502600-1679508000@hwetl.ca
SUMMARY:Budget Committee Meeting
DESCRIPTION:
URL:https://hwetl.ca/event/budget-committee-meeting-10/
LOCATION:ON
END:VEVENT
BEGIN:VEVENT
DTSTART;TZID=America/Toronto:20230320T163000
DTEND;TZID=America/Toronto:20230320T180000
DTSTAMP:20260419T203146
CREATED:20230207T143826Z
LAST-MODIFIED:20230207T143828Z
UID:10000517-1679329800-1679335200@hwetl.ca
SUMMARY:Constitution & Elections Committee Meeting
DESCRIPTION:Contact Carleigh to join! office@hwetl.ca
URL:https://hwetl.ca/event/constitution-elections-committee-meeting-6/
LOCATION:ON
END:VEVENT
BEGIN:VEVENT
DTSTART;TZID=America/Toronto:20230309T193000
DTEND;TZID=America/Toronto:20230309T220000
DTSTAMP:20260419T203146
CREATED:20230222T175730Z
LAST-MODIFIED:20230222T175732Z
UID:10000518-1678390200-1678399200@hwetl.ca
SUMMARY:International Woman's Day Laugh Your Lips Off Comedy Event
DESCRIPTION:CLICK ON THE BELOW POSTER TO REGISTER
URL:https://hwetl.ca/event/international-womans-day-laugh-your-lips-off-comedy-event/
LOCATION:Collective Arts Brewing\, 207 Burlington St E\, Hamilton\, ON\, L8L 4H2\, Canada
END:VEVENT
BEGIN:VEVENT
DTSTART;TZID=America/Toronto:20230308T190000
DTEND;TZID=America/Toronto:20230308T200000
DTSTAMP:20260419T203146
CREATED:20230203T171934Z
LAST-MODIFIED:20230203T171937Z
UID:10000512-1678302000-1678305600@hwetl.ca
SUMMARY:Virtual Yoga
DESCRIPTION:CLICK ON THE BELOW POSTER TO REGISTER. ZOOM LINK TO BE SENT OUT THE DAY BEFORE.
URL:https://hwetl.ca/event/virtual-yoga/
LOCATION:Via Zoom
END:VEVENT
BEGIN:VEVENT
DTSTART;TZID=America/Toronto:20230307T163000
DTEND;TZID=America/Toronto:20230307T190000
DTSTAMP:20260419T203146
CREATED:20221216T200021Z
LAST-MODIFIED:20221216T200024Z
UID:10000486-1678206600-1678215600@hwetl.ca
SUMMARY:Workplace Stewards Meeting
DESCRIPTION:Liuna Station – King George Room
URL:https://hwetl.ca/event/workplace-stewards-meeting-10/
LOCATION:ON
END:VEVENT
BEGIN:VEVENT
DTSTART;TZID=America/Toronto:20230302T160000
DTEND;TZID=America/Toronto:20230302T190000
DTSTAMP:20260419T203146
CREATED:20230117T202554Z
LAST-MODIFIED:20230117T202556Z
UID:10000502-1677772800-1677783600@hwetl.ca
SUMMARY:PEEP Movie Night (Entire office booked)
DESCRIPTION:
URL:https://hwetl.ca/event/peep-movie-night-entire-office-booked/
LOCATION:ON
END:VEVENT
BEGIN:VEVENT
DTSTART;TZID=America/Toronto:20230301T163000
DTEND;TZID=America/Toronto:20230301T180000
DTSTAMP:20260419T203146
CREATED:20230130T150139Z
LAST-MODIFIED:20230203T171600Z
UID:10000511-1677688200-1677693600@hwetl.ca
SUMMARY:Member Engagement Committee Meeting
DESCRIPTION:Email office@hwetl.ca to join!
URL:https://hwetl.ca/event/member-engagement-committee-meeting-11/
LOCATION:ON
END:VEVENT
BEGIN:VEVENT
DTSTART;TZID=America/Toronto:20230301T163000
DTEND;TZID=America/Toronto:20230301T180000
DTSTAMP:20260419T203146
CREATED:20220929T193506Z
LAST-MODIFIED:20220929T193508Z
UID:10000413-1677688200-1677693600@hwetl.ca
SUMMARY:Budget Committee Meeting
DESCRIPTION:
URL:https://hwetl.ca/event/budget-committee-meeting-9/
LOCATION:ON
END:VEVENT
BEGIN:VEVENT
DTSTART;TZID=America/Toronto:20230228T163000
DTEND;TZID=America/Toronto:20230228T190000
DTSTAMP:20260419T203146
CREATED:20221216T195919Z
LAST-MODIFIED:20221216T195921Z
UID:10000485-1677601800-1677610800@hwetl.ca
SUMMARY:Executive Meeting
DESCRIPTION:
URL:https://hwetl.ca/event/executive-meeting-54/
LOCATION:ON
END:VEVENT
BEGIN:VEVENT
DTSTART;TZID=America/Toronto:20230227T163000
DTEND;TZID=America/Toronto:20230227T180000
DTSTAMP:20260419T203146
CREATED:20230227T162632Z
LAST-MODIFIED:20230227T162633Z
UID:10000521-1677515400-1677520800@hwetl.ca
SUMMARY:Disability Issues Committee Meeting
DESCRIPTION:
URL:https://hwetl.ca/event/disability-issues-committee-meeting-11/
LOCATION:ON
END:VEVENT
BEGIN:VEVENT
DTSTART;TZID=America/Toronto:20230227T163000
DTEND;TZID=America/Toronto:20230227T180000
DTSTAMP:20260419T203146
CREATED:20230226T215849Z
LAST-MODIFIED:20230226T215851Z
UID:10000520-1677515400-1677520800@hwetl.ca
SUMMARY:Staffing Workshop
DESCRIPTION:Register here for the HWETL Staffing Workshop\, happening at 4:30 PM tomorrow\, Monday\, February 27th\, 2023 via Zoom.  \n\n\n\nTomorrow\, just ahead of the workshop\, we will send a link via email that you can use to join the virtual meeting.
URL:https://hwetl.ca/event/staffing-workshop-4/
LOCATION:ON
END:VEVENT
BEGIN:VEVENT
DTSTART;TZID=America/Toronto:20230223T080000
DTEND;TZID=America/Toronto:20230223T200000
DTSTAMP:20260419T203146
CREATED:20230130T142926Z
LAST-MODIFIED:20230130T142928Z
UID:10000510-1677139200-1677182400@hwetl.ca
SUMMARY:HWETL OFFICE FULLY BOOKED
DESCRIPTION:
URL:https://hwetl.ca/event/hwetl-office-fully-booked/
LOCATION:ON
END:VEVENT
BEGIN:VEVENT
DTSTART;TZID=America/Toronto:20230222T163000
DTEND;TZID=America/Toronto:20230222T200000
DTSTAMP:20260419T203146
CREATED:20230124T155135Z
LAST-MODIFIED:20230210T184112Z
UID:10000507-1677083400-1677096000@hwetl.ca
SUMMARY:HWETL OFFICE/ROOMS BOOKED
DESCRIPTION:
URL:https://hwetl.ca/event/hwetl-rooms-booked/
LOCATION:ON
END:VEVENT
BEGIN:VEVENT
DTSTART;TZID=America/Toronto:20230222T163000
DTEND;TZID=America/Toronto:20230222T180000
DTSTAMP:20260419T203146
CREATED:20230117T202351Z
LAST-MODIFIED:20230117T202353Z
UID:10000500-1677083400-1677088800@hwetl.ca
SUMMARY:PEEP Committee Meeting
DESCRIPTION:
URL:https://hwetl.ca/event/peep-committee-meeting-5/
LOCATION:ON
END:VEVENT
BEGIN:VEVENT
DTSTART;TZID=America/Toronto:20230221T163000
DTEND;TZID=America/Toronto:20230221T183000
DTSTAMP:20260419T203146
CREATED:20220908T181114Z
LAST-MODIFIED:20230127T180655Z
UID:10000464-1676997000-1677004200@hwetl.ca
SUMMARY:Pregnancy & Parental Leave Workshop
DESCRIPTION:CLICK HERE TO REGISTER
URL:https://hwetl.ca/event/pregnancy-parental-leave-workshop-4/
LOCATION:ON
END:VEVENT
BEGIN:VEVENT
DTSTART;TZID=America/Toronto:20230216T170000
DTEND;TZID=America/Toronto:20230216T190000
DTSTAMP:20260419T203146
CREATED:20230124T155210Z
LAST-MODIFIED:20230124T155211Z
UID:10000508-1676566800-1676574000@hwetl.ca
SUMMARY:HDLC Committee Meeting
DESCRIPTION:
URL:https://hwetl.ca/event/hdlc-committee-meeting-4/
LOCATION:ON
END:VEVENT
BEGIN:VEVENT
DTSTART;TZID=America/Toronto:20230213T163000
DTEND;TZID=America/Toronto:20230213T180000
DTSTAMP:20260419T203146
CREATED:20230117T202450Z
LAST-MODIFIED:20230117T202453Z
UID:10000501-1676305800-1676311200@hwetl.ca
SUMMARY:2SLGBTQ+ Committee Meeting
DESCRIPTION:
URL:https://hwetl.ca/event/2slgbtq-committee-meeting-3/
LOCATION:ON
END:VEVENT
BEGIN:VEVENT
DTSTART;TZID=America/Toronto:20230207T163000
DTEND;TZID=America/Toronto:20230207T190000
DTSTAMP:20260419T203146
CREATED:20221103T173604Z
LAST-MODIFIED:20221103T173606Z
UID:10000339-1675787400-1675796400@hwetl.ca
SUMMARY:Winter General Meeting
DESCRIPTION:CLICK HERE TO REGISTER
URL:https://hwetl.ca/event/winter-general-meeting-4/
LOCATION:ON
END:VEVENT
BEGIN:VEVENT
DTSTART;TZID=America/Toronto:20230206T163000
DTEND;TZID=America/Toronto:20230206T183000
DTSTAMP:20260419T203146
CREATED:20221216T195811Z
LAST-MODIFIED:20221216T195813Z
UID:10000484-1675701000-1675708200@hwetl.ca
SUMMARY:Constitution & Elections Committee Meeting
DESCRIPTION:
URL:https://hwetl.ca/event/constitution-elections-committee-meeting-5/
LOCATION:ON
END:VEVENT
BEGIN:VEVENT
DTSTART;TZID=America/Toronto:20230131T080000
DTEND;TZID=America/Toronto:20230131T170000
DTSTAMP:20260419T203146
CREATED:20230124T154958Z
LAST-MODIFIED:20230124T155000Z
UID:10000506-1675152000-1675184400@hwetl.ca
SUMMARY:HWETL BOOKED ENTIRE DAY!
DESCRIPTION:
URL:https://hwetl.ca/event/hwetl-booked-entire-day/
LOCATION:ON
END:VEVENT
BEGIN:VEVENT
DTSTART;TZID=America/Toronto:20230124T163000
DTEND;TZID=America/Toronto:20230124T190000
DTSTAMP:20260419T203146
CREATED:20221216T195641Z
LAST-MODIFIED:20221216T195643Z
UID:10000483-1674577800-1674586800@hwetl.ca
SUMMARY:Executive Meeting
DESCRIPTION:
URL:https://hwetl.ca/event/executive-meeting-53/
LOCATION:ON
END:VEVENT
BEGIN:VEVENT
DTSTART;TZID=America/Toronto:20230123T163000
DTEND;TZID=America/Toronto:20230123T180000
DTSTAMP:20260419T203146
CREATED:20230109T170454Z
LAST-MODIFIED:20230109T170456Z
UID:10000497-1674491400-1674496800@hwetl.ca
SUMMARY:Health & Safety Committee Meeting
DESCRIPTION:
URL:https://hwetl.ca/event/health-safety-committee-meeting-5/
LOCATION:ON
END:VEVENT
BEGIN:VEVENT
DTSTART;TZID=America/Toronto:20230123T160000
DTEND;TZID=America/Toronto:20230123T180000
DTSTAMP:20260419T203146
CREATED:20230109T170411Z
LAST-MODIFIED:20230109T170734Z
UID:10000496-1674489600-1674496800@hwetl.ca
SUMMARY:Disability Issues Committee Meeting
DESCRIPTION:
URL:https://hwetl.ca/event/disability-issues-committee-meeting-9/
LOCATION:ON
END:VEVENT
BEGIN:VEVENT
DTSTART;TZID=America/Toronto:20230119T163000
DTEND;TZID=America/Toronto:20230119T193000
DTSTAMP:20260419T203146
CREATED:20221216T193950Z
LAST-MODIFIED:20221216T193953Z
UID:10000482-1674145800-1674156600@hwetl.ca
SUMMARY:HWETL OFFICE NOT AVAILABLE
DESCRIPTION:
URL:https://hwetl.ca/event/hwetl-office-not-available/
LOCATION:ON
END:VEVENT
BEGIN:VEVENT
DTSTART;TZID=America/Toronto:20230119T160000
DTEND;TZID=America/Toronto:20230119T200000
DTSTAMP:20260419T203146
CREATED:20230119T193239Z
LAST-MODIFIED:20230119T193241Z
UID:10000505-1674144000-1674158400@hwetl.ca
SUMMARY:HWETL OFFICE BOOKED
DESCRIPTION:
URL:https://hwetl.ca/event/hwetl-office-booked/
LOCATION:ON
END:VEVENT
BEGIN:VEVENT
DTSTART;TZID=America/Toronto:20230118T163000
DTEND;TZID=America/Toronto:20230118T183000
DTSTAMP:20260419T203146
CREATED:20221216T193906Z
LAST-MODIFIED:20221216T193909Z
UID:10000481-1674059400-1674066600@hwetl.ca
SUMMARY:Status of Women Committee Meeting
DESCRIPTION:
URL:https://hwetl.ca/event/status-of-women-committee-meeting-25/
LOCATION:ON
END:VEVENT
BEGIN:VEVENT
DTSTART;TZID=America/Toronto:20230118T163000
DTEND;TZID=America/Toronto:20230118T180000
DTSTAMP:20260419T203146
CREATED:20220929T193430Z
LAST-MODIFIED:20220929T193431Z
UID:10000427-1674059400-1674064800@hwetl.ca
SUMMARY:Budget Committee Meeting
DESCRIPTION:
URL:https://hwetl.ca/event/budget-committee-meeting-8/
LOCATION:ON
END:VEVENT
BEGIN:VEVENT
DTSTART;TZID=America/Toronto:20230117T163000
DTEND;TZID=America/Toronto:20230117T180000
DTSTAMP:20260419T203146
CREATED:20230111T144024Z
LAST-MODIFIED:20230111T144029Z
UID:10000499-1673973000-1673978400@hwetl.ca
SUMMARY:Disability Issues Committee Meeting
DESCRIPTION:
URL:https://hwetl.ca/event/disability-issues-committee-meeting-10/
LOCATION:ON
END:VEVENT
BEGIN:VEVENT
DTSTART;TZID=America/Toronto:20230117T163000
DTEND;TZID=America/Toronto:20230117T173000
DTSTAMP:20260419T203146
CREATED:20221216T203127Z
LAST-MODIFIED:20221216T203129Z
UID:10000494-1673973000-1673976600@hwetl.ca
SUMMARY:Member Engagement Committee Meeting
DESCRIPTION:
URL:https://hwetl.ca/event/member-engagement-committee-meeting-10/
LOCATION:ON
END:VEVENT
END:VCALENDAR