BEGIN:VCALENDAR
VERSION:2.0
PRODID:-//Hamilton-Wentworth Elementary Teachers&#039; Local - ECPv6.15.13.1//NONSGML v1.0//EN
CALSCALE:GREGORIAN
METHOD:PUBLISH
X-WR-CALNAME:Hamilton-Wentworth Elementary Teachers&#039; Local
X-ORIGINAL-URL:https://hwetl.ca
X-WR-CALDESC:Events for Hamilton-Wentworth Elementary Teachers&#039; Local
REFRESH-INTERVAL;VALUE=DURATION:PT1H
X-Robots-Tag:noindex
X-PUBLISHED-TTL:PT1H
BEGIN:VTIMEZONE
TZID:America/Toronto
BEGIN:DAYLIGHT
TZOFFSETFROM:-0500
TZOFFSETTO:-0400
TZNAME:EDT
DTSTART:20210314T070000
END:DAYLIGHT
BEGIN:STANDARD
TZOFFSETFROM:-0400
TZOFFSETTO:-0500
TZNAME:EST
DTSTART:20211107T060000
END:STANDARD
BEGIN:DAYLIGHT
TZOFFSETFROM:-0500
TZOFFSETTO:-0400
TZNAME:EDT
DTSTART:20220313T070000
END:DAYLIGHT
BEGIN:STANDARD
TZOFFSETFROM:-0400
TZOFFSETTO:-0500
TZNAME:EST
DTSTART:20221106T060000
END:STANDARD
BEGIN:DAYLIGHT
TZOFFSETFROM:-0500
TZOFFSETTO:-0400
TZNAME:EDT
DTSTART:20230312T070000
END:DAYLIGHT
BEGIN:STANDARD
TZOFFSETFROM:-0400
TZOFFSETTO:-0500
TZNAME:EST
DTSTART:20231105T060000
END:STANDARD
BEGIN:DAYLIGHT
TZOFFSETFROM:-0500
TZOFFSETTO:-0400
TZNAME:EDT
DTSTART:20240310T070000
END:DAYLIGHT
BEGIN:STANDARD
TZOFFSETFROM:-0400
TZOFFSETTO:-0500
TZNAME:EST
DTSTART:20241103T060000
END:STANDARD
END:VTIMEZONE
BEGIN:VEVENT
DTSTART;TZID=America/Toronto:20230119T163000
DTEND;TZID=America/Toronto:20230119T193000
DTSTAMP:20260419T221436
CREATED:20221216T193950Z
LAST-MODIFIED:20221216T193953Z
UID:10000482-1674145800-1674156600@hwetl.ca
SUMMARY:HWETL OFFICE NOT AVAILABLE
DESCRIPTION:
URL:https://hwetl.ca/event/hwetl-office-not-available/
LOCATION:ON
END:VEVENT
BEGIN:VEVENT
DTSTART;TZID=America/Toronto:20230119T160000
DTEND;TZID=America/Toronto:20230119T200000
DTSTAMP:20260419T221436
CREATED:20230119T193239Z
LAST-MODIFIED:20230119T193241Z
UID:10000505-1674144000-1674158400@hwetl.ca
SUMMARY:HWETL OFFICE BOOKED
DESCRIPTION:
URL:https://hwetl.ca/event/hwetl-office-booked/
LOCATION:ON
END:VEVENT
BEGIN:VEVENT
DTSTART;TZID=America/Toronto:20230118T163000
DTEND;TZID=America/Toronto:20230118T183000
DTSTAMP:20260419T221436
CREATED:20221216T193906Z
LAST-MODIFIED:20221216T193909Z
UID:10000481-1674059400-1674066600@hwetl.ca
SUMMARY:Status of Women Committee Meeting
DESCRIPTION:
URL:https://hwetl.ca/event/status-of-women-committee-meeting-25/
LOCATION:ON
END:VEVENT
BEGIN:VEVENT
DTSTART;TZID=America/Toronto:20230118T163000
DTEND;TZID=America/Toronto:20230118T180000
DTSTAMP:20260419T221436
CREATED:20220929T193430Z
LAST-MODIFIED:20220929T193431Z
UID:10000427-1674059400-1674064800@hwetl.ca
SUMMARY:Budget Committee Meeting
DESCRIPTION:
URL:https://hwetl.ca/event/budget-committee-meeting-8/
LOCATION:ON
END:VEVENT
BEGIN:VEVENT
DTSTART;TZID=America/Toronto:20230117T163000
DTEND;TZID=America/Toronto:20230117T180000
DTSTAMP:20260419T221436
CREATED:20230111T144024Z
LAST-MODIFIED:20230111T144029Z
UID:10000499-1673973000-1673978400@hwetl.ca
SUMMARY:Disability Issues Committee Meeting
DESCRIPTION:
URL:https://hwetl.ca/event/disability-issues-committee-meeting-10/
LOCATION:ON
END:VEVENT
BEGIN:VEVENT
DTSTART;TZID=America/Toronto:20230117T163000
DTEND;TZID=America/Toronto:20230117T173000
DTSTAMP:20260419T221436
CREATED:20221216T203127Z
LAST-MODIFIED:20221216T203129Z
UID:10000494-1673973000-1673976600@hwetl.ca
SUMMARY:Member Engagement Committee Meeting
DESCRIPTION:
URL:https://hwetl.ca/event/member-engagement-committee-meeting-10/
LOCATION:ON
END:VEVENT
BEGIN:VEVENT
DTSTART;TZID=America/Toronto:20230116T163000
DTEND;TZID=America/Toronto:20230116T183000
DTSTAMP:20260419T221436
CREATED:20230110T184953Z
LAST-MODIFIED:20230110T184955Z
UID:10000498-1673886600-1673893800@hwetl.ca
SUMMARY:PEEP Committee Meeting
DESCRIPTION:
URL:https://hwetl.ca/event/peep-committee-meeting-4/
LOCATION:ON
END:VEVENT
BEGIN:VEVENT
DTSTART;TZID=America/Toronto:20230111T163000
DTEND;TZID=America/Toronto:20230111T183000
DTSTAMP:20260419T221436
CREATED:20221216T193714Z
LAST-MODIFIED:20221216T193716Z
UID:10000480-1673454600-1673461800@hwetl.ca
SUMMARY:LGBTQ2SI+ Committee Meeting
DESCRIPTION:
URL:https://hwetl.ca/event/lgbtq2si-committee-meeting-5/
LOCATION:ON
END:VEVENT
BEGIN:VEVENT
DTSTART;TZID=America/Toronto:20230110T163000
DTEND;TZID=America/Toronto:20230110T190000
DTSTAMP:20260419T221436
CREATED:20221216T193541Z
LAST-MODIFIED:20221216T193543Z
UID:10000479-1673368200-1673377200@hwetl.ca
SUMMARY:Workplace Steward Meeting
DESCRIPTION:Liuna Station – King George Room
URL:https://hwetl.ca/event/workplace-steward-meeting-9/
LOCATION:ON
END:VEVENT
BEGIN:VEVENT
DTSTART;TZID=America/Toronto:20221220T120000
DTEND;TZID=America/Toronto:20221220T170000
DTSTAMP:20260419T221436
CREATED:20220913T140144Z
LAST-MODIFIED:20220913T140146Z
UID:10000470-1671537600-1671555600@hwetl.ca
SUMMARY:Executive Meeting
DESCRIPTION:
URL:https://hwetl.ca/event/executive-meeting-52/
LOCATION:ON
END:VEVENT
BEGIN:VEVENT
DTSTART;TZID=America/Toronto:20221215T160000
DTEND;TZID=America/Toronto:20221215T190000
DTSTAMP:20260419T221436
CREATED:20221124T195612Z
LAST-MODIFIED:20221124T195615Z
UID:10000478-1671120000-1671130800@hwetl.ca
SUMMARY:ROOM NOT AVAILABLE
DESCRIPTION:
URL:https://hwetl.ca/event/room-not-available/
LOCATION:ON
END:VEVENT
BEGIN:VEVENT
DTSTART;TZID=America/Toronto:20221213T163000
DTEND;TZID=America/Toronto:20221213T190000
DTSTAMP:20260419T221436
CREATED:20220913T140106Z
LAST-MODIFIED:20220913T140108Z
UID:10000469-1670949000-1670958000@hwetl.ca
SUMMARY:Awards Ceremony & New Teacher Induction
DESCRIPTION:MORE INFORMATION COMING SOON!
URL:https://hwetl.ca/event/awards-ceremony-new-teacher-induction-3/
LOCATION:ON
END:VEVENT
BEGIN:VEVENT
DTSTART;TZID=America/Toronto:20221209T160000
DTEND;TZID=America/Toronto:20221209T180000
DTSTAMP:20260419T221436
CREATED:20221216T203238Z
LAST-MODIFIED:20221216T203240Z
UID:10000495-1670601600-1670608800@hwetl.ca
SUMMARY:P.O.E.T.S. NIGHT!
DESCRIPTION:
URL:https://hwetl.ca/event/p-o-e-t-s-night/
LOCATION:ON
END:VEVENT
BEGIN:VEVENT
DTSTART;TZID=America/Toronto:20221207T163000
DTEND;TZID=America/Toronto:20221207T180000
DTSTAMP:20260419T221436
CREATED:20221122T151821Z
LAST-MODIFIED:20221122T151825Z
UID:10000476-1670430600-1670436000@hwetl.ca
SUMMARY:LGBTQ2SI+ Committee Meeting
DESCRIPTION:email office@hwetl.ca to register!
URL:https://hwetl.ca/event/lgbtq2si-committee-meeting-4/
LOCATION:ON
END:VEVENT
BEGIN:VEVENT
DTSTART;TZID=America/Toronto:20221206T163000
DTEND;TZID=America/Toronto:20221206T173000
DTSTAMP:20260419T221436
CREATED:20220913T135959Z
LAST-MODIFIED:20220913T140000Z
UID:10000468-1670344200-1670347800@hwetl.ca
SUMMARY:Steward Drop-In
DESCRIPTION:
URL:https://hwetl.ca/event/steward-drop-in/
LOCATION:ON
END:VEVENT
BEGIN:VEVENT
DTSTART;TZID=America/Toronto:20221129T163000
DTEND;TZID=America/Toronto:20221129T183000
DTSTAMP:20260419T221436
CREATED:20220908T180553Z
LAST-MODIFIED:20220908T180554Z
UID:10000462-1669739400-1669746600@hwetl.ca
SUMMARY:Pregnancy & Parental Leave Workshop
DESCRIPTION:CLICK ON THE BELOW POSTER TO REGISTER
URL:https://hwetl.ca/event/pregnancy-parental-leave-workshop-3/
LOCATION:ON
END:VEVENT
BEGIN:VEVENT
DTSTART;TZID=America/Toronto:20221128T163000
DTEND;TZID=America/Toronto:20221128T180000
DTSTAMP:20260419T221436
CREATED:20221122T151932Z
LAST-MODIFIED:20221122T151937Z
UID:10000477-1669653000-1669658400@hwetl.ca
SUMMARY:Member Engagement Committee Meeting
DESCRIPTION:email Carleigh at office@hwetl.ca to register!
URL:https://hwetl.ca/event/member-engagement-committee-meeting-9/
LOCATION:ON
END:VEVENT
BEGIN:VEVENT
DTSTART;TZID=America/Toronto:20221128T163000
DTEND;TZID=America/Toronto:20221128T170000
DTSTAMP:20260419T221436
CREATED:20221103T173922Z
LAST-MODIFIED:20221103T173925Z
UID:10000320-1669653000-1669654800@hwetl.ca
SUMMARY:Professional Development Committee Meeting
DESCRIPTION:CLICK HERE to Register
URL:https://hwetl.ca/event/professional-development-committee-meeting/
LOCATION:ON
END:VEVENT
BEGIN:VEVENT
DTSTART;TZID=America/Toronto:20221123T163000
DTEND;TZID=America/Toronto:20221123T173000
DTSTAMP:20260419T221436
CREATED:20221011T140155Z
LAST-MODIFIED:20221011T140157Z
UID:10000286-1669221000-1669224600@hwetl.ca
SUMMARY:Constitutions & Elections Committee Meeting
DESCRIPTION:
URL:https://hwetl.ca/event/constitutions-elections-committee-meeting-2/
LOCATION:ON
END:VEVENT
BEGIN:VEVENT
DTSTART;TZID=America/Toronto:20221122T163000
DTEND;TZID=America/Toronto:20221122T173000
DTSTAMP:20260419T221436
CREATED:20221031T141750Z
LAST-MODIFIED:20221031T141752Z
UID:10000356-1669134600-1669138200@hwetl.ca
SUMMARY:Executive Committee Meeting
DESCRIPTION:
URL:https://hwetl.ca/event/executive-committee-meeting/
LOCATION:ON
END:VEVENT
BEGIN:VEVENT
DTSTART;TZID=America/Toronto:20221121T163000
DTEND;TZID=America/Toronto:20221121T193000
DTSTAMP:20260419T221436
CREATED:20221011T140108Z
LAST-MODIFIED:20221012T154952Z
UID:10000284-1669048200-1669059000@hwetl.ca
SUMMARY:HWETL SPACE NOT AVAILABILE
DESCRIPTION:
URL:https://hwetl.ca/event/hwetl-space-not-availabile-2/
LOCATION:ON
END:VEVENT
BEGIN:VEVENT
DTSTART;TZID=America/Toronto:20221116T163000
DTEND;TZID=America/Toronto:20221116T183000
DTSTAMP:20260419T221436
CREATED:20221020T132908Z
LAST-MODIFIED:20221020T132910Z
UID:10000292-1668616200-1668623400@hwetl.ca
SUMMARY:Status of Women Committee Meeting
DESCRIPTION:
URL:https://hwetl.ca/event/status-of-women-committee-meeting-24/
LOCATION:ON
END:VEVENT
BEGIN:VEVENT
DTSTART;TZID=America/Toronto:20221116T163000
DTEND;TZID=America/Toronto:20221116T180000
DTSTAMP:20260419T221436
CREATED:20220929T193353Z
LAST-MODIFIED:20220929T193354Z
UID:10000445-1668616200-1668621600@hwetl.ca
SUMMARY:Budget Committee Meeting
DESCRIPTION:
URL:https://hwetl.ca/event/budget-committee-meeting-7/
LOCATION:ON
END:VEVENT
BEGIN:VEVENT
DTSTART;TZID=America/Toronto:20221115T163000
DTEND;TZID=America/Toronto:20221115T183000
DTSTAMP:20260419T221436
CREATED:20221020T131709Z
LAST-MODIFIED:20221020T131712Z
UID:10000291-1668529800-1668537000@hwetl.ca
SUMMARY:LGBTQ2SI+ Committee Meeting
DESCRIPTION:
URL:https://hwetl.ca/event/lgbtq2si-committee-meeting-3/
LOCATION:ON
END:VEVENT
BEGIN:VEVENT
DTSTART;TZID=America/Toronto:20221114T160000
DTEND;TZID=America/Toronto:20221114T180000
DTSTAMP:20260419T221436
CREATED:20220913T133304Z
LAST-MODIFIED:20220913T133306Z
UID:10000461-1668441600-1668448800@hwetl.ca
SUMMARY:Retirement Workshop
DESCRIPTION:CLICK ON THE BELOW POSTER TO REGISTER
URL:https://hwetl.ca/event/retirement-workshop-7/
LOCATION:ON
END:VEVENT
BEGIN:VEVENT
DTSTART;TZID=America/Toronto:20221110T160000
DTEND;TZID=America/Toronto:20221110T170000
DTSTAMP:20260419T221436
CREATED:20221021T193756Z
LAST-MODIFIED:20221021T193758Z
UID:10000293-1668096000-1668099600@hwetl.ca
SUMMARY:HWETL SPACE NOT AVAILABLE
DESCRIPTION:
URL:https://hwetl.ca/event/hwetl-space-not-available/
LOCATION:ON
END:VEVENT
BEGIN:VEVENT
DTSTART;TZID=America/Toronto:20221108T163000
DTEND;TZID=America/Toronto:20221108T190000
DTSTAMP:20260419T221436
CREATED:20220907T151105Z
LAST-MODIFIED:20220908T182303Z
UID:10000460-1667925000-1667934000@hwetl.ca
SUMMARY:Fall General Meeting
DESCRIPTION:CLICK ON THE BELOW POSTER TO REGISTER
URL:https://hwetl.ca/event/fall-general-meeting-3/
LOCATION:ON
END:VEVENT
BEGIN:VEVENT
DTSTART;TZID=America/Toronto:20221103T163000
DTEND;TZID=America/Toronto:20221103T180000
DTSTAMP:20260419T221436
CREATED:20221012T175556Z
LAST-MODIFIED:20221012T175558Z
UID:10000289-1667493000-1667498400@hwetl.ca
SUMMARY:PEEP Committee Meeting
DESCRIPTION:
URL:https://hwetl.ca/event/peep-committee-meeting-3/
LOCATION:ON
END:VEVENT
BEGIN:VEVENT
DTSTART;TZID=America/Toronto:20221101T163000
DTEND;TZID=America/Toronto:20221101T183000
DTSTAMP:20260419T221436
CREATED:20221018T132215Z
LAST-MODIFIED:20221018T132217Z
UID:10000290-1667320200-1667327400@hwetl.ca
SUMMARY:Disability Issues Committee Meeting
DESCRIPTION:
URL:https://hwetl.ca/event/disability-issues-committee-meeting-8/
LOCATION:ON
END:VEVENT
BEGIN:VEVENT
DTSTART;TZID=America/Toronto:20221101T163000
DTEND;TZID=America/Toronto:20221101T173000
DTSTAMP:20260419T221436
CREATED:20221031T140849Z
LAST-MODIFIED:20221031T140852Z
UID:10000375-1667320200-1667323800@hwetl.ca
SUMMARY:Member Engagement Committee
DESCRIPTION:
URL:https://hwetl.ca/event/member-engagement-committee/
LOCATION:ON
END:VEVENT
END:VCALENDAR