BEGIN:VCALENDAR
VERSION:2.0
PRODID:-//Hamilton-Wentworth Elementary Teachers&#039; Local - ECPv6.15.13.1//NONSGML v1.0//EN
CALSCALE:GREGORIAN
METHOD:PUBLISH
X-WR-CALNAME:Hamilton-Wentworth Elementary Teachers&#039; Local
X-ORIGINAL-URL:https://hwetl.ca
X-WR-CALDESC:Events for Hamilton-Wentworth Elementary Teachers&#039; Local
REFRESH-INTERVAL;VALUE=DURATION:PT1H
X-Robots-Tag:noindex
X-PUBLISHED-TTL:PT1H
BEGIN:VTIMEZONE
TZID:America/Toronto
BEGIN:DAYLIGHT
TZOFFSETFROM:-0500
TZOFFSETTO:-0400
TZNAME:EDT
DTSTART:20210314T070000
END:DAYLIGHT
BEGIN:STANDARD
TZOFFSETFROM:-0400
TZOFFSETTO:-0500
TZNAME:EST
DTSTART:20211107T060000
END:STANDARD
BEGIN:DAYLIGHT
TZOFFSETFROM:-0500
TZOFFSETTO:-0400
TZNAME:EDT
DTSTART:20220313T070000
END:DAYLIGHT
BEGIN:STANDARD
TZOFFSETFROM:-0400
TZOFFSETTO:-0500
TZNAME:EST
DTSTART:20221106T060000
END:STANDARD
BEGIN:DAYLIGHT
TZOFFSETFROM:-0500
TZOFFSETTO:-0400
TZNAME:EDT
DTSTART:20230312T070000
END:DAYLIGHT
BEGIN:STANDARD
TZOFFSETFROM:-0400
TZOFFSETTO:-0500
TZNAME:EST
DTSTART:20231105T060000
END:STANDARD
END:VTIMEZONE
BEGIN:VEVENT
DTSTART;TZID=America/Toronto:20220531T163000
DTEND;TZID=America/Toronto:20220531T173000
DTSTAMP:20260419T221349
CREATED:20220511T181915Z
LAST-MODIFIED:20220511T185727Z
UID:10000263-1654014600-1654018200@hwetl.ca
SUMMARY:Staffing Workshop
DESCRIPTION:CLICK HERE TO REGISTER
URL:https://hwetl.ca/event/staffing-workshop-2/
LOCATION:Via Zoom
END:VEVENT
BEGIN:VEVENT
DTSTART;TZID=America/Toronto:20220524T193000
DTEND;TZID=America/Toronto:20220524T203000
DTSTAMP:20260419T221349
CREATED:20220404T144339Z
LAST-MODIFIED:20220404T144340Z
UID:10000448-1653420600-1653424200@hwetl.ca
SUMMARY:Mindful Movement
DESCRIPTION:
URL:https://hwetl.ca/event/mindful-movement-2/
LOCATION:Via Zoom
END:VEVENT
BEGIN:VEVENT
DTSTART;TZID=America/Toronto:20220524T163000
DTEND;TZID=America/Toronto:20220524T193000
DTSTAMP:20260419T221349
CREATED:20210623T152241Z
LAST-MODIFIED:20210914T134229Z
UID:10000216-1653409800-1653420600@hwetl.ca
SUMMARY:Executive Meeting
DESCRIPTION:
URL:https://hwetl.ca/event/executive-meeting-46/2022-05-24/
LOCATION:Via Zoom
END:VEVENT
BEGIN:VEVENT
DTSTART;TZID=America/Toronto:20220524T123000
DTEND;TZID=America/Toronto:20220524T163000
DTSTAMP:20260419T221349
CREATED:20210623T153037Z
LAST-MODIFIED:20211214T134645Z
UID:10000221-1653395400-1653409800@hwetl.ca
SUMMARY:Executive Meeting
DESCRIPTION:
URL:https://hwetl.ca/event/executive-meeting-47/
END:VEVENT
BEGIN:VEVENT
DTSTART;TZID=America/Toronto:20220517T193000
DTEND;TZID=America/Toronto:20220517T203000
DTSTAMP:20260419T221349
CREATED:20220404T144010Z
LAST-MODIFIED:20220404T144012Z
UID:10000446-1652815800-1652819400@hwetl.ca
SUMMARY:Mindful Movement
DESCRIPTION:
URL:https://hwetl.ca/event/mindful-movement/
LOCATION:Via Zoom
END:VEVENT
BEGIN:VEVENT
DTSTART;TZID=America/Toronto:20220510T163000
DTEND;TZID=America/Toronto:20220510T193000
DTSTAMP:20260419T221349
CREATED:20210623T154217Z
LAST-MODIFIED:20220301T210056Z
UID:10000412-1652200200-1652211000@hwetl.ca
SUMMARY:Annual General Meeting
DESCRIPTION:CLICK ON THE BELOW POSTER TO REGISTER
URL:https://hwetl.ca/event/annual-general-meeting-2/
LOCATION:Via Zoom
END:VEVENT
BEGIN:VEVENT
DTSTART;TZID=America/Toronto:20220504T163000
DTEND;TZID=America/Toronto:20220504T180000
DTSTAMP:20260419T221349
CREATED:20220404T143732Z
LAST-MODIFIED:20220404T143733Z
UID:10000444-1651681800-1651687200@hwetl.ca
SUMMARY:Disability Issues Committee Meeting
DESCRIPTION:
URL:https://hwetl.ca/event/disability-issues-committee-meeting-6/
END:VEVENT
BEGIN:VEVENT
DTSTART;TZID=America/Toronto:20220503T163000
DTEND;TZID=America/Toronto:20220503T183000
DTSTAMP:20260419T221349
CREATED:20210914T161900Z
LAST-MODIFIED:20210914T161904Z
UID:10000421-1651595400-1651602600@hwetl.ca
SUMMARY:Pregnancy and Parental Leave Workshop
DESCRIPTION:CLICK ON THE ABOVE POSTER TO REGISTER
URL:https://hwetl.ca/event/pregnancy-and-parental-leave-workshop-10/
LOCATION:Via Zoom
END:VEVENT
BEGIN:VEVENT
DTSTART;TZID=America/Toronto:20220501T130000
DTEND;TZID=America/Toronto:20220501T160000
DTSTAMP:20260419T221349
CREATED:20220412T160203Z
LAST-MODIFIED:20220412T160204Z
UID:10000454-1651410000-1651420800@hwetl.ca
SUMMARY:May Day @ Gage Park
DESCRIPTION:CLICK ON THE BELOW POSTER TO REGISTER
URL:https://hwetl.ca/event/may-day-gage-park/
LOCATION:Gage Park\, 1000 Main Street East\, Hamilton\, Canada
END:VEVENT
BEGIN:VEVENT
DTSTART;TZID=America/Toronto:20220426T163000
DTEND;TZID=America/Toronto:20220426T193000
DTSTAMP:20260419T221349
CREATED:20210623T152241Z
LAST-MODIFIED:20210914T134229Z
UID:10000215-1650990600-1651001400@hwetl.ca
SUMMARY:Executive Meeting
DESCRIPTION:
URL:https://hwetl.ca/event/executive-meeting-46/2022-04-26/
LOCATION:Via Zoom
END:VEVENT
BEGIN:VEVENT
DTSTART;TZID=America/Toronto:20220420T163000
DTEND;TZID=America/Toronto:20220420T180000
DTSTAMP:20260419T221349
CREATED:20220414T170239Z
LAST-MODIFIED:20220414T170240Z
UID:10000453-1650472200-1650477600@hwetl.ca
SUMMARY:Status of Women Committee Meeting
DESCRIPTION:
URL:https://hwetl.ca/event/status-of-women-committee-meeting-21/
END:VEVENT
BEGIN:VEVENT
DTSTART;TZID=America/Toronto:20220420T163000
DTEND;TZID=America/Toronto:20220420T180000
DTSTAMP:20260419T221349
CREATED:20220412T160447Z
LAST-MODIFIED:20220412T160448Z
UID:10000455-1650472200-1650477600@hwetl.ca
SUMMARY:Provincial Election Subcommittee Meeting
DESCRIPTION:
URL:https://hwetl.ca/event/provincial-election-subcommittee-meeting/
LOCATION:Via Zoom
END:VEVENT
BEGIN:VEVENT
DTSTART;TZID=America/Toronto:20220419T163000
DTEND;TZID=America/Toronto:20220419T183000
DTSTAMP:20260419T221349
CREATED:20211105T185128Z
LAST-MODIFIED:20220412T160512Z
UID:10000435-1650385800-1650393000@hwetl.ca
SUMMARY:Misconceptions about Indigenous Peoples Workshop
DESCRIPTION:CLICK HERE to Register
URL:https://hwetl.ca/event/misconceptions-about-indigenous-peoples-workshop/
END:VEVENT
BEGIN:VEVENT
DTSTART;TZID=America/Toronto:20220412T163000
DTEND;TZID=America/Toronto:20220412T193000
DTSTAMP:20260419T221349
CREATED:20210623T153923Z
LAST-MODIFIED:20210914T141533Z
UID:10000409-1649781000-1649791800@hwetl.ca
SUMMARY:Workplace Steward Meeting
DESCRIPTION:
URL:https://hwetl.ca/event/workplace-steward-meeting-8/
LOCATION:Via Zoom
END:VEVENT
BEGIN:VEVENT
DTSTART;TZID=America/Toronto:20220411T163000
DTEND;TZID=America/Toronto:20220411T180000
DTSTAMP:20260419T221349
CREATED:20220401T155550Z
LAST-MODIFIED:20220401T155550Z
UID:10000443-1649694600-1649700000@hwetl.ca
SUMMARY:Staffing Workshop: Surplus\, Transfers\, Repatriation
DESCRIPTION:CLICK HERE TO REGISTER
URL:https://hwetl.ca/event/staffing-workshop-surplus-transfers-repatriation/
END:VEVENT
BEGIN:VEVENT
DTSTART;TZID=America/Toronto:20220404T160000
DTEND;TZID=America/Toronto:20220404T180000
DTSTAMP:20260419T221349
CREATED:20220208T221241Z
LAST-MODIFIED:20220321T195455Z
UID:10000430-1649088000-1649095200@hwetl.ca
SUMMARY:CANCELLED - Retirement Workshop
DESCRIPTION:THIS EVENT HAS BEEN CANCELLED. WE WILL SEND OUT INFO WHEN A NEW DATE HAS BEEN BOOKED.
URL:https://hwetl.ca/event/retirement-workshop-6/
END:VEVENT
BEGIN:VEVENT
DTSTART;TZID=America/Toronto:20220331T163000
DTEND;TZID=America/Toronto:20220331T180000
DTSTAMP:20260419T221349
CREATED:20220321T135854Z
LAST-MODIFIED:20220321T135855Z
UID:10000442-1648744200-1648749600@hwetl.ca
SUMMARY:Disability Issues Committee Meeting
DESCRIPTION:
URL:https://hwetl.ca/event/disability-issues-committee-meeting-5/
END:VEVENT
BEGIN:VEVENT
DTSTART;TZID=America/Toronto:20220329T163000
DTEND;TZID=America/Toronto:20220329T193000
DTSTAMP:20260419T221349
CREATED:20211109T173953Z
LAST-MODIFIED:20211214T134600Z
UID:10000244-1648571400-1648582200@hwetl.ca
SUMMARY:Executive Meeting
DESCRIPTION:
URL:https://hwetl.ca/event/executive-meeting-48/
END:VEVENT
BEGIN:VEVENT
DTSTART;TZID=America/Toronto:20220328T163000
DTEND;TZID=America/Toronto:20220328T190000
DTSTAMP:20260419T221349
CREATED:20220303T181719Z
LAST-MODIFIED:20220303T192214Z
UID:10000441-1648485000-1648494000@hwetl.ca
SUMMARY:Candidate Information Night
DESCRIPTION:CLICK ON THE BELOW POSTER TO REGISTER \n\n\n\n\n\n\n\nNOMINATION FORMS CAN BE FOUND BY CLICKING HERE
URL:https://hwetl.ca/event/candidate-information-night/
END:VEVENT
BEGIN:VEVENT
DTSTART;TZID=America/Toronto:20220325T163000
DTEND;TZID=America/Toronto:20220325T183000
DTSTAMP:20260419T221349
CREATED:20220426T191003Z
LAST-MODIFIED:20220426T191005Z
UID:10000254-1648225800-1648233000@hwetl.ca
SUMMARY:Constitutions & Elections Committee Meeting
DESCRIPTION:
URL:https://hwetl.ca/event/constitutions-elections-committee-meeting/
END:VEVENT
BEGIN:VEVENT
DTSTART;TZID=America/Toronto:20220322T163000
DTEND;TZID=America/Toronto:20220322T193000
DTSTAMP:20260419T221349
CREATED:20210623T152241Z
LAST-MODIFIED:20210914T134229Z
UID:10000214-1647966600-1647977400@hwetl.ca
SUMMARY:Executive Meeting
DESCRIPTION:
URL:https://hwetl.ca/event/executive-meeting-46/2022-03-22/
LOCATION:Via Zoom
END:VEVENT
BEGIN:VEVENT
DTSTART;TZID=America/Toronto:20220322T163000
DTEND;TZID=America/Toronto:20220322T183000
DTSTAMP:20260419T221349
CREATED:20211105T185036Z
LAST-MODIFIED:20211109T165652Z
UID:10000433-1647966600-1647973800@hwetl.ca
SUMMARY:Name it Understanding Anti-Black Racism Workshop
DESCRIPTION:CLICK HERE to Register
URL:https://hwetl.ca/event/name-it-understanding-anti-black-racism-workshop/
END:VEVENT
BEGIN:VEVENT
DTSTART;TZID=America/Toronto:20220321T161500
DTEND;TZID=America/Toronto:20220321T173000
DTSTAMP:20260419T221349
CREATED:20220223T200744Z
LAST-MODIFIED:20220303T201910Z
UID:10000440-1647879300-1647883800@hwetl.ca
SUMMARY:Budget Committee Meeting
DESCRIPTION:
URL:https://hwetl.ca/event/budget-committee-meeting-4/
END:VEVENT
BEGIN:VEVENT
DTSTART;TZID=America/Toronto:20220309T163000
DTEND;TZID=America/Toronto:20220309T180000
DTSTAMP:20260419T221349
CREATED:20220426T191058Z
LAST-MODIFIED:20220426T191059Z
UID:10000256-1646843400-1646848800@hwetl.ca
SUMMARY:2SLGBTQ+ Meeting
DESCRIPTION:
URL:https://hwetl.ca/event/2slgbtq-meeting/
END:VEVENT
BEGIN:VEVENT
DTSTART;TZID=America/Toronto:20220308T190000
DTEND;TZID=America/Toronto:20220308T220000
DTSTAMP:20260419T221349
CREATED:20211105T190252Z
LAST-MODIFIED:20220223T201224Z
UID:10000234-1646766000-1646776800@hwetl.ca
SUMMARY:Member Engagement Trivia Night!
DESCRIPTION:CLICK HERE TO REGISTER
URL:https://hwetl.ca/event/member-engagement-trivia-night/
END:VEVENT
BEGIN:VEVENT
DTSTART;TZID=America/Toronto:20220304T190000
DTEND;TZID=America/Toronto:20220304T220000
DTSTAMP:20260419T221349
CREATED:20220223T195257Z
LAST-MODIFIED:20220223T195258Z
UID:10000438-1646420400-1646431200@hwetl.ca
SUMMARY:'Hand Her the Mic' Virtual Comedy Show
DESCRIPTION:CLICK HERE to Register
URL:https://hwetl.ca/event/hand-her-the-mic-virtual-comedy-show/
END:VEVENT
BEGIN:VEVENT
DTSTART;TZID=America/Toronto:20220302T161500
DTEND;TZID=America/Toronto:20220302T173000
DTSTAMP:20260419T221349
CREATED:20220223T195501Z
LAST-MODIFIED:20220223T195502Z
UID:10000439-1646237700-1646242200@hwetl.ca
SUMMARY:Budget Committee Meeting
DESCRIPTION:
URL:https://hwetl.ca/event/budget-committee-meeting-3/
END:VEVENT
BEGIN:VEVENT
DTSTART;TZID=America/Toronto:20220301T163000
DTEND;TZID=America/Toronto:20220301T170000
DTSTAMP:20260419T221349
CREATED:20210623T153339Z
LAST-MODIFIED:20210914T141437Z
UID:10000408-1646152200-1646154000@hwetl.ca
SUMMARY:Workplace Steward Meeting
DESCRIPTION:
URL:https://hwetl.ca/event/workplace-steward-meeting-7-2022-03-01/
LOCATION:Via Zoom
END:VEVENT
BEGIN:VEVENT
DTSTART;TZID=America/Toronto:20220228T163000
DTEND;TZID=America/Toronto:20220228T180000
DTSTAMP:20260419T221349
CREATED:20220426T191256Z
LAST-MODIFIED:20220426T191257Z
UID:10000259-1646065800-1646071200@hwetl.ca
SUMMARY:Health & Safety Committee Meeting
DESCRIPTION:
URL:https://hwetl.ca/event/health-safety-committee-meeting-4/
LOCATION:Via Zoom
END:VEVENT
BEGIN:VEVENT
DTSTART;TZID=America/Toronto:20220223T163000
DTEND;TZID=America/Toronto:20220223T180000
DTSTAMP:20260419T221349
CREATED:20220209T171537Z
LAST-MODIFIED:20220215T162402Z
UID:10000428-1645633800-1645639200@hwetl.ca
SUMMARY:Status of Women Committee Meeting
DESCRIPTION:
URL:https://hwetl.ca/event/status-of-women-committee-meeting-20/
END:VEVENT
END:VCALENDAR