BEGIN:VCALENDAR
VERSION:2.0
PRODID:-//Hamilton-Wentworth Elementary Teachers&#039; Local - ECPv6.15.20//NONSGML v1.0//EN
CALSCALE:GREGORIAN
METHOD:PUBLISH
X-WR-CALNAME:Hamilton-Wentworth Elementary Teachers&#039; Local
X-ORIGINAL-URL:https://hwetl.ca
X-WR-CALDESC:Events for Hamilton-Wentworth Elementary Teachers&#039; Local
REFRESH-INTERVAL;VALUE=DURATION:PT1H
X-Robots-Tag:noindex
X-PUBLISHED-TTL:PT1H
BEGIN:VTIMEZONE
TZID:America/Toronto
BEGIN:DAYLIGHT
TZOFFSETFROM:-0500
TZOFFSETTO:-0400
TZNAME:EDT
DTSTART:20170312T070000
END:DAYLIGHT
BEGIN:STANDARD
TZOFFSETFROM:-0400
TZOFFSETTO:-0500
TZNAME:EST
DTSTART:20171105T060000
END:STANDARD
BEGIN:DAYLIGHT
TZOFFSETFROM:-0500
TZOFFSETTO:-0400
TZNAME:EDT
DTSTART:20180311T070000
END:DAYLIGHT
BEGIN:STANDARD
TZOFFSETFROM:-0400
TZOFFSETTO:-0500
TZNAME:EST
DTSTART:20181104T060000
END:STANDARD
BEGIN:DAYLIGHT
TZOFFSETFROM:-0500
TZOFFSETTO:-0400
TZNAME:EDT
DTSTART:20190310T070000
END:DAYLIGHT
BEGIN:STANDARD
TZOFFSETFROM:-0400
TZOFFSETTO:-0500
TZNAME:EST
DTSTART:20191103T060000
END:STANDARD
END:VTIMEZONE
BEGIN:VEVENT
DTSTART;TZID=America/Toronto:20180606T160000
DTEND;TZID=America/Toronto:20180606T173000
DTSTAMP:20260425T121043
CREATED:20180413T144540Z
LAST-MODIFIED:20201013T154120Z
UID:10000066-1528300800-1528306200@hwetl.ca
SUMMARY:ETFO AGM Preparation Meeting
DESCRIPTION:
URL:https://hwetl.ca/event/etfo-agm-preparation-meeting/
LOCATION:ON
CATEGORIES:Meetings
END:VEVENT
BEGIN:VEVENT
DTSTART;VALUE=DATE:20180608
DTEND;VALUE=DATE:20180609
DTSTAMP:20260425T121043
CREATED:20171208T145037Z
LAST-MODIFIED:20171208T145037Z
UID:10000057-1528416000-1528502399@hwetl.ca
SUMMARY:PA Day
DESCRIPTION:
URL:https://hwetl.ca/event/pa-day-8/
LOCATION:ON
END:VEVENT
BEGIN:VEVENT
DTSTART;TZID=America/Toronto:20180613T160000
DTEND;TZID=America/Toronto:20180613T170000
DTSTAMP:20260425T121043
CREATED:20171208T145156Z
LAST-MODIFIED:20171208T145156Z
UID:10000058-1528905600-1528909200@hwetl.ca
SUMMARY:Status of Women Committee
DESCRIPTION:
URL:https://hwetl.ca/event/status-of-women-committee-5/
LOCATION:ON
END:VEVENT
BEGIN:VEVENT
DTSTART;TZID=America/Toronto:20180613T160000
DTEND;TZID=America/Toronto:20180613T180000
DTSTAMP:20260425T121043
CREATED:20180529T211533Z
LAST-MODIFIED:20201013T154120Z
UID:10000067-1528905600-1528912800@hwetl.ca
SUMMARY:Awards Committee Meeting
DESCRIPTION:
URL:https://hwetl.ca/event/awards-committee-meeting/
LOCATION:ON
CATEGORIES:Meetings
END:VEVENT
BEGIN:VEVENT
DTSTART;TZID=America/Toronto:20180614T180000
DTEND;TZID=America/Toronto:20180614T210000
DTSTAMP:20260425T121043
CREATED:20171208T145302Z
LAST-MODIFIED:20171208T145800Z
UID:10000059-1528999200-1529010000@hwetl.ca
SUMMARY:Retirement Social - Michelangelo's
DESCRIPTION:
URL:https://hwetl.ca/event/retirement-social-michelangelos/
LOCATION:ON
END:VEVENT
BEGIN:VEVENT
DTSTART;TZID=America/Toronto:20180626T163000
DTEND;TZID=America/Toronto:20180626T190000
DTSTAMP:20260425T121043
CREATED:20171208T145335Z
LAST-MODIFIED:20201013T154121Z
UID:10000200-1530030600-1530039600@hwetl.ca
SUMMARY:Executive Meeting
DESCRIPTION:
URL:https://hwetl.ca/event/executive-meeting-21/
LOCATION:ON
CATEGORIES:Meetings
END:VEVENT
END:VCALENDAR