BEGIN:VCALENDAR
VERSION:2.0
PRODID:-//Hamilton-Wentworth Elementary Teachers&#039; Local - ECPv6.15.20//NONSGML v1.0//EN
CALSCALE:GREGORIAN
METHOD:PUBLISH
X-ORIGINAL-URL:https://hwetl.ca
X-WR-CALDESC:Events for Hamilton-Wentworth Elementary Teachers&#039; Local
REFRESH-INTERVAL;VALUE=DURATION:PT1H
X-Robots-Tag:noindex
X-PUBLISHED-TTL:PT1H
BEGIN:VTIMEZONE
TZID:America/Toronto
BEGIN:DAYLIGHT
TZOFFSETFROM:-0500
TZOFFSETTO:-0400
TZNAME:EDT
DTSTART:20170312T070000
END:DAYLIGHT
BEGIN:STANDARD
TZOFFSETFROM:-0400
TZOFFSETTO:-0500
TZNAME:EST
DTSTART:20171105T060000
END:STANDARD
BEGIN:DAYLIGHT
TZOFFSETFROM:-0500
TZOFFSETTO:-0400
TZNAME:EDT
DTSTART:20180311T070000
END:DAYLIGHT
BEGIN:STANDARD
TZOFFSETFROM:-0400
TZOFFSETTO:-0500
TZNAME:EST
DTSTART:20181104T060000
END:STANDARD
BEGIN:DAYLIGHT
TZOFFSETFROM:-0500
TZOFFSETTO:-0400
TZNAME:EDT
DTSTART:20190310T070000
END:DAYLIGHT
BEGIN:STANDARD
TZOFFSETFROM:-0400
TZOFFSETTO:-0500
TZNAME:EST
DTSTART:20191103T060000
END:STANDARD
END:VTIMEZONE
BEGIN:VEVENT
DTSTART;TZID=America/Toronto:20180903T100000
DTEND;TZID=America/Toronto:20180903T130000
DTSTAMP:20260425T063955
CREATED:20180903T151943Z
LAST-MODIFIED:20180903T151943Z
UID:10000258-1535968800-1535979600@hwetl.ca
SUMMARY:Labour Day Parade
DESCRIPTION:Assemble at 10:00 am on Stuart St at Tiffany \nCelebration to follow at Bayfront Park (approx. 11:30 am) \nFood and entertainment for kids! Bring your family and friends
URL:https://hwetl.ca/event/labour-day-parade-2/
LOCATION:ON
END:VEVENT
BEGIN:VEVENT
DTSTART;TZID=America/Toronto:20180911T163000
DTEND;TZID=America/Toronto:20180911T183000
DTSTAMP:20260425T063955
CREATED:20180903T145026Z
LAST-MODIFIED:20201013T154120Z
UID:10000069-1536683400-1536690600@hwetl.ca
SUMMARY:Workplace Stewards Meeting
DESCRIPTION:
URL:https://hwetl.ca/event/workplace-stewards-meeting-5/
LOCATION:ON
CATEGORIES:Meetings
END:VEVENT
BEGIN:VEVENT
DTSTART;TZID=America/Toronto:20180920T163000
DTEND;TZID=America/Toronto:20180920T173000
DTSTAMP:20260425T063955
CREATED:20180912T230221Z
LAST-MODIFIED:20201013T154119Z
UID:10000086-1537461000-1537464600@hwetl.ca
SUMMARY:HWETL Awards Committee Meeting
DESCRIPTION:
URL:https://hwetl.ca/event/hwetl-awards-committee-meeting/
LOCATION:ON
CATEGORIES:Meetings
END:VEVENT
BEGIN:VEVENT
DTSTART;TZID=America/Toronto:20180925T163000
DTEND;TZID=America/Toronto:20180925T193000
DTSTAMP:20260425T063955
CREATED:20180903T150441Z
LAST-MODIFIED:20201013T154120Z
UID:10000241-1537893000-1537903800@hwetl.ca
SUMMARY:Executive Meeting
DESCRIPTION:
URL:https://hwetl.ca/event/executive-meeting-23/
LOCATION:ON
CATEGORIES:Meetings
END:VEVENT
END:VCALENDAR