BEGIN:VCALENDAR
VERSION:2.0
PRODID:-//Hamilton-Wentworth Elementary Teachers&#039; Local - ECPv6.15.20//NONSGML v1.0//EN
CALSCALE:GREGORIAN
METHOD:PUBLISH
X-WR-CALNAME:Hamilton-Wentworth Elementary Teachers&#039; Local
X-ORIGINAL-URL:https://hwetl.ca
X-WR-CALDESC:Events for Hamilton-Wentworth Elementary Teachers&#039; Local
REFRESH-INTERVAL;VALUE=DURATION:PT1H
X-Robots-Tag:noindex
X-PUBLISHED-TTL:PT1H
BEGIN:VTIMEZONE
TZID:America/Toronto
BEGIN:DAYLIGHT
TZOFFSETFROM:-0500
TZOFFSETTO:-0400
TZNAME:EDT
DTSTART:20180311T070000
END:DAYLIGHT
BEGIN:STANDARD
TZOFFSETFROM:-0400
TZOFFSETTO:-0500
TZNAME:EST
DTSTART:20181104T060000
END:STANDARD
BEGIN:DAYLIGHT
TZOFFSETFROM:-0500
TZOFFSETTO:-0400
TZNAME:EDT
DTSTART:20190310T070000
END:DAYLIGHT
BEGIN:STANDARD
TZOFFSETFROM:-0400
TZOFFSETTO:-0500
TZNAME:EST
DTSTART:20191103T060000
END:STANDARD
BEGIN:DAYLIGHT
TZOFFSETFROM:-0500
TZOFFSETTO:-0400
TZNAME:EDT
DTSTART:20200308T070000
END:DAYLIGHT
BEGIN:STANDARD
TZOFFSETFROM:-0400
TZOFFSETTO:-0500
TZNAME:EST
DTSTART:20201101T060000
END:STANDARD
END:VTIMEZONE
BEGIN:VEVENT
DTSTART;TZID=America/Toronto:20190108T163000
DTEND;TZID=America/Toronto:20190108T183000
DTSTAMP:20260425T001519
CREATED:20180903T145410Z
LAST-MODIFIED:20201013T154120Z
UID:10000230-1546965000-1546972200@hwetl.ca
SUMMARY:Workplace Steward Meeting
DESCRIPTION:
URL:https://hwetl.ca/event/workplace-steward-meeting-2/
LOCATION:ON
CATEGORIES:Meetings
END:VEVENT
BEGIN:VEVENT
DTSTART;TZID=America/Toronto:20190116T160000
DTEND;TZID=America/Toronto:20190116T173000
DTSTAMP:20260425T001519
CREATED:20181104T141920Z
LAST-MODIFIED:20201013T154119Z
UID:10000274-1547654400-1547659800@hwetl.ca
SUMMARY:Status of Women Committee Meeting
DESCRIPTION:
URL:https://hwetl.ca/event/status-of-women-committee-meeting-13/
LOCATION:ON
CATEGORIES:Meetings
END:VEVENT
BEGIN:VEVENT
DTSTART;TZID=America/Toronto:20190116T163000
DTEND;TZID=America/Toronto:20190116T180000
DTSTAMP:20260425T001519
CREATED:20181209T133159Z
LAST-MODIFIED:20181209T203330Z
UID:10000109-1547656200-1547661600@hwetl.ca
SUMMARY:365 ETFO Black Canadian Curriculum Workshop
DESCRIPTION:This practical and timely workshop provides resources and supports for educators to deliver Primary\, Junior and Intermediate Curriculum\, which outlines the contributions\, struggles and lived experiences of Black Canadians. The 365 ETFO Black Canadian Curriculum resource supports the inclusion of Black Canadians into classroom and teaching practice every day of the year. The workshop balances history and research with ongoing reflection\,application and collaboration to help educators make intentional\, purposeful and positive decisions in the classroom\, while inspiring students to succeed. \nHWETL details: This workshop will run from 4:30 to 6:00 pm; Light dinner will be available by 4:00 pm.  Please let us know if you have allergies or dietary restrictions.  To register\, click HERE\, or call the HWETL office at (905) 318-2771 or email Cindy Gangaram directly.  For more information\, contact Cindy Gangaram at cindygangaram@gmail.com \n365 Workshop Flyer
URL:https://hwetl.ca/event/365-etfo-black-canadian-curriculum-workshop/
LOCATION:ON
ORGANIZER;CN="Cindy Gangaram":MAILTO:cindygangaram@gmail.com
END:VEVENT
BEGIN:VEVENT
DTSTART;TZID=America/Toronto:20190121T163000
DTEND;TZID=America/Toronto:20190121T180000
DTSTAMP:20260425T001519
CREATED:20181203T234646Z
LAST-MODIFIED:20201013T154118Z
UID:10000107-1548088200-1548093600@hwetl.ca
SUMMARY:Member Engagement Committee Meeting
DESCRIPTION:
URL:https://hwetl.ca/event/member-engagement-committee-meeting-4/
LOCATION:ON
CATEGORIES:Meetings
END:VEVENT
BEGIN:VEVENT
DTSTART;VALUE=DATE:20190125
DTEND;VALUE=DATE:20190126
DTSTAMP:20260425T001519
CREATED:20181104T142019Z
LAST-MODIFIED:20181104T142019Z
UID:10000275-1548374400-1548460799@hwetl.ca
SUMMARY:HWDSB PA Day
DESCRIPTION:
URL:https://hwetl.ca/event/hwdsb-pa-day/
LOCATION:ON
END:VEVENT
BEGIN:VEVENT
DTSTART;TZID=America/Toronto:20190125T100000
DTEND;TZID=America/Toronto:20190125T140000
DTSTAMP:20260425T001519
CREATED:20181104T142116Z
LAST-MODIFIED:20181104T142116Z
UID:10000276-1548410400-1548424800@hwetl.ca
SUMMARY:SOSAL- Waterloo
DESCRIPTION:
URL:https://hwetl.ca/event/sosal-waterloo/
LOCATION:ON
END:VEVENT
BEGIN:VEVENT
DTSTART;TZID=America/Toronto:20190128T163000
DTEND;TZID=America/Toronto:20190128T173000
DTSTAMP:20260425T001519
CREATED:20181104T142211Z
LAST-MODIFIED:20201013T154119Z
UID:10000277-1548693000-1548696600@hwetl.ca
SUMMARY:Teacher- Librarian Committee Meeting
DESCRIPTION:
URL:https://hwetl.ca/event/teacher-librarian-committee-meeting-2/
LOCATION:ON
CATEGORIES:Meetings
END:VEVENT
BEGIN:VEVENT
DTSTART;TZID=America/Toronto:20190129T163000
DTEND;TZID=America/Toronto:20190129T183000
DTSTAMP:20260425T001519
CREATED:20180903T150951Z
LAST-MODIFIED:20201013T154120Z
UID:10000247-1548779400-1548786600@hwetl.ca
SUMMARY:Executive Meeting
DESCRIPTION:
URL:https://hwetl.ca/event/executive-meeting-26/
LOCATION:ON
CATEGORIES:Meetings
END:VEVENT
END:VCALENDAR