BEGIN:VCALENDAR
VERSION:2.0
PRODID:-//Hamilton-Wentworth Elementary Teachers&#039; Local - ECPv6.15.20//NONSGML v1.0//EN
CALSCALE:GREGORIAN
METHOD:PUBLISH
X-ORIGINAL-URL:https://hwetl.ca
X-WR-CALDESC:Events for Hamilton-Wentworth Elementary Teachers&#039; Local
REFRESH-INTERVAL;VALUE=DURATION:PT1H
X-Robots-Tag:noindex
X-PUBLISHED-TTL:PT1H
BEGIN:VTIMEZONE
TZID:America/Toronto
BEGIN:DAYLIGHT
TZOFFSETFROM:-0500
TZOFFSETTO:-0400
TZNAME:EDT
DTSTART:20180311T070000
END:DAYLIGHT
BEGIN:STANDARD
TZOFFSETFROM:-0400
TZOFFSETTO:-0500
TZNAME:EST
DTSTART:20181104T060000
END:STANDARD
BEGIN:DAYLIGHT
TZOFFSETFROM:-0500
TZOFFSETTO:-0400
TZNAME:EDT
DTSTART:20190310T070000
END:DAYLIGHT
BEGIN:STANDARD
TZOFFSETFROM:-0400
TZOFFSETTO:-0500
TZNAME:EST
DTSTART:20191103T060000
END:STANDARD
BEGIN:DAYLIGHT
TZOFFSETFROM:-0500
TZOFFSETTO:-0400
TZNAME:EDT
DTSTART:20200308T070000
END:DAYLIGHT
BEGIN:STANDARD
TZOFFSETFROM:-0400
TZOFFSETTO:-0500
TZNAME:EST
DTSTART:20201101T060000
END:STANDARD
END:VTIMEZONE
BEGIN:VEVENT
DTSTART;TZID=America/Toronto:20190305T163000
DTEND;TZID=America/Toronto:20190305T183000
DTSTAMP:20260424T224213
CREATED:20180903T145516Z
LAST-MODIFIED:20201013T154120Z
UID:10000231-1551803400-1551810600@hwetl.ca
SUMMARY:Workplace Steward Meeting
DESCRIPTION:
URL:https://hwetl.ca/event/workplace-steward-meeting-3/
LOCATION:ON
CATEGORIES:Meetings
END:VEVENT
BEGIN:VEVENT
DTSTART;TZID=America/Toronto:20190319T163000
DTEND;TZID=America/Toronto:20190319T183000
DTSTAMP:20260424T224213
CREATED:20190219T232317Z
LAST-MODIFIED:20201013T154118Z
UID:10000112-1553013000-1553020200@hwetl.ca
SUMMARY:EEP Meeting
DESCRIPTION:The Equity\, Environment\, and Peace/Political Action Committee is meeting at 430 PM at the HWETL office.  Dinner will arrive at 4 PM.  Minutes from our last meeting are available HERE.  Please RSVP for this meeting using this link: RSVP.  Tentative Agenda: HERE
URL:https://hwetl.ca/event/eep-meeting/
LOCATION:ON
CATEGORIES:Meetings
END:VEVENT
BEGIN:VEVENT
DTSTART;TZID=America/Toronto:20190320T160000
DTEND;TZID=America/Toronto:20190320T173000
DTSTAMP:20260424T224213
CREATED:20181104T143046Z
LAST-MODIFIED:20201013T154119Z
UID:10000281-1553097600-1553103000@hwetl.ca
SUMMARY:Status of Women Committee Meeting
DESCRIPTION:
URL:https://hwetl.ca/event/status-of-women-committee-meeting-15/
LOCATION:ON
CATEGORIES:Meetings
END:VEVENT
BEGIN:VEVENT
DTSTART;TZID=America/Toronto:20190325T163000
DTEND;TZID=America/Toronto:20190325T173000
DTSTAMP:20260424T224213
CREATED:20181104T143150Z
LAST-MODIFIED:20201013T154119Z
UID:10000283-1553531400-1553535000@hwetl.ca
SUMMARY:Teacher- Librarian Committee Meeting
DESCRIPTION:
URL:https://hwetl.ca/event/teacher-librarian-committee-meeting-3/
LOCATION:ON
CATEGORIES:Meetings
END:VEVENT
BEGIN:VEVENT
DTSTART;TZID=America/Toronto:20190326T163000
DTEND;TZID=America/Toronto:20190326T183000
DTSTAMP:20260424T224213
CREATED:20180903T151156Z
LAST-MODIFIED:20201013T154120Z
UID:10000251-1553617800-1553625000@hwetl.ca
SUMMARY:Executive Meeting
DESCRIPTION:
URL:https://hwetl.ca/event/executive-meeting-28/
LOCATION:ON
CATEGORIES:Meetings
END:VEVENT
BEGIN:VEVENT
DTSTART;TZID=America/Toronto:20190328T163000
DTEND;TZID=America/Toronto:20190328T180000
DTSTAMP:20260424T224213
CREATED:20181209T151250Z
LAST-MODIFIED:20190321T225442Z
UID:10000111-1553790600-1553796000@hwetl.ca
SUMMARY:Gender & Sexuality 101 ETFO Workshop
DESCRIPTION:Gender identity\, gender expression and sexuality are all different things. Find out what they are and why they are different. This workshop will examine ways for participants to increase their understanding of what being transgender means. Participants will have opportunities to learn new terminology and create safe and inclusive classroom space for gender independent/ transgender children. The workshop will use personal stories and provide resources and strategies to use in the classroom. Participants will be engaged in purposeful and meaningful conversations and dialogue. \nHWETL details: This workshop will run from 4:30 to 6:00 pm; Light dinner will be available by 4:00 pm. Please let us know if you have allergies or dietary restrictions. To register\, click HERE\, or call the HWETL office at (905) 318-2771 or email Cindy Gangaram directly. For more information\, contact Cindy Gangaram at cindygangaram@gmail.com\nGender 101 Poster
URL:https://hwetl.ca/event/gender-sexuality-101-etfo-workshop/
LOCATION:ON
ORGANIZER;CN="Cindy Gangaram":MAILTO:cindygangaram@gmail.com
END:VEVENT
END:VCALENDAR