BEGIN:VCALENDAR
VERSION:2.0
PRODID:-//Hamilton-Wentworth Elementary Teachers&#039; Local - ECPv6.15.20//NONSGML v1.0//EN
CALSCALE:GREGORIAN
METHOD:PUBLISH
X-ORIGINAL-URL:https://hwetl.ca
X-WR-CALDESC:Events for Hamilton-Wentworth Elementary Teachers&#039; Local
REFRESH-INTERVAL;VALUE=DURATION:PT1H
X-Robots-Tag:noindex
X-PUBLISHED-TTL:PT1H
BEGIN:VTIMEZONE
TZID:America/Toronto
BEGIN:DAYLIGHT
TZOFFSETFROM:-0500
TZOFFSETTO:-0400
TZNAME:EDT
DTSTART:20180311T070000
END:DAYLIGHT
BEGIN:STANDARD
TZOFFSETFROM:-0400
TZOFFSETTO:-0500
TZNAME:EST
DTSTART:20181104T060000
END:STANDARD
BEGIN:DAYLIGHT
TZOFFSETFROM:-0500
TZOFFSETTO:-0400
TZNAME:EDT
DTSTART:20190310T070000
END:DAYLIGHT
BEGIN:STANDARD
TZOFFSETFROM:-0400
TZOFFSETTO:-0500
TZNAME:EST
DTSTART:20191103T060000
END:STANDARD
BEGIN:DAYLIGHT
TZOFFSETFROM:-0500
TZOFFSETTO:-0400
TZNAME:EDT
DTSTART:20200308T070000
END:DAYLIGHT
BEGIN:STANDARD
TZOFFSETFROM:-0400
TZOFFSETTO:-0500
TZNAME:EST
DTSTART:20201101T060000
END:STANDARD
END:VTIMEZONE
BEGIN:VEVENT
DTSTART;TZID=America/Toronto:20191104T160000
DTEND;TZID=America/Toronto:20191104T180000
DTSTAMP:20260424T075911
CREATED:20191010T162943Z
LAST-MODIFIED:20201013T154117Z
UID:10000150-1572883200-1572890400@hwetl.ca
SUMMARY:Health & Safety Committee Meeting
DESCRIPTION:
URL:https://hwetl.ca/event/health-safety-committee-meeting/
CATEGORIES:Meetings
END:VEVENT
BEGIN:VEVENT
DTSTART;TZID=America/Toronto:20191105T163000
DTEND;TZID=America/Toronto:20191105T183000
DTSTAMP:20260424T075911
CREATED:20190827T155209Z
LAST-MODIFIED:20201013T154118Z
UID:10000319-1572971400-1572978600@hwetl.ca
SUMMARY:General Meeting
DESCRIPTION:
URL:https://hwetl.ca/event/general-meeting-4/
CATEGORIES:Meetings
END:VEVENT
BEGIN:VEVENT
DTSTART;VALUE=DATE:20191108
DTEND;VALUE=DATE:20191109
DTSTAMP:20260424T075911
CREATED:20190827T155312Z
LAST-MODIFIED:20190827T155312Z
UID:10000321-1573171200-1573257599@hwetl.ca
SUMMARY:HWDSB PD Day
DESCRIPTION:
URL:https://hwetl.ca/event/hwdsb-pd-day/
END:VEVENT
BEGIN:VEVENT
DTSTART;VALUE=DATE:20191111
DTEND;VALUE=DATE:20191112
DTSTAMP:20260424T075911
CREATED:20190827T155510Z
LAST-MODIFIED:20190827T155510Z
UID:10000328-1573430400-1573516799@hwetl.ca
SUMMARY:Remembrance Day
DESCRIPTION:
URL:https://hwetl.ca/event/remembrance-day/
END:VEVENT
BEGIN:VEVENT
DTSTART;TZID=America/Toronto:20191111T161500
DTEND;TZID=America/Toronto:20191111T173000
DTSTAMP:20260424T075911
CREATED:20191107T144724Z
LAST-MODIFIED:20201013T154117Z
UID:10000162-1573488900-1573493400@hwetl.ca
SUMMARY:Disability Issues Committee Meeting
DESCRIPTION:
URL:https://hwetl.ca/event/disability-issues-committee-meeting-3/
CATEGORIES:Meetings
END:VEVENT
BEGIN:VEVENT
DTSTART;VALUE=DATE:20191112
DTEND;VALUE=DATE:20191113
DTSTAMP:20260424T075911
CREATED:20190924T144300Z
LAST-MODIFIED:20191107T144835Z
UID:10000348-1573516800-1573603199@hwetl.ca
SUMMARY:New Teacher Orientation
DESCRIPTION:New Teacher registration FLYER 2019
URL:https://hwetl.ca/event/new-teacher-orientation-3/
CATEGORIES:Meetings
END:VEVENT
BEGIN:VEVENT
DTSTART;TZID=America/Toronto:20191112T163000
DTEND;TZID=America/Toronto:20191112T183000
DTSTAMP:20260424T075911
CREATED:20190920T192957Z
LAST-MODIFIED:20190927T144157Z
UID:10000332-1573576200-1573583400@hwetl.ca
SUMMARY:TPA Workshop
DESCRIPTION:NEW DATE! \nV3 TPA Workshop Flyer 2019
URL:https://hwetl.ca/event/tpa-workshop-2/
CATEGORIES:Workshops & PD
END:VEVENT
BEGIN:VEVENT
DTSTART;VALUE=DATE:20191113
DTEND;VALUE=DATE:20191114
DTSTAMP:20260424T075911
CREATED:20190924T144326Z
LAST-MODIFIED:20191107T144921Z
UID:10000347-1573603200-1573689599@hwetl.ca
SUMMARY:New Teacher Orientation
DESCRIPTION:New Teacher registration FLYER 2019
URL:https://hwetl.ca/event/new-teacher-orientation-4/
CATEGORIES:Meetings
END:VEVENT
BEGIN:VEVENT
DTSTART;TZID=America/Toronto:20191114T154500
DTEND;TZID=America/Toronto:20191114T170000
DTSTAMP:20260424T075911
CREATED:20191107T145036Z
LAST-MODIFIED:20201013T154117Z
UID:10000164-1573746300-1573750800@hwetl.ca
SUMMARY:Budget Committee Meeting
DESCRIPTION:
URL:https://hwetl.ca/event/budget-committee-meeting/
CATEGORIES:Meetings
END:VEVENT
BEGIN:VEVENT
DTSTART;VALUE=DATE:20191118
DTEND;VALUE=DATE:20191119
DTSTAMP:20260424T075911
CREATED:20191107T145153Z
LAST-MODIFIED:20191107T145153Z
UID:10000165-1574035200-1574121599@hwetl.ca
SUMMARY:Local Media Training
DESCRIPTION:
URL:https://hwetl.ca/event/local-media-training/
CATEGORIES:Meetings
END:VEVENT
BEGIN:VEVENT
DTSTART;TZID=America/Toronto:20191119T163000
DTEND;TZID=America/Toronto:20191119T183000
DTSTAMP:20260424T075911
CREATED:20191010T163121Z
LAST-MODIFIED:20201013T154117Z
UID:10000152-1574181000-1574188200@hwetl.ca
SUMMARY:Executive Meeting
DESCRIPTION:
URL:https://hwetl.ca/event/executive-meeting-33/
CATEGORIES:Meetings
END:VEVENT
BEGIN:VEVENT
DTSTART;TZID=America/Toronto:20191121T163000
DTEND;TZID=America/Toronto:20191121T190000
DTSTAMP:20260424T075911
CREATED:20191107T145320Z
LAST-MODIFIED:20201013T154117Z
UID:10000167-1574353800-1574362800@hwetl.ca
SUMMARY:HWDECE General Meeting
DESCRIPTION:
URL:https://hwetl.ca/event/hwdece-general-meeting/
CATEGORIES:Meetings
END:VEVENT
BEGIN:VEVENT
DTSTART;TZID=America/Toronto:20191124T080000
DTEND;TZID=America/Toronto:20191129T170000
DTSTAMP:20260424T075911
CREATED:20190827T161224Z
LAST-MODIFIED:20190827T161224Z
UID:10000135-1574582400-1575046800@hwetl.ca
SUMMARY:OFL Convention
DESCRIPTION:
URL:https://hwetl.ca/event/ofl-convention/
END:VEVENT
BEGIN:VEVENT
DTSTART;TZID=America/Toronto:20191126T163000
DTEND;TZID=America/Toronto:20191126T183000
DTSTAMP:20260424T075911
CREATED:20191026T152620Z
LAST-MODIFIED:20201013T154117Z
UID:10000160-1574785800-1574793000@hwetl.ca
SUMMARY:P/EEP Meeting
DESCRIPTION:The Equity\, Environment\, and Peace/Political Action Committee is meeting at 4:30 PM at the HWETL office. Our tentative agenda can be accessed HERE.  Dinner will arrive at 4 PM. Minutes from our last formal meeting are available HERE. Please RSVP for this meeting using this link: RSVP & FOOD ORDER. \nAny questions\, please contact our chairperson: cindygangaram@gmail.com \nEEP Committee Invite Poster
URL:https://hwetl.ca/event/p-eep-meeting/
CATEGORIES:Meetings
END:VEVENT
BEGIN:VEVENT
DTSTART;TZID=America/Toronto:20191127T163000
DTEND;TZID=America/Toronto:20191127T190000
DTSTAMP:20260424T075911
CREATED:20191107T151858Z
LAST-MODIFIED:20201013T154117Z
UID:10000352-1574872200-1574881200@hwetl.ca
SUMMARY:Preliminary Submission Ratification Meeting
DESCRIPTION:Preliminary Sub Meeting Flyer Nov 2019 \nChildCare – Premlimary Submission Childcare – Nov. 27\, 2019 \nAgenda\nInformation Session: Presentation of Preliminary Submission\nQuestion and Answer Period\nVoting\nImportant/Please note:\n• Voting will take place beginning at the conclusion of the\nPresentation and last until 6:30 pm\n• Childcare is available. Please complete the childcare registration\nform and fax it to the HWETL Office by 4 pm on\nNovember 15\n• Numbers of Members attending to be faxed to the HWETL\nOffice by 4 pm on November 15\n• Light refreshments available \nHWETL Fax: 905-318-2550 or\nemail Carleigh at office@hwetl.ca
URL:https://hwetl.ca/event/preliminary-submission-ratification-meeting/
CATEGORIES:Meetings
END:VEVENT
BEGIN:VEVENT
DTSTART;VALUE=DATE:20191129
DTEND;VALUE=DATE:20191130
DTSTAMP:20260424T075911
CREATED:20190827T155336Z
LAST-MODIFIED:20190827T155336Z
UID:10000330-1574985600-1575071999@hwetl.ca
SUMMARY:HWDSB PD Day
DESCRIPTION:
URL:https://hwetl.ca/event/hwdsb-pd-day-2/
END:VEVENT
END:VCALENDAR