BEGIN:VCALENDAR
VERSION:2.0
PRODID:-//Hamilton-Wentworth Elementary Teachers&#039; Local - ECPv6.15.20//NONSGML v1.0//EN
CALSCALE:GREGORIAN
METHOD:PUBLISH
X-WR-CALNAME:Hamilton-Wentworth Elementary Teachers&#039; Local
X-ORIGINAL-URL:https://hwetl.ca
X-WR-CALDESC:Events for Hamilton-Wentworth Elementary Teachers&#039; Local
REFRESH-INTERVAL;VALUE=DURATION:PT1H
X-Robots-Tag:noindex
X-PUBLISHED-TTL:PT1H
BEGIN:VTIMEZONE
TZID:America/Toronto
BEGIN:DAYLIGHT
TZOFFSETFROM:-0500
TZOFFSETTO:-0400
TZNAME:EDT
DTSTART:20210314T070000
END:DAYLIGHT
BEGIN:STANDARD
TZOFFSETFROM:-0400
TZOFFSETTO:-0500
TZNAME:EST
DTSTART:20211107T060000
END:STANDARD
BEGIN:DAYLIGHT
TZOFFSETFROM:-0500
TZOFFSETTO:-0400
TZNAME:EDT
DTSTART:20220313T070000
END:DAYLIGHT
BEGIN:STANDARD
TZOFFSETFROM:-0400
TZOFFSETTO:-0500
TZNAME:EST
DTSTART:20221106T060000
END:STANDARD
BEGIN:DAYLIGHT
TZOFFSETFROM:-0500
TZOFFSETTO:-0400
TZNAME:EDT
DTSTART:20230312T070000
END:DAYLIGHT
BEGIN:STANDARD
TZOFFSETFROM:-0400
TZOFFSETTO:-0500
TZNAME:EST
DTSTART:20231105T060000
END:STANDARD
END:VTIMEZONE
BEGIN:VEVENT
DTSTART;TZID=America/Toronto:20220607T193000
DTEND;TZID=America/Toronto:20220607T203000
DTSTAMP:20260421T155446
CREATED:20220404T144450Z
LAST-MODIFIED:20220404T144451Z
UID:10000452-1654630200-1654633800@hwetl.ca
SUMMARY:Mindful Movement
DESCRIPTION:
URL:https://hwetl.ca/event/mindful-movement-4/
LOCATION:Via Zoom
END:VEVENT
BEGIN:VEVENT
DTSTART;TZID=America/Toronto:20220614T180000
DTEND;TZID=America/Toronto:20220614T200000
DTSTAMP:20260421T155446
CREATED:20220524T182232Z
LAST-MODIFIED:20220524T182340Z
UID:10000267-1655229600-1655236800@hwetl.ca
SUMMARY:Virtual Retirement Celebration
DESCRIPTION:CLICK HERE to Register
URL:https://hwetl.ca/event/virtual-retirement-celebration/
LOCATION:Via Zoom
END:VEVENT
BEGIN:VEVENT
DTSTART;TZID=America/Toronto:20220621T163000
DTEND;TZID=America/Toronto:20220621T193000
DTSTAMP:20260421T155446
CREATED:20210623T152241Z
LAST-MODIFIED:20211214T134702Z
UID:10000220-1655829000-1655839800@hwetl.ca
SUMMARY:Executive Meeting
DESCRIPTION:
URL:https://hwetl.ca/event/executive-meeting-46-2022-06-28/
LOCATION:ON
END:VEVENT
BEGIN:VEVENT
DTSTART;TZID=America/Toronto:20220622T163000
DTEND;TZID=America/Toronto:20220622T183000
DTSTAMP:20260421T155446
CREATED:20220603T154535Z
LAST-MODIFIED:20220603T154537Z
UID:10000269-1655915400-1655922600@hwetl.ca
SUMMARY:Budget Committee Meeting
DESCRIPTION:
URL:https://hwetl.ca/event/budget-committee-meeting-5/
LOCATION:ON
END:VEVENT
BEGIN:VEVENT
DTSTART;TZID=America/Toronto:20220628T163000
DTEND;TZID=America/Toronto:20220628T193000
DTSTAMP:20260421T155446
CREATED:20210623T152241Z
LAST-MODIFIED:20210914T134229Z
UID:10000217-1656433800-1656444600@hwetl.ca
SUMMARY:Executive Meeting
DESCRIPTION:
URL:https://hwetl.ca/event/executive-meeting-46/2022-06-28/
LOCATION:Via Zoom
END:VEVENT
END:VCALENDAR