BEGIN:VCALENDAR
VERSION:2.0
PRODID:-//Hamilton-Wentworth Elementary Teachers&#039; Local - ECPv6.15.13.1//NONSGML v1.0//EN
CALSCALE:GREGORIAN
METHOD:PUBLISH
X-ORIGINAL-URL:https://hwetl.ca
X-WR-CALDESC:Events for Hamilton-Wentworth Elementary Teachers&#039; Local
REFRESH-INTERVAL;VALUE=DURATION:PT1H
X-Robots-Tag:noindex
X-PUBLISHED-TTL:PT1H
BEGIN:VTIMEZONE
TZID:America/Toronto
BEGIN:DAYLIGHT
TZOFFSETFROM:-0500
TZOFFSETTO:-0400
TZNAME:EDT
DTSTART:20210314T070000
END:DAYLIGHT
BEGIN:STANDARD
TZOFFSETFROM:-0400
TZOFFSETTO:-0500
TZNAME:EST
DTSTART:20211107T060000
END:STANDARD
BEGIN:DAYLIGHT
TZOFFSETFROM:-0500
TZOFFSETTO:-0400
TZNAME:EDT
DTSTART:20220313T070000
END:DAYLIGHT
BEGIN:STANDARD
TZOFFSETFROM:-0400
TZOFFSETTO:-0500
TZNAME:EST
DTSTART:20221106T060000
END:STANDARD
BEGIN:DAYLIGHT
TZOFFSETFROM:-0500
TZOFFSETTO:-0400
TZNAME:EDT
DTSTART:20230312T070000
END:DAYLIGHT
BEGIN:STANDARD
TZOFFSETFROM:-0400
TZOFFSETTO:-0500
TZNAME:EST
DTSTART:20231105T060000
END:STANDARD
END:VTIMEZONE
BEGIN:VEVENT
DTSTART;TZID=America/Toronto:20221003T163000
DTEND;TZID=America/Toronto:20221003T180000
DTSTAMP:20260421T102103
CREATED:20220926T131814Z
LAST-MODIFIED:20220926T131815Z
UID:10000457-1664814600-1664820000@hwetl.ca
SUMMARY:HDLC Committee Meeting
DESCRIPTION:
URL:https://hwetl.ca/event/hdlc-committee-meeting-3/
LOCATION:ON
END:VEVENT
BEGIN:VEVENT
DTSTART;TZID=America/Toronto:20221004T163000
DTEND;TZID=America/Toronto:20221004T180000
DTSTAMP:20260421T102103
CREATED:20220914T135109Z
LAST-MODIFIED:20220914T135110Z
UID:10000473-1664901000-1664906400@hwetl.ca
SUMMARY:Member Engagement Committee Meeting
DESCRIPTION:Email Carleigh @ office@hwetl.ca to attend!
URL:https://hwetl.ca/event/member-engagement-committee-meeting-8/
LOCATION:ON
END:VEVENT
BEGIN:VEVENT
DTSTART;TZID=America/Toronto:20221005T163000
DTEND;TZID=America/Toronto:20221005T183000
DTSTAMP:20260421T102103
CREATED:20220914T134525Z
LAST-MODIFIED:20220914T134526Z
UID:10000472-1664987400-1664994600@hwetl.ca
SUMMARY:Constitution & Elections Committee Meeting
DESCRIPTION:Email Carleigh @ office@hwetl.ca to attend!
URL:https://hwetl.ca/event/constitution-elections-committee-meeting-4/
LOCATION:ON
END:VEVENT
BEGIN:VEVENT
DTSTART;TZID=America/Toronto:20221011T163000
DTEND;TZID=America/Toronto:20221011T183000
DTSTAMP:20260421T102103
CREATED:20220907T143030Z
LAST-MODIFIED:20220907T143032Z
UID:10000458-1665505800-1665513000@hwetl.ca
SUMMARY:Workplace Stewards Meeting
DESCRIPTION:King George Ballroom (room entry via the lower parking lot)
URL:https://hwetl.ca/event/workplace-stewards-meeting-9/
LOCATION:ON
END:VEVENT
BEGIN:VEVENT
DTSTART;TZID=America/Toronto:20221012T163000
DTEND;TZID=America/Toronto:20221012T183000
DTSTAMP:20260421T102103
CREATED:20220920T192629Z
LAST-MODIFIED:20220920T192631Z
UID:10000475-1665592200-1665599400@hwetl.ca
SUMMARY:Awards Committee Meeting
DESCRIPTION:Email Carleigh at office@hwetl.ca to join!
URL:https://hwetl.ca/event/awards-committee-meeting-6/
LOCATION:ON
END:VEVENT
BEGIN:VEVENT
DTSTART;TZID=America/Toronto:20221017T043000
DTEND;TZID=America/Toronto:20221017T170000
DTSTAMP:20260421T102103
CREATED:20221011T140313Z
LAST-MODIFIED:20221011T140314Z
UID:10000287-1665981000-1666026000@hwetl.ca
SUMMARY:LGBTQ2SI+ Committee Meeting
DESCRIPTION:
URL:https://hwetl.ca/event/lgbtq2si-committee-meeting-2/
LOCATION:ON
END:VEVENT
BEGIN:VEVENT
DTSTART;TZID=America/Toronto:20221017T163000
DTEND;TZID=America/Toronto:20221017T180000
DTSTAMP:20260421T102103
CREATED:20221011T125419Z
LAST-MODIFIED:20221011T125421Z
UID:10000282-1666024200-1666029600@hwetl.ca
SUMMARY:Disability Issues Committee Meeting
DESCRIPTION:
URL:https://hwetl.ca/event/disability-issues-committee-meeting-7/
LOCATION:ON
END:VEVENT
BEGIN:VEVENT
DTSTART;TZID=America/Toronto:20221018T163000
DTEND;TZID=America/Toronto:20221018T183000
DTSTAMP:20260421T102103
CREATED:20220920T140552Z
LAST-MODIFIED:20220920T140554Z
UID:10000474-1666110600-1666117800@hwetl.ca
SUMMARY:TPA/NTIP Workshop
DESCRIPTION:CLICK ON THE BELOW POSTER TO REGISTER
URL:https://hwetl.ca/event/tpa-ntip-workshop/
LOCATION:ON
END:VEVENT
BEGIN:VEVENT
DTSTART;TZID=America/Toronto:20221019T163000
DTEND;TZID=America/Toronto:20221019T180000
DTSTAMP:20260421T102103
CREATED:20221012T175341Z
LAST-MODIFIED:20221012T175342Z
UID:10000288-1666197000-1666202400@hwetl.ca
SUMMARY:Status of Women Committee Meeting
DESCRIPTION:
URL:https://hwetl.ca/event/status-of-women-committee-meeting-23/
LOCATION:ON
END:VEVENT
BEGIN:VEVENT
DTSTART;TZID=America/Toronto:20221025T163000
DTEND;TZID=America/Toronto:20221025T190000
DTSTAMP:20260421T102103
CREATED:20220907T141032Z
LAST-MODIFIED:20220907T141034Z
UID:10000456-1666715400-1666724400@hwetl.ca
SUMMARY:Executive Meeting
DESCRIPTION:
URL:https://hwetl.ca/event/executive-meeting-51/
LOCATION:ON
END:VEVENT
BEGIN:VEVENT
DTSTART;TZID=America/Toronto:20221026T090000
DTEND;TZID=America/Toronto:20221026T160000
DTSTAMP:20260421T102103
CREATED:20220913T130008Z
LAST-MODIFIED:20220913T135638Z
UID:10000465-1666774800-1666800000@hwetl.ca
SUMMARY:New Steward Training
DESCRIPTION:CLICK ON THE BELOW POSTER TO REGISTER
URL:https://hwetl.ca/event/new-steward-training-3/
LOCATION:ON
END:VEVENT
BEGIN:VEVENT
DTSTART;TZID=America/Toronto:20221027T090000
DTEND;TZID=America/Toronto:20221027T160000
DTSTAMP:20260421T102103
CREATED:20220913T130142Z
LAST-MODIFIED:20220913T130718Z
UID:10000463-1666861200-1666886400@hwetl.ca
SUMMARY:New Steward Training
DESCRIPTION:CLICK ON THE BELOW POSTER FOR MORE INFO AND TO REGISTER
URL:https://hwetl.ca/event/new-steward-training-4/
LOCATION:ON
END:VEVENT
END:VCALENDAR