BEGIN:VCALENDAR
VERSION:2.0
PRODID:-//Hamilton-Wentworth Elementary Teachers&#039; Local - ECPv6.15.13.1//NONSGML v1.0//EN
CALSCALE:GREGORIAN
METHOD:PUBLISH
X-WR-CALNAME:Hamilton-Wentworth Elementary Teachers&#039; Local
X-ORIGINAL-URL:https://hwetl.ca
X-WR-CALDESC:Events for Hamilton-Wentworth Elementary Teachers&#039; Local
REFRESH-INTERVAL;VALUE=DURATION:PT1H
X-Robots-Tag:noindex
X-PUBLISHED-TTL:PT1H
BEGIN:VTIMEZONE
TZID:America/Toronto
BEGIN:DAYLIGHT
TZOFFSETFROM:-0500
TZOFFSETTO:-0400
TZNAME:EDT
DTSTART:20250309T070000
END:DAYLIGHT
BEGIN:STANDARD
TZOFFSETFROM:-0400
TZOFFSETTO:-0500
TZNAME:EST
DTSTART:20251102T060000
END:STANDARD
BEGIN:DAYLIGHT
TZOFFSETFROM:-0500
TZOFFSETTO:-0400
TZNAME:EDT
DTSTART:20260308T070000
END:DAYLIGHT
BEGIN:STANDARD
TZOFFSETFROM:-0400
TZOFFSETTO:-0500
TZNAME:EST
DTSTART:20261101T060000
END:STANDARD
BEGIN:DAYLIGHT
TZOFFSETFROM:-0500
TZOFFSETTO:-0400
TZNAME:EDT
DTSTART:20270314T070000
END:DAYLIGHT
BEGIN:STANDARD
TZOFFSETFROM:-0400
TZOFFSETTO:-0500
TZNAME:EST
DTSTART:20271107T060000
END:STANDARD
END:VTIMEZONE
BEGIN:VEVENT
DTSTART;TZID=America/Toronto:20260424T080000
DTEND;TZID=America/Toronto:20260424T170000
DTSTAMP:20260420T010429
CREATED:20251216T143202Z
LAST-MODIFIED:20260130T140540Z
UID:10000885-1777017600-1777050000@hwetl.ca
SUMMARY:Mentor Coaching
DESCRIPTION:Full Day @ the HWETL office\, 105 Nebo Road
URL:https://hwetl.ca/event/mentor-coaching-3/
LOCATION:HWETL\, 105 Nebo Road\, Hamilton\, ON\, L8W 2E1
END:VEVENT
BEGIN:VEVENT
DTSTART;TZID=America/Toronto:20260425T100000
DTEND;TZID=America/Toronto:20260425T113000
DTSTAMP:20260420T010429
CREATED:20260211T200115Z
LAST-MODIFIED:20260211T200117Z
UID:10000920-1777111200-1777116600@hwetl.ca
SUMMARY:Earth Day Hike
DESCRIPTION:REGISTER HERE
URL:https://hwetl.ca/event/earth-day-hike/
LOCATION:ON
END:VEVENT
BEGIN:VEVENT
DTSTART;TZID=America/Toronto:20260428T163000
DTEND;TZID=America/Toronto:20260428T190000
DTSTAMP:20260420T010429
CREATED:20250826T150046Z
LAST-MODIFIED:20250826T150047Z
UID:10000815-1777393800-1777402800@hwetl.ca
SUMMARY:Executive Meeting
DESCRIPTION:
URL:https://hwetl.ca/event/executive-meeting-75/
LOCATION:HWETL\, 105 Nebo Road\, Hamilton\, ON\, L8W 2E1
END:VEVENT
BEGIN:VEVENT
DTSTART;TZID=America/Toronto:20260429T163000
DTEND;TZID=America/Toronto:20260429T180000
DTSTAMP:20260420T010429
CREATED:20260211T195210Z
LAST-MODIFIED:20260211T195212Z
UID:10000919-1777480200-1777485600@hwetl.ca
SUMMARY:Member Engagement Committee Meeting
DESCRIPTION:
URL:https://hwetl.ca/event/member-engagement-committee-meeting-22/
LOCATION:HWETL\, 105 Nebo Road\, Hamilton\, ON\, L8W 2E1
END:VEVENT
BEGIN:VEVENT
DTSTART;TZID=America/Toronto:20260429T163000
DTEND;TZID=America/Toronto:20260429T183000
DTSTAMP:20260420T010429
CREATED:20260302T181452Z
LAST-MODIFIED:20260302T181454Z
UID:10000927-1777480200-1777487400@hwetl.ca
SUMMARY:Functionary Training
DESCRIPTION:
URL:https://hwetl.ca/event/functionary-training-3/
LOCATION:ON
END:VEVENT
BEGIN:VEVENT
DTSTART;TZID=America/Toronto:20260430T163000
DTEND;TZID=America/Toronto:20260430T180000
DTSTAMP:20260420T010429
CREATED:20260414T151331Z
LAST-MODIFIED:20260414T151337Z
UID:10000931-1777566600-1777572000@hwetl.ca
SUMMARY:Constitution & Elections Committee Meeting
DESCRIPTION:
URL:https://hwetl.ca/event/constitution-elections-committee-meeting-11/
LOCATION:HWETL\, 105 Nebo Road\, Hamilton\, ON\, L8W 2E1
END:VEVENT
BEGIN:VEVENT
DTSTART;TZID=America/Toronto:20260430T163000
DTEND;TZID=America/Toronto:20260430T183000
DTSTAMP:20260420T010429
CREATED:20260302T181348Z
LAST-MODIFIED:20260302T181351Z
UID:10000926-1777566600-1777573800@hwetl.ca
SUMMARY:French Workshop
DESCRIPTION:
URL:https://hwetl.ca/event/french-workshop-2/
LOCATION:ON
END:VEVENT
END:VCALENDAR