BEGIN:VCALENDAR
VERSION:2.0
PRODID:-//Hamilton-Wentworth Elementary Teachers&#039; Local - ECPv6.15.13.1//NONSGML v1.0//EN
CALSCALE:GREGORIAN
METHOD:PUBLISH
X-WR-CALNAME:Hamilton-Wentworth Elementary Teachers&#039; Local
X-ORIGINAL-URL:https://hwetl.ca
X-WR-CALDESC:Events for Hamilton-Wentworth Elementary Teachers&#039; Local
REFRESH-INTERVAL;VALUE=DURATION:PT1H
X-Robots-Tag:noindex
X-PUBLISHED-TTL:PT1H
BEGIN:VTIMEZONE
TZID:America/Toronto
BEGIN:DAYLIGHT
TZOFFSETFROM:-0500
TZOFFSETTO:-0400
TZNAME:EDT
DTSTART:20180311T070000
END:DAYLIGHT
BEGIN:STANDARD
TZOFFSETFROM:-0400
TZOFFSETTO:-0500
TZNAME:EST
DTSTART:20181104T060000
END:STANDARD
BEGIN:DAYLIGHT
TZOFFSETFROM:-0500
TZOFFSETTO:-0400
TZNAME:EDT
DTSTART:20190310T070000
END:DAYLIGHT
BEGIN:STANDARD
TZOFFSETFROM:-0400
TZOFFSETTO:-0500
TZNAME:EST
DTSTART:20191103T060000
END:STANDARD
BEGIN:DAYLIGHT
TZOFFSETFROM:-0500
TZOFFSETTO:-0400
TZNAME:EDT
DTSTART:20200308T070000
END:DAYLIGHT
BEGIN:STANDARD
TZOFFSETFROM:-0400
TZOFFSETTO:-0500
TZNAME:EST
DTSTART:20201101T060000
END:STANDARD
END:VTIMEZONE
BEGIN:VEVENT
DTSTART;TZID=America/Toronto:20190427T103000
DTEND;TZID=America/Toronto:20190427T130000
DTSTAMP:20260421T074438
CREATED:20190303T175013Z
LAST-MODIFIED:20190303T175013Z
UID:10000113-1556361000-1556370000@hwetl.ca
SUMMARY:Earth Day Hike @ RBG
DESCRIPTION:Join HWETL’s Equity\, Environment\, & Peace/ Political Action Committee for the Third Annual EARTH DAY HIKE at the Royal Botanical Gardens (RBG) on Saturday\, April 27th\, 2019.  \nBring family and friends along to enjoy a guided hike and a chance to celebrate the Earth together!   10:30 a.m. – 1:00 p.m. \nDetails: Meet at the Nature Interpretive Centre at 16 Old Guelph Road in Hamilton\, Ontario between 10:30 a.m. and 11:00 a.m.  Participants will be covered for their parking and entry to the RBG\, and they may enjoy the RBG exhibits all day on the 27th at all RBG sites. Please bring your OCT Card \nRegister HERE page OR by phone with Carleigh at (905)-318-2771\nOR online here: https://goo.gl/forms/0sUzlL151CGuBK1h2
URL:https://hwetl.ca/event/earth-day-hike-rbg/
LOCATION:Royal Botanical Gardens
ORGANIZER;CN="Cindy Gangaram":MAILTO:cindygangaram@gmail.com
END:VEVENT
END:VCALENDAR