BEGIN:VCALENDAR
VERSION:2.0
PRODID:-//Hamilton-Wentworth Elementary Teachers&#039; Local - ECPv6.15.13.1//NONSGML v1.0//EN
CALSCALE:GREGORIAN
METHOD:PUBLISH
X-ORIGINAL-URL:https://hwetl.ca
X-WR-CALDESC:Events for Hamilton-Wentworth Elementary Teachers&#039; Local
REFRESH-INTERVAL;VALUE=DURATION:PT1H
X-Robots-Tag:noindex
X-PUBLISHED-TTL:PT1H
BEGIN:VTIMEZONE
TZID:America/Toronto
BEGIN:DAYLIGHT
TZOFFSETFROM:-0500
TZOFFSETTO:-0400
TZNAME:EDT
DTSTART:20170312T070000
END:DAYLIGHT
BEGIN:STANDARD
TZOFFSETFROM:-0400
TZOFFSETTO:-0500
TZNAME:EST
DTSTART:20171105T060000
END:STANDARD
BEGIN:DAYLIGHT
TZOFFSETFROM:-0500
TZOFFSETTO:-0400
TZNAME:EDT
DTSTART:20180311T070000
END:DAYLIGHT
BEGIN:STANDARD
TZOFFSETFROM:-0400
TZOFFSETTO:-0500
TZNAME:EST
DTSTART:20181104T060000
END:STANDARD
BEGIN:DAYLIGHT
TZOFFSETFROM:-0500
TZOFFSETTO:-0400
TZNAME:EDT
DTSTART:20190310T070000
END:DAYLIGHT
BEGIN:STANDARD
TZOFFSETFROM:-0400
TZOFFSETTO:-0500
TZNAME:EST
DTSTART:20191103T060000
END:STANDARD
BEGIN:DAYLIGHT
TZOFFSETFROM:-0500
TZOFFSETTO:-0400
TZNAME:EDT
DTSTART:20200308T070000
END:DAYLIGHT
BEGIN:STANDARD
TZOFFSETFROM:-0400
TZOFFSETTO:-0500
TZNAME:EST
DTSTART:20201101T060000
END:STANDARD
END:VTIMEZONE
BEGIN:VEVENT
DTSTART;TZID=America/Toronto:20190404T180000
DTEND;TZID=America/Toronto:20190404T200000
DTSTAMP:20260421T072808
CREATED:20190303T210010Z
LAST-MODIFIED:20190303T210010Z
UID:10000114-1554400800-1554408000@hwetl.ca
SUMMARY:Directly Affected Movie Night
DESCRIPTION:DIRECTLY AFFECTED: PIPELINE UNDER PRESSURE\nJoin us for a MOVIE NIGHT on April 4th\, 2019 at the Workers Arts & Heritage Centre @ 51 Stuart Street\n6 p.m – 8 p.m. \nCome out\, have a Cake and Loaf sandwich/salad and treat\, and screen this important film with host Don McLean\nfrom Environment Hamilton and Hamilton350\, who will do an audience Q & A following the film.   \nRegister HERE OR Call Carleigh to register at 905-318-2771 \nDirectly Affected Poster Online
URL:https://hwetl.ca/event/directly-affected-movie-night/
LOCATION:WAHC
ORGANIZER;CN="Cindy Gangaram":MAILTO:cindygangaram@gmail.com
END:VEVENT
BEGIN:VEVENT
DTSTART;TZID=America/Toronto:20180226T180000
DTEND;TZID=America/Toronto:20180227T200000
DTSTAMP:20260421T072808
CREATED:20180227T184656Z
LAST-MODIFIED:20180227T184656Z
UID:10000205-1519668000-1519761600@hwetl.ca
SUMMARY:Environment\, Equity and Peace
DESCRIPTION:
URL:https://hwetl.ca/event/environment-equity-and-peace/
LOCATION:WAHC
END:VEVENT
END:VCALENDAR